{"text_format":"1","workbook":"xlsx","n_sheets":2,"sheets":["入力シート","計算"],"not_rendered":{"charts":0,"images":3,"macros":1,"external_links":0,"defined_names":1,"comments":1,"pivot_tables":0},"unopened":[],"bounds":{"document_bytes":16777216,"sheet_cells":100000,"rows_first":2000,"rows_last":500,"rows_between":2000,"halvings":0,"cell_chars":16384,"cell_head_chars":4096},"cells_cut":0,"cells_raw":0,"read":"whole","date_system":"1900"}

{"sheet":"入力シート","index":0,"n_rows":70,"n_cols":32,"rows_kept":70,"cut":false,"hidden":false,"merged":[[10,29,10,31],[10,28,11,28],[9,28,9,31],[9,9,9,10],[9,6,10,6],[9,7,10,7],[9,8,10,8],[9,13,10,13],[9,14,10,14],[9,16,10,16],[9,17,10,17],[10,24,11,24],[9,18,10,18],[2,13,2,15],[8,22,8,31],[4,1,4,6],[2,9,3,12],[8,16,8,18],[2,22,2,28],[3,22,3,28],[4,22,4,24],[4,25,4,28],[6,5,6,14],[8,19,8,20],[8,1,8,11],[8,13,8,14],[63,1,69,21],[65,22,65,31],[66,22,66,31],[67,22,67,31],[69,22,69,31],[68,22,68,31],[9,4,11,5],[9,11,11,11],[9,1,11,1],[9,24,9,27],[10,25,10,27],[9,22,10,23],[9,2,11,2],[9,3,11,3],[9,19,10,19],[9,20,10,20]]}
[]
[]
[null,null,null,null,null,null,null,null,null,"設計ツール",null,null,null,"本資料に記載の事項　　",null,null,{"$f":"IF(Q14=\"ー\",\"\",\"１、耐力/剛性計算結果\")","v":""},null,null,null,null,null,"ピタットベースFrontierは岡部株式会社の木造軸組工法用の壁柱工法です。"]
[null,null,null,null,null,null,null,null,null,null,null,null,null,null,null,null,{"$f":"IF(Y14=\"ー\",\"\",\"２、柱脚部材の検定結果\")","v":""},null,null,null,null,null,"製品・本ツールに関するお問い合わせは岡部株式会社までお願いいたします。"]
[null,null,null,null,null,null,null,null,null,null,null,null,null,null,null,null,{"$f":"IF(AC14=\"ー\",\"\",\"３、基礎定着の検定結果\")","v":""},null,null,null,null,null,"製品専用WEBサイト　URL：",null,null,"https://www.okabe.co.jp/mokuzo/frontier/"]
[]
[null,"物件名",null,null,"："]
[null,null,null,null,null,null,null,null,null,null,null,null,null,null,null,null,null,null,null,null,null,null,null,null,null,null,null,null,null,null,null,{"$f":"\"バージョン情報 ： \"&LEFT(計算!CN1,9)&\" / \"&TEXT(計算!CQ1,\"yyyy.m\")","v":"バージョン情報 ： Ver.21-10 / 2021.10"}]
[null,"壁柱仕様入力",null,null,null,null,null,null,null,null,null,null,null,"設計応力入力",null,null,"耐力・剛性計算結果",null,null,"参考値",null,null,"検討結果"]
[null,"No.","通り","間","壁柱\n剛性",null,"壁柱幅","壁柱厚さ","高さ","基礎",null,"使用環境",null,"設計せん断力","設計軸方向力",null,"Pa","KB0\n（柱脚部）","cK\n（鉛直構面）","壁倍率\n相当","アンカー\nボルト間",null,"水平力の\n検定",null,"柱脚金物の検定",null,null,null,"基礎定着の検定"]
[null,null,null,null,null,null,null,null,null,"Fc","へりあき",null,null,null,null,null,null,null,null,null,null,null,null,null,"結果","検定比",null,null,"結果","検定比"]
[null,null,null,null,null,null,"mm","mm","mm","N/mm2","mm",null,null,"kN","kN",null,"kN","kN・m/rad","kN・m/rad","倍","mm",null,"結果","検定比",null,"圧縮側","引張側","せん断",null,"圧縮側","引張側","せん断"]
[]
[null,1,null,null,"E",null,null,null,null,null,null,null,null,null,null,null,{"$f":"計算!AB5","v":"ー"},{"$f":"計算!AH5","v":"ー"},{"$f":"計算!AI5","v":"ー"},{"$f":"計算!AJ5","v":"ー"},{"$f":"計算!X5","v":"ー"},null,{"$f":"IF(Q14=\"ー\",\"ー\",IF(N14=\"\",\"ー\",IF(Q14<N14,\"NG\",\"OK\")))","v":"ー"},{"$f":"IF(W14=\"ー\",\"ー\",ABS(N14)/Q14)","v":"ー"},{"$f":"計算!BI5","v":"ー"},{"$f":"計算!BD5","v":"ー"},{"$f":"計算!BF5","v":"ー"},{"$f":"計算!BH5","v":"ー"},{"$f":"計算!CK5","v":"ー"},{"$f":"計算!CF5","v":"ー"},{"$f":"計算!CH5","v":"ー"},{"$f":"計算!CJ5","v":"ー"}]
[null,2,null,null,"E",null,null,null,null,null,null,null,null,null,null,null,{"$f":"計算!AB6","v":"ー"},{"$f":"計算!AH6","v":"ー"},{"$f":"計算!AI6","v":"ー"},{"$f":"計算!AJ6","v":"ー"},{"$f":"計算!X6","v":"ー"},null,{"$f":"IF(Q15=\"ー\",\"ー\",IF(N15=\"\",\"ー\",IF(Q15<N15,\"NG\",\"OK\")))","v":"ー"},{"$f":"IF(W15=\"ー\",\"ー\",N15/Q15)","v":"ー"},{"$f":"計算!BI6","v":"ー"},{"$f":"計算!BD6","v":"ー"},{"$f":"計算!BF6","v":"ー"},{"$f":"計算!BH6","v":"ー"},{"$f":"計算!CK6","v":"ー"},{"$f":"計算!CF6","v":"ー"},{"$f":"計算!CH6","v":"ー"},{"$f":"計算!CJ6","v":"ー"}]
[null,3,null,null,"E",null,null,null,null,null,null,null,null,null,null,null,{"$f":"計算!AB7","v":"ー"},{"$f":"計算!AH7","v":"ー"},{"$f":"計算!AI7","v":"ー"},{"$f":"計算!AJ7","v":"ー"},{"$f":"計算!X7","v":"ー"},null,"ー","ー",{"$f":"計算!BI7","v":"ー"},{"$f":"計算!BD7","v":"ー"},{"$f":"計算!BF7","v":"ー"},{"$f":"計算!BH7","v":"ー"},{"$f":"計算!CK7","v":"ー"},{"$f":"計算!CF7","v":"ー"},{"$f":"計算!CH7","v":"ー"},{"$f":"計算!CJ7","v":"ー"}]
[null,4,null,null,"E",null,null,null,null,null,null,null,null,null,null,null,{"$f":"計算!AB8","v":"ー"},{"$f":"計算!AH8","v":"ー"},{"$f":"計算!AI8","v":"ー"},{"$f":"計算!AJ8","v":"ー"},{"$f":"計算!X8","v":"ー"},null,"ー","ー",{"$f":"計算!BI8","v":"ー"},{"$f":"計算!BD8","v":"ー"},{"$f":"計算!BF8","v":"ー"},{"$f":"計算!BH8","v":"ー"},{"$f":"計算!CK8","v":"ー"},{"$f":"計算!CF8","v":"ー"},{"$f":"計算!CH8","v":"ー"},{"$f":"計算!CJ8","v":"ー"}]
[null,5,null,null,"E",null,null,null,null,null,null,null,null,null,null,null,{"$f":"計算!AB9","v":"ー"},{"$f":"計算!AH9","v":"ー"},{"$f":"計算!AI9","v":"ー"},{"$f":"計算!AJ9","v":"ー"},{"$f":"計算!X9","v":"ー"},null,"ー","ー",{"$f":"計算!BI9","v":"ー"},{"$f":"計算!BD9","v":"ー"},{"$f":"計算!BF9","v":"ー"},{"$f":"計算!BH9","v":"ー"},{"$f":"計算!CK9","v":"ー"},{"$f":"計算!CF9","v":"ー"},{"$f":"計算!CH9","v":"ー"},{"$f":"計算!CJ9","v":"ー"}]
[null,6,null,null,"E",null,null,null,null,null,null,null,null,null,null,null,{"$f":"計算!AB10","v":"ー"},{"$f":"計算!AH10","v":"ー"},{"$f":"計算!AI10","v":"ー"},{"$f":"計算!AJ10","v":"ー"},{"$f":"計算!X10","v":"ー"},null,{"$f":"IF(Q19=\"ー\",\"ー\",IF(N19=\"\",\"ー\",IF(Q19<N19,\"NG\",\"OK\")))","v":"ー"},{"$f":"IF(W19=\"ー\",\"ー\",N19/Q19)","v":"ー"},{"$f":"計算!BI10","v":"ー"},{"$f":"計算!BD10","v":"ー"},{"$f":"計算!BF10","v":"ー"},{"$f":"計算!BH10","v":"ー"},{"$f":"計算!CK10","v":"ー"},{"$f":"計算!CF10","v":"ー"},{"$f":"計算!CH10","v":"ー"},{"$f":"計算!CJ10","v":"ー"}]
[null,7,null,null,"E",null,null,null,null,null,null,null,null,null,null,null,{"$f":"計算!AB11","v":"ー"},{"$f":"計算!AH11","v":"ー"},{"$f":"計算!AI11","v":"ー"},{"$f":"計算!AJ11","v":"ー"},{"$f":"計算!X11","v":"ー"},null,"ー","ー",{"$f":"計算!BI11","v":"ー"},{"$f":"計算!BD11","v":"ー"},{"$f":"計算!BF11","v":"ー"},{"$f":"計算!BH11","v":"ー"},{"$f":"計算!CK11","v":"ー"},{"$f":"計算!CF11","v":"ー"},{"$f":"計算!CH11","v":"ー"},{"$f":"計算!CJ11","v":"ー"}]
[null,8,null,null,"E",null,null,null,null,null,null,null,null,null,null,null,{"$f":"計算!AB12","v":"ー"},{"$f":"計算!AH12","v":"ー"},{"$f":"計算!AI12","v":"ー"},{"$f":"計算!AJ12","v":"ー"},{"$f":"計算!X12","v":"ー"},null,"ー","ー",{"$f":"計算!BI12","v":"ー"},{"$f":"計算!BD12","v":"ー"},{"$f":"計算!BF12","v":"ー"},{"$f":"計算!BH12","v":"ー"},{"$f":"計算!CK12","v":"ー"},{"$f":"計算!CF12","v":"ー"},{"$f":"計算!CH12","v":"ー"},{"$f":"計算!CJ12","v":"ー"}]
[null,9,null,null,"E",null,null,null,null,null,null,null,null,null,null,null,{"$f":"計算!AB13","v":"ー"},{"$f":"計算!AH13","v":"ー"},{"$f":"計算!AI13","v":"ー"},{"$f":"計算!AJ13","v":"ー"},{"$f":"計算!X13","v":"ー"},null,"ー","ー",{"$f":"計算!BI13","v":"ー"},{"$f":"計算!BD13","v":"ー"},{"$f":"計算!BF13","v":"ー"},{"$f":"計算!BH13","v":"ー"},{"$f":"計算!CK13","v":"ー"},{"$f":"計算!CF13","v":"ー"},{"$f":"計算!CH13","v":"ー"},{"$f":"計算!CJ13","v":"ー"}]
[null,10,null,null,"E",null,null,null,null,null,null,null,null,null,null,null,{"$f":"計算!AB14","v":"ー"},{"$f":"計算!AH14","v":"ー"},{"$f":"計算!AI14","v":"ー"},{"$f":"計算!AJ14","v":"ー"},{"$f":"計算!X14","v":"ー"},null,"ー","ー",{"$f":"計算!BI14","v":"ー"},{"$f":"計算!BD14","v":"ー"},{"$f":"計算!BF14","v":"ー"},{"$f":"計算!BH14","v":"ー"},{"$f":"計算!CK14","v":"ー"},{"$f":"計算!CF14","v":"ー"},{"$f":"計算!CH14","v":"ー"},{"$f":"計算!CJ14","v":"ー"}]
[null,11,null,null,"E",null,null,null,null,null,null,null,null,null,null,null,{"$f":"計算!AB15","v":"ー"},{"$f":"計算!AH15","v":"ー"},{"$f":"計算!AI15","v":"ー"},{"$f":"計算!AJ15","v":"ー"},{"$f":"計算!X15","v":"ー"},null,"ー","ー",{"$f":"計算!BI15","v":"ー"},{"$f":"計算!BD15","v":"ー"},{"$f":"計算!BF15","v":"ー"},{"$f":"計算!BH15","v":"ー"},{"$f":"計算!CK15","v":"ー"},{"$f":"計算!CF15","v":"ー"},{"$f":"計算!CH15","v":"ー"},{"$f":"計算!CJ15","v":"ー"}]
[null,12,null,null,"E",null,null,null,null,null,null,null,null,null,null,null,{"$f":"計算!AB16","v":"ー"},{"$f":"計算!AH16","v":"ー"},{"$f":"計算!AI16","v":"ー"},{"$f":"計算!AJ16","v":"ー"},{"$f":"計算!X16","v":"ー"},null,"ー","ー",{"$f":"計算!BI16","v":"ー"},{"$f":"計算!BD16","v":"ー"},{"$f":"計算!BF16","v":"ー"},{"$f":"計算!BH16","v":"ー"},{"$f":"計算!CK16","v":"ー"},{"$f":"計算!CF16","v":"ー"},{"$f":"計算!CH16","v":"ー"},{"$f":"計算!CJ16","v":"ー"}]
[null,13,null,null,"E",null,null,null,null,null,null,null,null,null,null,null,{"$f":"計算!AB17","v":"ー"},{"$f":"計算!AH17","v":"ー"},{"$f":"計算!AI17","v":"ー"},{"$f":"計算!AJ17","v":"ー"},{"$f":"計算!X17","v":"ー"},null,"ー","ー",{"$f":"計算!BI17","v":"ー"},{"$f":"計算!BD17","v":"ー"},{"$f":"計算!BF17","v":"ー"},{"$f":"計算!BH17","v":"ー"},{"$f":"計算!CK17","v":"ー"},{"$f":"計算!CF17","v":"ー"},{"$f":"計算!CH17","v":"ー"},{"$f":"計算!CJ17","v":"ー"}]
[null,14,null,null,"E",null,null,null,null,null,null,null,null,null,null,null,{"$f":"計算!AB18","v":"ー"},{"$f":"計算!AH18","v":"ー"},{"$f":"計算!AI18","v":"ー"},{"$f":"計算!AJ18","v":"ー"},{"$f":"計算!X18","v":"ー"},null,"ー","ー",{"$f":"計算!BI18","v":"ー"},{"$f":"計算!BD18","v":"ー"},{"$f":"計算!BF18","v":"ー"},{"$f":"計算!BH18","v":"ー"},{"$f":"計算!CK18","v":"ー"},{"$f":"計算!CF18","v":"ー"},{"$f":"計算!CH18","v":"ー"},{"$f":"計算!CJ18","v":"ー"}]
[null,15,null,null,"E",null,null,null,null,null,null,null,null,null,null,null,{"$f":"計算!AB19","v":"ー"},{"$f":"計算!AH19","v":"ー"},{"$f":"計算!AI19","v":"ー"},{"$f":"計算!AJ19","v":"ー"},{"$f":"計算!X19","v":"ー"},null,"ー","ー",{"$f":"計算!BI19","v":"ー"},{"$f":"計算!BD19","v":"ー"},{"$f":"計算!BF19","v":"ー"},{"$f":"計算!BH19","v":"ー"},{"$f":"計算!CK19","v":"ー"},{"$f":"計算!CF19","v":"ー"},{"$f":"計算!CH19","v":"ー"},{"$f":"計算!CJ19","v":"ー"}]
[null,16,null,null,"E",null,null,null,null,null,null,null,null,null,null,null,{"$f":"計算!AB20","v":"ー"},{"$f":"計算!AH20","v":"ー"},{"$f":"計算!AI20","v":"ー"},{"$f":"計算!AJ20","v":"ー"},{"$f":"計算!X20","v":"ー"},null,"ー","ー",{"$f":"計算!BI20","v":"ー"},{"$f":"計算!BD20","v":"ー"},{"$f":"計算!BF20","v":"ー"},{"$f":"計算!BH20","v":"ー"},{"$f":"計算!CK20","v":"ー"},{"$f":"計算!CF20","v":"ー"},{"$f":"計算!CH20","v":"ー"},{"$f":"計算!CJ20","v":"ー"}]
[null,17,null,null,"E",null,null,null,null,null,null,null,null,null,null,null,{"$f":"計算!AB21","v":"ー"},{"$f":"計算!AH21","v":"ー"},{"$f":"計算!AI21","v":"ー"},{"$f":"計算!AJ21","v":"ー"},{"$f":"計算!X21","v":"ー"},null,"ー","ー",{"$f":"計算!BI21","v":"ー"},{"$f":"計算!BD21","v":"ー"},{"$f":"計算!BF21","v":"ー"},{"$f":"計算!BH21","v":"ー"},{"$f":"計算!CK21","v":"ー"},{"$f":"計算!CF21","v":"ー"},{"$f":"計算!CH21","v":"ー"},{"$f":"計算!CJ21","v":"ー"}]
[null,18,null,null,"E",null,null,null,null,null,null,null,null,null,null,null,{"$f":"計算!AB22","v":"ー"},{"$f":"計算!AH22","v":"ー"},{"$f":"計算!AI22","v":"ー"},{"$f":"計算!AJ22","v":"ー"},{"$f":"計算!X22","v":"ー"},null,"ー","ー",{"$f":"計算!BI22","v":"ー"},{"$f":"計算!BD22","v":"ー"},{"$f":"計算!BF22","v":"ー"},{"$f":"計算!BH22","v":"ー"},{"$f":"計算!CK22","v":"ー"},{"$f":"計算!CF22","v":"ー"},{"$f":"計算!CH22","v":"ー"},{"$f":"計算!CJ22","v":"ー"}]
[null,19,null,null,"E",null,null,null,null,null,null,null,null,null,null,null,{"$f":"計算!AB23","v":"ー"},{"$f":"計算!AH23","v":"ー"},{"$f":"計算!AI23","v":"ー"},{"$f":"計算!AJ23","v":"ー"},{"$f":"計算!X23","v":"ー"},null,"ー","ー",{"$f":"計算!BI23","v":"ー"},{"$f":"計算!BD23","v":"ー"},{"$f":"計算!BF23","v":"ー"},{"$f":"計算!BH23","v":"ー"},{"$f":"計算!CK23","v":"ー"},{"$f":"計算!CF23","v":"ー"},{"$f":"計算!CH23","v":"ー"},{"$f":"計算!CJ23","v":"ー"}]
[null,20,null,null,"E",null,null,null,null,null,null,null,null,null,null,null,{"$f":"計算!AB24","v":"ー"},{"$f":"計算!AH24","v":"ー"},{"$f":"計算!AI24","v":"ー"},{"$f":"計算!AJ24","v":"ー"},{"$f":"計算!X24","v":"ー"},null,"ー","ー",{"$f":"計算!BI24","v":"ー"},{"$f":"計算!BD24","v":"ー"},{"$f":"計算!BF24","v":"ー"},{"$f":"計算!BH24","v":"ー"},{"$f":"計算!CK24","v":"ー"},{"$f":"計算!CF24","v":"ー"},{"$f":"計算!CH24","v":"ー"},{"$f":"計算!CJ24","v":"ー"}]
[null,21,null,null,"E",null,null,null,null,null,null,null,null,null,null,null,{"$f":"計算!AB25","v":"ー"},{"$f":"計算!AH25","v":"ー"},{"$f":"計算!AI25","v":"ー"},{"$f":"計算!AJ25","v":"ー"},{"$f":"計算!X25","v":"ー"},null,"ー","ー",{"$f":"計算!BI25","v":"ー"},{"$f":"計算!BD25","v":"ー"},{"$f":"計算!BF25","v":"ー"},{"$f":"計算!BH25","v":"ー"},{"$f":"計算!CK25","v":"ー"},{"$f":"計算!CF25","v":"ー"},{"$f":"計算!CH25","v":"ー"},{"$f":"計算!CJ25","v":"ー"}]
[null,22,null,null,"E",null,null,null,null,null,null,null,null,null,null,null,{"$f":"計算!AB26","v":"ー"},{"$f":"計算!AH26","v":"ー"},{"$f":"計算!AI26","v":"ー"},{"$f":"計算!AJ26","v":"ー"},{"$f":"計算!X26","v":"ー"},null,"ー","ー",{"$f":"計算!BI26","v":"ー"},{"$f":"計算!BD26","v":"ー"},{"$f":"計算!BF26","v":"ー"},{"$f":"計算!BH26","v":"ー"},{"$f":"計算!CK26","v":"ー"},{"$f":"計算!CF26","v":"ー"},{"$f":"計算!CH26","v":"ー"},{"$f":"計算!CJ26","v":"ー"}]
[null,23,null,null,"E",null,null,null,null,null,null,null,null,null,null,null,{"$f":"計算!AB27","v":"ー"},{"$f":"計算!AH27","v":"ー"},{"$f":"計算!AI27","v":"ー"},{"$f":"計算!AJ27","v":"ー"},{"$f":"計算!X27","v":"ー"},null,"ー","ー",{"$f":"計算!BI27","v":"ー"},{"$f":"計算!BD27","v":"ー"},{"$f":"計算!BF27","v":"ー"},{"$f":"計算!BH27","v":"ー"},{"$f":"計算!CK27","v":"ー"},{"$f":"計算!CF27","v":"ー"},{"$f":"計算!CH27","v":"ー"},{"$f":"計算!CJ27","v":"ー"}]
[null,24,null,null,"E",null,null,null,null,null,null,null,null,null,null,null,{"$f":"計算!AB28","v":"ー"},{"$f":"計算!AH28","v":"ー"},{"$f":"計算!AI28","v":"ー"},{"$f":"計算!AJ28","v":"ー"},{"$f":"計算!X28","v":"ー"},null,"ー","ー",{"$f":"計算!BI28","v":"ー"},{"$f":"計算!BD28","v":"ー"},{"$f":"計算!BF28","v":"ー"},{"$f":"計算!BH28","v":"ー"},{"$f":"計算!CK28","v":"ー"},{"$f":"計算!CF28","v":"ー"},{"$f":"計算!CH28","v":"ー"},{"$f":"計算!CJ28","v":"ー"}]
[null,25,null,null,"E",null,null,null,null,null,null,null,null,null,null,null,{"$f":"計算!AB29","v":"ー"},{"$f":"計算!AH29","v":"ー"},{"$f":"計算!AI29","v":"ー"},{"$f":"計算!AJ29","v":"ー"},{"$f":"計算!X29","v":"ー"},null,"ー","ー",{"$f":"計算!BI29","v":"ー"},{"$f":"計算!BD29","v":"ー"},{"$f":"計算!BF29","v":"ー"},{"$f":"計算!BH29","v":"ー"},{"$f":"計算!CK29","v":"ー"},{"$f":"計算!CF29","v":"ー"},{"$f":"計算!CH29","v":"ー"},{"$f":"計算!CJ29","v":"ー"}]
[null,26,null,null,"E",null,null,null,null,null,null,null,null,null,null,null,{"$f":"計算!AB30","v":"ー"},{"$f":"計算!AH30","v":"ー"},{"$f":"計算!AI30","v":"ー"},{"$f":"計算!AJ30","v":"ー"},{"$f":"計算!X30","v":"ー"},null,"ー","ー",{"$f":"計算!BI30","v":"ー"},{"$f":"計算!BD30","v":"ー"},{"$f":"計算!BF30","v":"ー"},{"$f":"計算!BH30","v":"ー"},{"$f":"計算!CK30","v":"ー"},{"$f":"計算!CF30","v":"ー"},{"$f":"計算!CH30","v":"ー"},{"$f":"計算!CJ30","v":"ー"}]
[null,27,null,null,"E",null,null,null,null,null,null,null,null,null,null,null,{"$f":"計算!AB31","v":"ー"},{"$f":"計算!AH31","v":"ー"},{"$f":"計算!AI31","v":"ー"},{"$f":"計算!AJ31","v":"ー"},{"$f":"計算!X31","v":"ー"},null,"ー","ー",{"$f":"計算!BI31","v":"ー"},{"$f":"計算!BD31","v":"ー"},{"$f":"計算!BF31","v":"ー"},{"$f":"計算!BH31","v":"ー"},{"$f":"計算!CK31","v":"ー"},{"$f":"計算!CF31","v":"ー"},{"$f":"計算!CH31","v":"ー"},{"$f":"計算!CJ31","v":"ー"}]
[null,28,null,null,"E",null,null,null,null,null,null,null,null,null,null,null,{"$f":"計算!AB32","v":"ー"},{"$f":"計算!AH32","v":"ー"},{"$f":"計算!AI32","v":"ー"},{"$f":"計算!AJ32","v":"ー"},{"$f":"計算!X32","v":"ー"},null,"ー","ー",{"$f":"計算!BI32","v":"ー"},{"$f":"計算!BD32","v":"ー"},{"$f":"計算!BF32","v":"ー"},{"$f":"計算!BH32","v":"ー"},{"$f":"計算!CK32","v":"ー"},{"$f":"計算!CF32","v":"ー"},{"$f":"計算!CH32","v":"ー"},{"$f":"計算!CJ32","v":"ー"}]
[null,29,null,null,"E",null,null,null,null,null,null,null,null,null,null,null,{"$f":"計算!AB33","v":"ー"},{"$f":"計算!AH33","v":"ー"},{"$f":"計算!AI33","v":"ー"},{"$f":"計算!AJ33","v":"ー"},{"$f":"計算!X33","v":"ー"},null,"ー","ー",{"$f":"計算!BI33","v":"ー"},{"$f":"計算!BD33","v":"ー"},{"$f":"計算!BF33","v":"ー"},{"$f":"計算!BH33","v":"ー"},{"$f":"計算!CK33","v":"ー"},{"$f":"計算!CF33","v":"ー"},{"$f":"計算!CH33","v":"ー"},{"$f":"計算!CJ33","v":"ー"}]
[null,30,null,null,"E",null,null,null,null,null,null,null,null,null,null,null,{"$f":"計算!AB34","v":"ー"},{"$f":"計算!AH34","v":"ー"},{"$f":"計算!AI34","v":"ー"},{"$f":"計算!AJ34","v":"ー"},{"$f":"計算!X34","v":"ー"},null,"ー","ー",{"$f":"計算!BI34","v":"ー"},{"$f":"計算!BD34","v":"ー"},{"$f":"計算!BF34","v":"ー"},{"$f":"計算!BH34","v":"ー"},{"$f":"計算!CK34","v":"ー"},{"$f":"計算!CF34","v":"ー"},{"$f":"計算!CH34","v":"ー"},{"$f":"計算!CJ34","v":"ー"}]
[null,31,null,null,"E",null,null,null,null,null,null,null,null,null,null,null,{"$f":"計算!AB35","v":"ー"},{"$f":"計算!AH35","v":"ー"},{"$f":"計算!AI35","v":"ー"},{"$f":"計算!AJ35","v":"ー"},{"$f":"計算!X35","v":"ー"},null,"ー","ー",{"$f":"計算!BI35","v":"ー"},{"$f":"計算!BD35","v":"ー"},{"$f":"計算!BF35","v":"ー"},{"$f":"計算!BH35","v":"ー"},{"$f":"計算!CK35","v":"ー"},{"$f":"計算!CF35","v":"ー"},{"$f":"計算!CH35","v":"ー"},{"$f":"計算!CJ35","v":"ー"}]
[null,32,null,null,"E",null,null,null,null,null,null,null,null,null,null,null,{"$f":"計算!AB36","v":"ー"},{"$f":"計算!AH36","v":"ー"},{"$f":"計算!AI36","v":"ー"},{"$f":"計算!AJ36","v":"ー"},{"$f":"計算!X36","v":"ー"},null,"ー","ー",{"$f":"計算!BI36","v":"ー"},{"$f":"計算!BD36","v":"ー"},{"$f":"計算!BF36","v":"ー"},{"$f":"計算!BH36","v":"ー"},{"$f":"計算!CK36","v":"ー"},{"$f":"計算!CF36","v":"ー"},{"$f":"計算!CH36","v":"ー"},{"$f":"計算!CJ36","v":"ー"}]
[null,33,null,null,"E",null,null,null,null,null,null,null,null,null,null,null,{"$f":"計算!AB37","v":"ー"},{"$f":"計算!AH37","v":"ー"},{"$f":"計算!AI37","v":"ー"},{"$f":"計算!AJ37","v":"ー"},{"$f":"計算!X37","v":"ー"},null,"ー","ー",{"$f":"計算!BI37","v":"ー"},{"$f":"計算!BD37","v":"ー"},{"$f":"計算!BF37","v":"ー"},{"$f":"計算!BH37","v":"ー"},{"$f":"計算!CK37","v":"ー"},{"$f":"計算!CF37","v":"ー"},{"$f":"計算!CH37","v":"ー"},{"$f":"計算!CJ37","v":"ー"}]
[null,34,null,null,"E",null,null,null,null,null,null,null,null,null,null,null,{"$f":"計算!AB38","v":"ー"},{"$f":"計算!AH38","v":"ー"},{"$f":"計算!AI38","v":"ー"},{"$f":"計算!AJ38","v":"ー"},{"$f":"計算!X38","v":"ー"},null,"ー","ー",{"$f":"計算!BI38","v":"ー"},{"$f":"計算!BD38","v":"ー"},{"$f":"計算!BF38","v":"ー"},{"$f":"計算!BH38","v":"ー"},{"$f":"計算!CK38","v":"ー"},{"$f":"計算!CF38","v":"ー"},{"$f":"計算!CH38","v":"ー"},{"$f":"計算!CJ38","v":"ー"}]
[null,35,null,null,"E",null,null,null,null,null,null,null,null,null,null,null,{"$f":"計算!AB39","v":"ー"},{"$f":"計算!AH39","v":"ー"},{"$f":"計算!AI39","v":"ー"},{"$f":"計算!AJ39","v":"ー"},{"$f":"計算!X39","v":"ー"},null,"ー","ー",{"$f":"計算!BI39","v":"ー"},{"$f":"計算!BD39","v":"ー"},{"$f":"計算!BF39","v":"ー"},{"$f":"計算!BH39","v":"ー"},{"$f":"計算!CK39","v":"ー"},{"$f":"計算!CF39","v":"ー"},{"$f":"計算!CH39","v":"ー"},{"$f":"計算!CJ39","v":"ー"}]
[null,36,null,null,"E",null,null,null,null,null,null,null,null,null,null,null,{"$f":"計算!AB40","v":"ー"},{"$f":"計算!AH40","v":"ー"},{"$f":"計算!AI40","v":"ー"},{"$f":"計算!AJ40","v":"ー"},{"$f":"計算!X40","v":"ー"},null,"ー","ー",{"$f":"計算!BI40","v":"ー"},{"$f":"計算!BD40","v":"ー"},{"$f":"計算!BF40","v":"ー"},{"$f":"計算!BH40","v":"ー"},{"$f":"計算!CK40","v":"ー"},{"$f":"計算!CF40","v":"ー"},{"$f":"計算!CH40","v":"ー"},{"$f":"計算!CJ40","v":"ー"}]
[null,37,null,null,"E",null,null,null,null,null,null,null,null,null,null,null,{"$f":"計算!AB41","v":"ー"},{"$f":"計算!AH41","v":"ー"},{"$f":"計算!AI41","v":"ー"},{"$f":"計算!AJ41","v":"ー"},{"$f":"計算!X41","v":"ー"},null,"ー","ー",{"$f":"計算!BI41","v":"ー"},{"$f":"計算!BD41","v":"ー"},{"$f":"計算!BF41","v":"ー"},{"$f":"計算!BH41","v":"ー"},{"$f":"計算!CK41","v":"ー"},{"$f":"計算!CF41","v":"ー"},{"$f":"計算!CH41","v":"ー"},{"$f":"計算!CJ41","v":"ー"}]
[null,38,null,null,"E",null,null,null,null,null,null,null,null,null,null,null,{"$f":"計算!AB42","v":"ー"},{"$f":"計算!AH42","v":"ー"},{"$f":"計算!AI42","v":"ー"},{"$f":"計算!AJ42","v":"ー"},{"$f":"計算!X42","v":"ー"},null,"ー","ー",{"$f":"計算!BI42","v":"ー"},{"$f":"計算!BD42","v":"ー"},{"$f":"計算!BF42","v":"ー"},{"$f":"計算!BH42","v":"ー"},{"$f":"計算!CK42","v":"ー"},{"$f":"計算!CF42","v":"ー"},{"$f":"計算!CH42","v":"ー"},{"$f":"計算!CJ42","v":"ー"}]
[null,39,null,null,"E",null,null,null,null,null,null,null,null,null,null,null,{"$f":"計算!AB43","v":"ー"},{"$f":"計算!AH43","v":"ー"},{"$f":"計算!AI43","v":"ー"},{"$f":"計算!AJ43","v":"ー"},{"$f":"計算!X43","v":"ー"},null,"ー","ー",{"$f":"計算!BI43","v":"ー"},{"$f":"計算!BD43","v":"ー"},{"$f":"計算!BF43","v":"ー"},{"$f":"計算!BH43","v":"ー"},{"$f":"計算!CK43","v":"ー"},{"$f":"計算!CF43","v":"ー"},{"$f":"計算!CH43","v":"ー"},{"$f":"計算!CJ43","v":"ー"}]
[null,40,null,null,"E",null,null,null,null,null,null,null,null,null,null,null,{"$f":"計算!AB44","v":"ー"},{"$f":"計算!AH44","v":"ー"},{"$f":"計算!AI44","v":"ー"},{"$f":"計算!AJ44","v":"ー"},{"$f":"計算!X44","v":"ー"},null,"ー","ー",{"$f":"計算!BI44","v":"ー"},{"$f":"計算!BD44","v":"ー"},{"$f":"計算!BF44","v":"ー"},{"$f":"計算!BH44","v":"ー"},{"$f":"計算!CK44","v":"ー"},{"$f":"計算!CF44","v":"ー"},{"$f":"計算!CH44","v":"ー"},{"$f":"計算!CJ44","v":"ー"}]
[null,41,null,null,"E",null,null,null,null,null,null,null,null,null,null,null,{"$f":"計算!AB45","v":"ー"},{"$f":"計算!AH45","v":"ー"},{"$f":"計算!AI45","v":"ー"},{"$f":"計算!AJ45","v":"ー"},{"$f":"計算!X45","v":"ー"},null,"ー","ー",{"$f":"計算!BI45","v":"ー"},{"$f":"計算!BD45","v":"ー"},{"$f":"計算!BF45","v":"ー"},{"$f":"計算!BH45","v":"ー"},{"$f":"計算!CK45","v":"ー"},{"$f":"計算!CF45","v":"ー"},{"$f":"計算!CH45","v":"ー"},{"$f":"計算!CJ45","v":"ー"}]
[null,42,null,null,"E",null,null,null,null,null,null,null,null,null,null,null,{"$f":"計算!AB46","v":"ー"},{"$f":"計算!AH46","v":"ー"},{"$f":"計算!AI46","v":"ー"},{"$f":"計算!AJ46","v":"ー"},{"$f":"計算!X46","v":"ー"},null,"ー","ー",{"$f":"計算!BI46","v":"ー"},{"$f":"計算!BD46","v":"ー"},{"$f":"計算!BF46","v":"ー"},{"$f":"計算!BH46","v":"ー"},{"$f":"計算!CK46","v":"ー"},{"$f":"計算!CF46","v":"ー"},{"$f":"計算!CH46","v":"ー"},{"$f":"計算!CJ46","v":"ー"}]
[null,43,null,null,"E",null,null,null,null,null,null,null,null,null,null,null,{"$f":"計算!AB47","v":"ー"},{"$f":"計算!AH47","v":"ー"},{"$f":"計算!AI47","v":"ー"},{"$f":"計算!AJ47","v":"ー"},{"$f":"計算!X47","v":"ー"},null,"ー","ー",{"$f":"計算!BI47","v":"ー"},{"$f":"計算!BD47","v":"ー"},{"$f":"計算!BF47","v":"ー"},{"$f":"計算!BH47","v":"ー"},{"$f":"計算!CK47","v":"ー"},{"$f":"計算!CF47","v":"ー"},{"$f":"計算!CH47","v":"ー"},{"$f":"計算!CJ47","v":"ー"}]
[null,44,null,null,"E",null,null,null,null,null,null,null,null,null,null,null,{"$f":"計算!AB48","v":"ー"},{"$f":"計算!AH48","v":"ー"},{"$f":"計算!AI48","v":"ー"},{"$f":"計算!AJ48","v":"ー"},{"$f":"計算!X48","v":"ー"},null,"ー","ー",{"$f":"計算!BI48","v":"ー"},{"$f":"計算!BD48","v":"ー"},{"$f":"計算!BF48","v":"ー"},{"$f":"計算!BH48","v":"ー"},{"$f":"計算!CK48","v":"ー"},{"$f":"計算!CF48","v":"ー"},{"$f":"計算!CH48","v":"ー"},{"$f":"計算!CJ48","v":"ー"}]
[null,45,null,null,"E",null,null,null,null,null,null,null,null,null,null,null,{"$f":"計算!AB49","v":"ー"},{"$f":"計算!AH49","v":"ー"},{"$f":"計算!AI49","v":"ー"},{"$f":"計算!AJ49","v":"ー"},{"$f":"計算!X49","v":"ー"},null,"ー","ー",{"$f":"計算!BI49","v":"ー"},{"$f":"計算!BD49","v":"ー"},{"$f":"計算!BF49","v":"ー"},{"$f":"計算!BH49","v":"ー"},{"$f":"計算!CK49","v":"ー"},{"$f":"計算!CF49","v":"ー"},{"$f":"計算!CH49","v":"ー"},{"$f":"計算!CJ49","v":"ー"}]
[null,46,null,null,"E",null,null,null,null,null,null,null,null,null,null,null,{"$f":"計算!AB50","v":"ー"},{"$f":"計算!AH50","v":"ー"},{"$f":"計算!AI50","v":"ー"},{"$f":"計算!AJ50","v":"ー"},{"$f":"計算!X50","v":"ー"},null,"ー","ー",{"$f":"計算!BI50","v":"ー"},{"$f":"計算!BD50","v":"ー"},{"$f":"計算!BF50","v":"ー"},{"$f":"計算!BH50","v":"ー"},{"$f":"計算!CK50","v":"ー"},{"$f":"計算!CF50","v":"ー"},{"$f":"計算!CH50","v":"ー"},{"$f":"計算!CJ50","v":"ー"}]
[null,47,null,null,"E",null,null,null,null,null,null,null,null,null,null,null,{"$f":"計算!AB51","v":"ー"},{"$f":"計算!AH51","v":"ー"},{"$f":"計算!AI51","v":"ー"},{"$f":"計算!AJ51","v":"ー"},{"$f":"計算!X51","v":"ー"},null,"ー","ー",{"$f":"計算!BI51","v":"ー"},{"$f":"計算!BD51","v":"ー"},{"$f":"計算!BF51","v":"ー"},{"$f":"計算!BH51","v":"ー"},{"$f":"計算!CK51","v":"ー"},{"$f":"計算!CF51","v":"ー"},{"$f":"計算!CH51","v":"ー"},{"$f":"計算!CJ51","v":"ー"}]
[null,48,null,null,"E",null,null,null,null,null,null,null,null,null,null,null,{"$f":"計算!AB52","v":"ー"},{"$f":"計算!AH52","v":"ー"},{"$f":"計算!AI52","v":"ー"},{"$f":"計算!AJ52","v":"ー"},{"$f":"計算!X52","v":"ー"},null,"ー","ー",{"$f":"計算!BI52","v":"ー"},{"$f":"計算!BD52","v":"ー"},{"$f":"計算!BF52","v":"ー"},{"$f":"計算!BH52","v":"ー"},{"$f":"計算!CK52","v":"ー"},{"$f":"計算!CF52","v":"ー"},{"$f":"計算!CH52","v":"ー"},{"$f":"計算!CJ52","v":"ー"}]
[null,49,null,null,"E",null,null,null,null,null,null,null,null,null,null,null,{"$f":"計算!AB53","v":"ー"},{"$f":"計算!AH53","v":"ー"},{"$f":"計算!AI53","v":"ー"},{"$f":"計算!AJ53","v":"ー"},{"$f":"計算!X53","v":"ー"},null,"ー","ー",{"$f":"計算!BI53","v":"ー"},{"$f":"計算!BD53","v":"ー"},{"$f":"計算!BF53","v":"ー"},{"$f":"計算!BH53","v":"ー"},{"$f":"計算!CK53","v":"ー"},{"$f":"計算!CF53","v":"ー"},{"$f":"計算!CH53","v":"ー"},{"$f":"計算!CJ53","v":"ー"}]
[null,50,null,null,"E",null,null,null,null,null,null,null,null,null,null,null,{"$f":"計算!AB54","v":"ー"},{"$f":"計算!AH54","v":"ー"},{"$f":"計算!AI54","v":"ー"},{"$f":"計算!AJ54","v":"ー"},{"$f":"計算!X54","v":"ー"},null,"ー","ー",{"$f":"計算!BI54","v":"ー"},{"$f":"計算!BD54","v":"ー"},{"$f":"計算!BF54","v":"ー"},{"$f":"計算!BH54","v":"ー"},{"$f":"計算!CK54","v":"ー"},{"$f":"計算!CF54","v":"ー"},{"$f":"計算!CH54","v":"ー"},{"$f":"計算!CJ54","v":"ー"}]
[null,"【注意事項】\n・本設計ツールで出力される結果は、計算条件並びに当社の知見に基づき検討結果の有効性を示したものであり、実施にあたっては、工事・設計関係者の確認・承認を要する内容もございます。\n　なお、検討条件と異なる諸事情、ならびに諸条件によって結果が異なる場合がございますことを、あらかじめご了承ください。\n・相当壁倍率は短期許容せん断耐力（Pa）およびアンカーボルト間の距離から換算した数値です。下記式から算出しております。\n　相当壁倍率＝Pa/(アンカーボルト間距離×1.96）\n　※本工法は壁倍率認定を取得しておりません。許容応力度計算等の構造設計が必要ですのでご注意ください。"]
[]
[null,null,null,null,null,null,null,null,null,null,null,null,null,null,null,null,null,null,null,null,null,null,"　・本ツールには、VBAマクロを使用しております。ツール使用時は、マクロを有効にしてご使用ください。"]
[null,null,null,null,null,null,null,null,null,null,null,null,null,null,null,null,null,null,null,null,null,null,"　・本ツールの内容は、予告なく変更することがありますので、あらかじめご了承ください。"]
[null,null,null,null,null,null,null,null,null,null,null,null,null,null,null,null,null,null,null,null,null,null,"　・本ツールは Windows 10 / Microsoft Excel for Office 365 MSO で作成および動作確認を行っております。"]
[null,null,null,null,null,null,null,null,null,null,null,null,null,null,null,null,null,null,null,null,null,null,"　　上記以外の環境につきましては、想定していない動作をする可能性がありますのであらかじめご了承ください。"]
[null,null,null,null,null,null,null,null,null,null,null,null,null,null,null,null,null,null,null,null,null,null,"　・Windows / ExcelはMicrosoft社の商標です。"]

{"sheet":"計算","index":1,"n_rows":157,"n_cols":95,"rows_kept":157,"cut":false,"hidden":true,"merged":[]}
[null,"条件入力",null,null,null,null,null,"耐力算定",null,null,null,null,null,null,null,null,null,null,null,null,null,null,null,null,null,null,null,null,null,null,null,null,null,null,null,null,null,null,null,null,null,null,null,null,null,"部材の検定",null,null,null,null,null,null,null,null,null,null,null,null,null,null,null,null,"基礎の検定",null,null,null,null,null,null,null,null,null,null,null,null,null,null,null,null,null,null,null,null,null,null,null,null,null,null,null,"バージョン","Ver.21-10.1.0.2.3",null,"更新日","2021-10-05"]
[null,"強度区分","柱幅","厚さ","載荷高さ","使用環境",null,"K","K1","K2",null,"β2","KBS","Kt","Kc","L",null,"Kw","E","I","幅(h)","奥行(b)","hw","アンカー距離","M0","Ma","P0","Pa","α","α1","α2","α3","α4","K（柱脚部）","K0（全体）判断用","壁倍率",null,"Kmin",null,"E〇","ヤング係数",null,"幅","Kmin",null,"設計せん断力","設計軸方向力","BN","BM","BV+","BV-","Ta","Ca","Qa","判定+","比","判定-","比","設計H","比","検定",null,"基礎Fc","基礎へりあき","基礎幅","Pa","σca","ld","ψ","qa","φ2","σt","Aqc","Aqc'","S1","c","θ","L","S2","Ca","φ2","Ac","判定+","比","判定-","比","設計H","比","検定"]
[null,null,"mm","mm","mm",null,null,"kN・m/rad","kN・m/rad","kN・m/rad",null,null,"kN・m","kN/mm","kN/mm","mm",null,"kN・m","N/mm2","mm4","mm","mm","mm","mm","kN・m","kN・m","kN","kN",null,null,null,null,null,"kN・m/rad",null,null,null,"kN・m/rad",null,null,"N/mm2",null,"mm","kN・m/rad",null,"kN","kN","kN","kN","kN","kN","kN","kN","kN",null,null,null,null,null,null,null,null,"N/mm2","mm","mm","kN","N/mm2","mm","mm","kN",null,"N/mm2","mm2","mm2","mm2","mm","rad","mm","mm2","kN",null,"mm2"]
[]
[null,{"$f":"入力シート!F14","v":0},{"$f":"入力シート!G14","v":0},{"$f":"入力シート!H14","v":0},{"$f":"入力シート!I14","v":0},{"$f":"入力シート!L14","v":0},null,{"$f":"((I5*J5)/(I5+J5))*0.85","v":{"$error":"#N/A"}},{"$f":"M5*L5","v":{"$error":"#N/A"}},{"$f":"R5","v":{"$error":"#N/A"}},null,{"$f":"0.0000319*S5+0.665","v":{"$error":"#N/A"}},{"$f":"((P5^2)/((1/N5)+(1/O5)))/1000","v":326.99070256410255},{"$f":"42400/1000","v":42.4},{"$f":"164300/1000","v":164.3},{"$f":"1.05*C5-98.5","v":-98.5},null,{"$f":"(((3*S5*T5)/W5))/1000000","v":{"$error":"#N/A"}},{"$f":"VLOOKUP(B5,$AN$5:$AO$21,2,TRUE)","v":{"$error":"#N/A"}},{"$f":"(V5*(U5^3))/12","v":0},{"$f":"C5","v":0},{"$f":"D5","v":0},{"$f":"E5","v":0},{"$f":"IF(C5=0,\"ー\",U5-105)","v":"ー"},{"$f":"IF(H5>=AL5,H5/120,\"―\")","v":{"$error":"#N/A"}},{"$f":"IF(H5>=AL5,Y5*AC5,\"ー\")","v":{"$error":"#N/A"}},{"$f":"IF(H5>=AL5,Y5/(E5/1000),\"ー\")","v":{"$error":"#N/A"}},{"$f":"IF(C5=0,\"ー\",IF(AI5>=AL5,ROUNDDOWN(AA5*AC5,2),\"ー\"))","v":"ー"},{"$f":"ROUNDDOWN(AD5*AE5*AF5*AG5,2)","v":{"$error":"#VALUE!"}},{"$f":"IF(F5=3,1,IF(F5=2,0.85,IF(F5=1,0.75,\"-\")))","v":"-"},1,0.95,{"$f":"IF(S5>=10290,1,0.9)","v":{"$error":"#N/A"}},{"$f":"IF(C5=0,\"ー\",I5*AC5)","v":"ー"},{"$f":"IF(C5=0,\"ー\",H5*AC5)","v":"ー"},{"$f":"IF(C5=0,\"ー\",IF(H5>=AL5,ROUNDDOWN(AB5*(1000/(C5-105))/1.96,1),\"ー\"))","v":"ー"},null,{"$f":"VLOOKUP(C5,$AQ$5:$AR$13,2,TRUE)","v":{"$error":"#N/A"}},null,65,{"$f":"AN5*98","v":6370},null,210,194.30705683539341,null,{"$f":"ABS(入力シート!N14)","v":0},{"$f":"入力シート!O14","v":0},{"$f":"AU5/2","v":0},{"$f":"(AT5*(E5/1000))/(P5/1000)","v":0},{"$f":"AV5+AW5","v":0},{"$f":"AV5-AW5","v":0},{"$f":"IF(F5=3,63.2,IF(F5=2,63.2,55))*-1","v":-55},{"$f":"IF(F5=3,127.8,IF(F5=2,107.6,88.8))","v":88.8},{"$f":"IF(F5=3,23.1,IF(F5=2,21,17.4))","v":17.399999999999999},{"$f":"IF(AX5<=BA5,\"OK\",\"NG\")","v":"OK"},{"$f":"IF(AND(AT5=0,AU5=0),\"ー\",IF(0<=AX5,AX5/BA5,AX5/AZ5))","v":"ー"},{"$f":"IF(AY5>=AZ5,\"OK\",\"NG\")","v":"OK"},{"$f":"IF(AND(AT5=0,AU5=0),\"ー\",IF(0>=AY5,AY5/AZ5,AY5/BA5))","v":"ー"},{"$f":"IF(AT5<=BB5,\"OK\",\"NG\")","v":"OK"},{"$f":"IF(AND(AT5=0,AU5=0),\"ー\",AT5/BB5)","v":"ー"},{"$f":"IF(AND(AT5=0,AU5=0),\"ー\",IF(AND(BC5=\"OK\",BE5=\"OK\",BG5=\"OK\"),\"OK\",\"NG\"))","v":"ー"},null,{"$f":"入力シート!J14","v":0},{"$f":"入力シート!K14","v":0},180,{"$f":"BO5*BP5*BQ5/1000*-1","v":0},{"$f":"MIN(BK5/10,1.35+BK5/25)*1.5","v":0},350,70,{"$f":"BS5*BT5*BU5/1000","v":{"$error":"#NUM!"}},{"$f":"2/3","v":0.66666666666666663},{"$f":"0.31*SQRT(BK5)","v":0},{"$f":"IF(2*BL5=BM5,(PI()*BL5^2)/2,(BM5*BZ5)+BV5)","v":{"$error":"#NUM!"}},{"$f":"BW5-CA5","v":{"$error":"#NUM!"}},{"$f":"PI()*BX5^2*((2*BY5)/(2*PI()))","v":{"$error":"#NUM!"}},{"$f":"BL5","v":0},{"$f":"ATAN((1/2)*BM5/BZ5)","v":{"$error":"#NUM!"}},{"$f":"SQRT(BX5^2-(BM5/2)^2)","v":{"$error":"#NUM!"}},{"$f":"(BM5*BZ5)/2","v":{"$error":"#NUM!"}},{"$f":"CC5*BK5*CD5/1000","v":0},{"$f":"2/3","v":0.66666666666666663},5492,{"$f":"IF(AX5<=CB5,\"OK\",\"NG\")","v":"OK"},{"$f":"IF(AND(AT5=0,AU5=0),\"ー\",IF(0<=AX5,AX5/CB5,AX5/BN5))","v":"ー"},{"$f":"IF(AY5>=BN5,\"OK\",\"NG\")","v":"OK"},{"$f":"IF(AND(AT5=0,AU5=0),\"ー\",IF(0>=AY5,AY5/BN5,AY5/CB5))","v":"ー"},{"$f":"IF(AT5<=BR5,\"OK\",\"NG\")","v":{"$error":"#NUM!"}},{"$f":"IF(AND(AT5=0,AU5=0),\"ー\",AT5/BR5)","v":"ー"},{"$f":"IF(AND(AT5=0,AU5=0),\"ー\",IF(AND(CE5=\"OK\",CG5=\"OK\",CI5=\"OK\"),\"OK\",\"NG\"))","v":"ー"}]
[null,{"$f":"入力シート!F15","v":0},{"$f":"入力シート!G15","v":0},{"$f":"入力シート!H15","v":0},{"$f":"入力シート!I15","v":0},{"$f":"入力シート!L15","v":0},null,{"$f":"((I6*J6)/(I6+J6))*0.85","v":{"$error":"#N/A"}},{"$f":"M6*L6","v":{"$error":"#N/A"}},{"$f":"R6","v":{"$error":"#N/A"}},null,{"$f":"0.0000319*S6+0.665","v":{"$error":"#N/A"}},{"$f":"((P6^2)/((1/N6)+(1/O6)))/1000","v":326.99070256410255},{"$f":"42400/1000","v":42.4},{"$f":"164300/1000","v":164.3},{"$f":"1.05*C6-98.5","v":-98.5},null,{"$f":"(((3*S6*T6)/W6))/1000000","v":{"$error":"#N/A"}},{"$f":"VLOOKUP(B6,$AN$5:$AO$21,2,TRUE)","v":{"$error":"#N/A"}},{"$f":"(V6*(U6^3))/12","v":0},{"$f":"C6","v":0},{"$f":"D6","v":0},{"$f":"E6","v":0},{"$f":"IF(C6=0,\"ー\",U6-105)","v":"ー"},{"$f":"IF(H6>=AL6,H6/120,\"―\")","v":{"$error":"#N/A"}},{"$f":"IF(H6>=AL6,Y6*AC6,\"ー\")","v":{"$error":"#N/A"}},{"$f":"IF(H6>=AL6,Y6/(E6/1000),\"ー\")","v":{"$error":"#N/A"}},{"$f":"IF(C6=0,\"ー\",IF(AI6>=AL6,ROUNDDOWN(AA6*AC6,2),\"ー\"))","v":"ー"},{"$f":"ROUNDDOWN(AD6*AE6*AF6*AG6,2)","v":{"$error":"#VALUE!"}},{"$f":"IF(F6=3,1,IF(F6=2,0.85,IF(F6=1,0.75,\"-\")))","v":"-"},1,0.95,{"$f":"IF(S6>=10290,1,0.9)","v":{"$error":"#N/A"}},{"$f":"IF(C6=0,\"ー\",I6*AC6)","v":"ー"},{"$f":"IF(C6=0,\"ー\",H6*AC6)","v":"ー"},{"$f":"IF(C6=0,\"ー\",IF(H6>=AL6,ROUNDDOWN(AB6*(1000/(C6-105))/1.96,1),\"ー\"))","v":"ー"},null,{"$f":"VLOOKUP(C6,$AQ$5:$AR$13,2,TRUE)","v":{"$error":"#N/A"}},null,70,{"$f":"AN6*98","v":6860},null,240,270.96055891677338,null,{"$f":"ABS(入力シート!N15)","v":0},{"$f":"入力シート!O15","v":0},{"$f":"AU6/2","v":0},0,{"$f":"AV6+AW6","v":0},{"$f":"AV6-AW6","v":0},-55,88.8,17.399999999999999,{"$f":"IF(AX6<=BA6,\"OK\",\"NG\")","v":"OK"},{"$f":"IF(AND(AT6=0,AU6=0),\"ー\",IF(0<=AX6,AX6/BA6,AX6/AZ6))","v":"ー"},{"$f":"IF(AY6>=AZ6,\"OK\",\"NG\")","v":"OK"},{"$f":"IF(AND(AT6=0,AU6=0),\"ー\",IF(0>=AY6,AY6/AZ6,AY6/BA6))","v":"ー"},{"$f":"IF(AT6<=BB6,\"OK\",\"NG\")","v":"OK"},{"$f":"IF(AND(AT6=0,AU6=0),\"ー\",AT6/BB6)","v":"ー"},"ー",null,{"$f":"入力シート!J15","v":0},{"$f":"入力シート!K15","v":0},180,{"$f":"BO6*BP6*BQ6/1000*-1","v":0},{"$f":"MIN(BK6/10,1.35+BK6/25)*1.5","v":0},350,70,{"$f":"BS6*BT6*BU6/1000","v":{"$error":"#NUM!"}},{"$f":"2/3","v":0.66666666666666663},{"$f":"0.31*SQRT(BK6)","v":0},{"$f":"IF(2*BL6=BM6,(PI()*BL6^2)/2,(BM6*BZ6)+BV6)","v":{"$error":"#NUM!"}},{"$f":"BW6-CA6","v":{"$error":"#NUM!"}},{"$f":"PI()*BX6^2*((2*BY6)/(2*PI()))","v":{"$error":"#NUM!"}},{"$f":"BL6","v":0},{"$f":"ATAN((1/2)*BM6/BZ6)","v":{"$error":"#NUM!"}},{"$f":"SQRT(BX6^2-(BM6/2)^2)","v":{"$error":"#NUM!"}},{"$f":"(BM6*BZ6)/2","v":{"$error":"#NUM!"}},0,{"$f":"2/3","v":0.66666666666666663},5492,{"$f":"IF(AX6<=CB6,\"OK\",\"NG\")","v":"OK"},{"$f":"IF(AND(AT6=0,AU6=0),\"ー\",IF(0<=AX6,AX6/CB6,AX6/BN6))","v":"ー"},{"$f":"IF(AY6>=BN6,\"OK\",\"NG\")","v":"OK"},{"$f":"IF(AND(AT6=0,AU6=0),\"ー\",IF(0>=AY6,AY6/BN6,AY6/CB6))","v":"ー"},{"$f":"IF(AT6<=BR6,\"OK\",\"NG\")","v":{"$error":"#NUM!"}},{"$f":"IF(AND(AT6=0,AU6=0),\"ー\",AT6/BR6)","v":"ー"},{"$f":"IF(AND(AT6=0,AU6=0),\"ー\",IF(AND(CE6=\"OK\",CG6=\"OK\",CI6=\"OK\"),\"OK\",\"NG\"))","v":"ー"}]
[null,{"$f":"入力シート!F16","v":0},{"$f":"入力シート!G16","v":0},{"$f":"入力シート!H16","v":0},{"$f":"入力シート!I16","v":0},{"$f":"入力シート!L16","v":0},null,{"$error":"#N/A"},{"$error":"#N/A"},{"$error":"#N/A"},null,{"$error":"#N/A"},326.99070256410255,42.4,164.3,-98.5,null,{"$error":"#N/A"},{"$error":"#N/A"},0,0,0,0,"ー",{"$error":"#N/A"},{"$error":"#N/A"},{"$error":"#N/A"},"ー",{"$error":"#VALUE!"},"-",1,0.95,{"$error":"#N/A"},"ー","ー","ー",null,{"$error":"#N/A"},null,75,7350,null,270,355.97909264115344,null,{"$f":"ABS(入力シート!N16)","v":0},{"$f":"入力シート!O16","v":0},0,0,0,{"$f":"AV7-AW7","v":0},-55,88.8,17.399999999999999,"OK",{"$f":"IF(AND(AT7=0,AU7=0),\"ー\",IF(0<=AX7,AX7/BA7,AX7/AZ7))","v":"ー"},"OK","ー",{"$f":"IF(AT7<=BB7,\"OK\",\"NG\")","v":"OK"},"ー","ー",null,{"$f":"入力シート!J16","v":0},{"$f":"入力シート!K16","v":0},180,0,0,350,70,{"$error":"#NUM!"},0.66666666666666663,0,{"$error":"#NUM!"},{"$error":"#NUM!"},{"$error":"#NUM!"},0,{"$error":"#NUM!"},{"$error":"#NUM!"},{"$error":"#NUM!"},0,0.66666666666666663,5492,{"$f":"IF(AX7<=CB7,\"OK\",\"NG\")","v":"OK"},"ー","OK","ー",{"$error":"#NUM!"},"ー","ー"]
[null,{"$f":"入力シート!F17","v":0},{"$f":"入力シート!G17","v":0},{"$f":"入力シート!H17","v":0},{"$f":"入力シート!I17","v":0},{"$f":"入力シート!L17","v":0},null,{"$error":"#N/A"},{"$error":"#N/A"},{"$error":"#N/A"},null,{"$error":"#N/A"},326.99070256410255,42.4,164.3,-98.5,null,{"$error":"#N/A"},{"$error":"#N/A"},0,0,0,0,"ー",{"$error":"#N/A"},{"$error":"#N/A"},{"$error":"#N/A"},"ー",{"$error":"#VALUE!"},"-",1,0.95,{"$error":"#N/A"},"ー","ー","ー",null,{"$error":"#N/A"},null,75,7350,null,300,449.36265800853346,null,{"$f":"ABS(入力シート!N17)","v":0},{"$f":"入力シート!O17","v":0},0,0,0,0,-55,88.8,17.399999999999999,"OK","ー","OK","ー","OK","ー","ー",null,{"$f":"入力シート!J17","v":0},{"$f":"入力シート!K17","v":0},180,0,0,350,70,{"$error":"#NUM!"},0.66666666666666663,0,{"$error":"#NUM!"},{"$error":"#NUM!"},{"$error":"#NUM!"},0,{"$error":"#NUM!"},{"$error":"#NUM!"},{"$error":"#NUM!"},0,0.66666666666666663,5492,"OK","ー","OK","ー",{"$error":"#NUM!"},"ー","ー"]
[null,{"$f":"入力シート!F18","v":0},{"$f":"入力シート!G18","v":0},{"$f":"入力シート!H18","v":0},{"$f":"入力シート!I18","v":0},{"$f":"入力シート!L18","v":0},null,{"$error":"#N/A"},{"$error":"#N/A"},{"$error":"#N/A"},null,{"$error":"#N/A"},326.99070256410255,42.4,164.3,-98.5,null,{"$error":"#N/A"},{"$error":"#N/A"},0,0,0,0,"ー",{"$error":"#N/A"},{"$error":"#N/A"},{"$error":"#N/A"},"ー",{"$error":"#VALUE!"},"-",1,0.95,{"$error":"#N/A"},"ー","ー","ー",null,{"$error":"#N/A"},null,80,7840,null,330,551.11125501891354,null,{"$f":"ABS(入力シート!N18)","v":0},{"$f":"入力シート!O18","v":0},0,0,0,0,-55,88.8,17.399999999999999,"OK","ー","OK","ー","OK","ー","ー",null,{"$f":"入力シート!J18","v":0},{"$f":"入力シート!K18","v":0},180,0,0,350,70,{"$error":"#NUM!"},0.66666666666666663,0,{"$error":"#NUM!"},{"$error":"#NUM!"},{"$error":"#NUM!"},0,{"$error":"#NUM!"},{"$error":"#NUM!"},{"$error":"#NUM!"},0,0.66666666666666663,5492,{"$f":"IF(AX9<=CB9,\"OK\",\"NG\")","v":"OK"},"ー","OK","ー",{"$error":"#NUM!"},"ー","ー"]
[null,{"$f":"入力シート!F19","v":0},{"$f":"入力シート!G19","v":0},{"$f":"入力シート!H19","v":0},{"$f":"入力シート!I19","v":0},{"$f":"入力シート!L19","v":0},null,{"$error":"#N/A"},{"$error":"#N/A"},{"$error":"#N/A"},null,{"$error":"#N/A"},326.99070256410255,42.4,164.3,-98.5,null,{"$error":"#N/A"},{"$error":"#N/A"},0,0,0,0,"ー",{"$error":"#N/A"},{"$error":"#N/A"},{"$error":"#N/A"},"ー",{"$error":"#VALUE!"},"-",1,0.95,{"$error":"#N/A"},"ー","ー","ー",null,{"$error":"#N/A"},null,85,8330,null,360,661.22488367229346,null,{"$f":"ABS(入力シート!N19)","v":0},{"$f":"入力シート!O19","v":0},0,0,0,0,-55,88.8,17.399999999999999,"OK","ー","OK","ー","OK","ー","ー",null,{"$f":"入力シート!J19","v":0},{"$f":"入力シート!K19","v":0},180,0,0,350,70,{"$error":"#NUM!"},0.66666666666666663,0,{"$error":"#NUM!"},{"$error":"#NUM!"},{"$error":"#NUM!"},0,{"$error":"#NUM!"},{"$error":"#NUM!"},{"$error":"#NUM!"},0,0.66666666666666663,5492,"OK","ー","OK","ー",{"$error":"#NUM!"},"ー","ー"]
[null,{"$f":"入力シート!F20","v":0},{"$f":"入力シート!G20","v":0},{"$f":"入力シート!H20","v":0},{"$f":"入力シート!I20","v":0},{"$f":"入力シート!L20","v":0},null,{"$error":"#N/A"},{"$error":"#N/A"},{"$error":"#N/A"},null,{"$error":"#N/A"},326.99070256410255,42.4,164.3,-98.5,null,{"$error":"#N/A"},{"$error":"#N/A"},0,0,0,0,"ー",{"$error":"#N/A"},{"$error":"#N/A"},{"$error":"#N/A"},"ー",{"$error":"#VALUE!"},"-",1,0.95,{"$error":"#N/A"},"ー","ー","ー",null,{"$error":"#N/A"},null,90,8820,null,390,779.70354396867356,null,{"$f":"ABS(入力シート!N20)","v":0},{"$f":"入力シート!O20","v":0},0,0,0,0,-55,88.8,17.399999999999999,"OK","ー","OK","ー","OK","ー","ー",null,{"$f":"入力シート!J20","v":0},{"$f":"入力シート!K20","v":0},180,0,0,350,70,{"$error":"#NUM!"},0.66666666666666663,0,{"$error":"#NUM!"},{"$error":"#NUM!"},{"$error":"#NUM!"},0,{"$error":"#NUM!"},{"$error":"#NUM!"},{"$error":"#NUM!"},0,0.66666666666666663,5492,"OK","ー","OK","ー",{"$error":"#NUM!"},"ー","ー"]
[null,{"$f":"入力シート!F21","v":0},{"$f":"入力シート!G21","v":0},{"$f":"入力シート!H21","v":0},{"$f":"入力シート!I21","v":0},{"$f":"入力シート!L21","v":0},null,{"$error":"#N/A"},{"$error":"#N/A"},{"$error":"#N/A"},null,{"$error":"#N/A"},326.99070256410255,42.4,164.3,-98.5,null,{"$error":"#N/A"},{"$error":"#N/A"},0,0,0,0,"ー",{"$error":"#N/A"},{"$error":"#N/A"},{"$error":"#N/A"},"ー",{"$error":"#VALUE!"},"-",1,0.95,{"$error":"#N/A"},"ー","ー","ー",null,{"$error":"#N/A"},null,95,9310,null,420,906.54723590805361,null,{"$f":"ABS(入力シート!N21)","v":0},{"$f":"入力シート!O21","v":0},0,0,0,0,-55,88.8,17.399999999999999,"OK","ー","OK","ー","OK","ー","ー",null,{"$f":"入力シート!J21","v":0},{"$f":"入力シート!K21","v":0},180,0,0,350,70,{"$error":"#NUM!"},0.66666666666666663,0,{"$error":"#NUM!"},{"$error":"#NUM!"},{"$error":"#NUM!"},0,{"$error":"#NUM!"},{"$error":"#NUM!"},{"$error":"#NUM!"},0,0.66666666666666663,5492,"OK","ー","OK","ー",{"$error":"#NUM!"},"ー","ー"]
[null,{"$f":"入力シート!F22","v":0},{"$f":"入力シート!G22","v":0},{"$f":"入力シート!H22","v":0},{"$f":"入力シート!I22","v":0},{"$f":"入力シート!L22","v":0},null,{"$error":"#N/A"},{"$error":"#N/A"},{"$error":"#N/A"},null,{"$error":"#N/A"},326.99070256410255,42.4,164.3,-98.5,null,{"$error":"#N/A"},{"$error":"#N/A"},0,0,0,0,"ー",{"$error":"#N/A"},{"$error":"#N/A"},{"$error":"#N/A"},"ー",{"$f":"ROUNDDOWN(AD13*AE13*AF13*AG13,2)","v":{"$error":"#VALUE!"}},"-",1,0.95,{"$error":"#N/A"},"ー","ー","ー",null,{"$error":"#N/A"},null,100,9800,null,450,1041.7559594904335,null,{"$f":"ABS(入力シート!N22)","v":0},{"$f":"入力シート!O22","v":0},0,0,0,0,-55,88.8,17.399999999999999,"OK","ー","OK","ー","OK","ー","ー",null,{"$f":"入力シート!J22","v":0},{"$f":"入力シート!K22","v":0},180,0,0,350,70,{"$error":"#NUM!"},0.66666666666666663,0,{"$error":"#NUM!"},{"$error":"#NUM!"},{"$error":"#NUM!"},0,{"$error":"#NUM!"},{"$error":"#NUM!"},{"$error":"#NUM!"},0,0.66666666666666663,5492,"OK","ー","OK","ー",{"$error":"#NUM!"},"ー","ー"]
[null,{"$f":"入力シート!F23","v":0},{"$f":"入力シート!G23","v":0},{"$f":"入力シート!H23","v":0},{"$f":"入力シート!I23","v":0},{"$f":"入力シート!L23","v":0},null,{"$error":"#N/A"},{"$error":"#N/A"},{"$error":"#N/A"},null,{"$error":"#N/A"},326.99070256410255,42.4,164.3,-98.5,null,{"$error":"#N/A"},{"$error":"#N/A"},0,0,0,0,"ー",{"$error":"#N/A"},{"$error":"#N/A"},{"$error":"#N/A"},"ー",{"$error":"#VALUE!"},"-",1,0.95,{"$error":"#N/A"},"ー","ー","ー",null,{"$error":"#N/A"},null,105,{"$f":"AN14*98","v":10290},null,null,null,null,{"$f":"ABS(入力シート!N23)","v":0},{"$f":"入力シート!O23","v":0},0,0,0,0,-55,88.8,17.399999999999999,"OK","ー","OK","ー","OK","ー","ー",null,{"$f":"入力シート!J23","v":0},{"$f":"入力シート!K23","v":0},180,0,0,350,70,{"$error":"#NUM!"},0.66666666666666663,0,{"$error":"#NUM!"},{"$error":"#NUM!"},{"$error":"#NUM!"},0,{"$error":"#NUM!"},{"$error":"#NUM!"},{"$error":"#NUM!"},0,0.66666666666666663,5492,"OK","ー","OK","ー",{"$error":"#NUM!"},"ー","ー"]
[null,{"$f":"入力シート!F24","v":0},{"$f":"入力シート!G24","v":0},{"$f":"入力シート!H24","v":0},{"$f":"入力シート!I24","v":0},{"$f":"入力シート!L24","v":0},null,{"$error":"#N/A"},{"$error":"#N/A"},{"$error":"#N/A"},null,{"$error":"#N/A"},326.99070256410255,42.4,164.3,-98.5,null,{"$error":"#N/A"},{"$error":"#N/A"},0,0,0,0,"ー",{"$error":"#N/A"},{"$error":"#N/A"},{"$error":"#N/A"},"ー",{"$error":"#VALUE!"},"-",1,0.95,{"$error":"#N/A"},"ー","ー","ー",null,{"$error":"#N/A"},null,110,10780,null,null,null,null,{"$f":"ABS(入力シート!N24)","v":0},{"$f":"入力シート!O24","v":0},0,0,0,0,-55,88.8,17.399999999999999,"OK","ー","OK","ー","OK","ー","ー",null,{"$f":"入力シート!J24","v":0},{"$f":"入力シート!K24","v":0},180,0,0,350,70,{"$error":"#NUM!"},0.66666666666666663,0,{"$error":"#NUM!"},{"$error":"#NUM!"},{"$error":"#NUM!"},0,{"$error":"#NUM!"},{"$error":"#NUM!"},{"$error":"#NUM!"},0,0.66666666666666663,5492,{"$f":"IF(AX15<=CB15,\"OK\",\"NG\")","v":"OK"},"ー","OK","ー",{"$error":"#NUM!"},"ー","ー"]
[null,{"$f":"入力シート!F25","v":0},{"$f":"入力シート!G25","v":0},{"$f":"入力シート!H25","v":0},{"$f":"入力シート!I25","v":0},{"$f":"入力シート!L25","v":0},null,{"$error":"#N/A"},{"$error":"#N/A"},{"$error":"#N/A"},null,{"$error":"#N/A"},326.99070256410255,42.4,164.3,-98.5,null,{"$error":"#N/A"},{"$error":"#N/A"},0,0,0,0,"ー",{"$error":"#N/A"},{"$error":"#N/A"},{"$error":"#N/A"},"ー",{"$error":"#VALUE!"},"-",1,0.95,{"$error":"#N/A"},"ー","ー","ー",null,{"$error":"#N/A"},null,120,11760,null,null,null,null,{"$f":"ABS(入力シート!N25)","v":0},{"$f":"入力シート!O25","v":0},0,0,0,0,-55,88.8,17.399999999999999,"OK","ー","OK","ー","OK","ー","ー",null,{"$f":"入力シート!J25","v":0},{"$f":"入力シート!K25","v":0},180,0,0,350,70,{"$error":"#NUM!"},0.66666666666666663,0,{"$error":"#NUM!"},{"$error":"#NUM!"},{"$error":"#NUM!"},0,{"$error":"#NUM!"},{"$error":"#NUM!"},{"$error":"#NUM!"},0,0.66666666666666663,5492,"OK","ー","OK","ー",{"$error":"#NUM!"},"ー","ー"]
[null,{"$f":"入力シート!F26","v":0},{"$f":"入力シート!G26","v":0},{"$f":"入力シート!H26","v":0},{"$f":"入力シート!I26","v":0},{"$f":"入力シート!L26","v":0},null,{"$error":"#N/A"},{"$error":"#N/A"},{"$error":"#N/A"},null,{"$error":"#N/A"},326.99070256410255,42.4,164.3,-98.5,null,{"$error":"#N/A"},{"$error":"#N/A"},0,0,0,0,"ー",{"$error":"#N/A"},{"$error":"#N/A"},{"$error":"#N/A"},"ー",{"$error":"#VALUE!"},"-",1,0.95,{"$error":"#N/A"},"ー","ー","ー",null,{"$error":"#N/A"},null,135,13230,null,null,null,null,{"$f":"ABS(入力シート!N26)","v":0},{"$f":"入力シート!O26","v":0},0,0,0,0,-55,88.8,17.399999999999999,"OK","ー","OK","ー","OK","ー","ー",null,{"$f":"入力シート!J26","v":0},{"$f":"入力シート!K26","v":0},180,0,0,350,70,{"$error":"#NUM!"},0.66666666666666663,0,{"$error":"#NUM!"},{"$error":"#NUM!"},{"$error":"#NUM!"},0,{"$error":"#NUM!"},{"$error":"#NUM!"},{"$error":"#NUM!"},0,0.66666666666666663,5492,"OK","ー","OK","ー",{"$error":"#NUM!"},"ー","ー"]
[null,{"$f":"入力シート!F27","v":0},{"$f":"入力シート!G27","v":0},{"$f":"入力シート!H27","v":0},{"$f":"入力シート!I27","v":0},{"$f":"入力シート!L27","v":0},null,{"$f":"((I18*J18)/(I18+J18))*0.85","v":{"$error":"#N/A"}},{"$f":"M18*L18","v":{"$error":"#N/A"}},{"$f":"R18","v":{"$error":"#N/A"}},null,{"$f":"0.0000319*S18+0.665","v":{"$error":"#N/A"}},{"$f":"((P18^2)/((1/N18)+(1/O18)))/1000","v":326.99070256410255},{"$f":"42400/1000","v":42.4},{"$f":"164300/1000","v":164.3},-98.5,null,{"$f":"(((3*S18*T18)/W18))/1000000","v":{"$error":"#N/A"}},{"$f":"VLOOKUP(B18,$AN$5:$AO$21,2,TRUE)","v":{"$error":"#N/A"}},0,0,0,0,"ー",{"$f":"IF(H18>=AL18,H18/120,\"―\")","v":{"$error":"#N/A"}},{"$f":"IF(H18>=AL18,Y18*AC18,\"ー\")","v":{"$error":"#N/A"}},{"$f":"IF(H18>=AL18,Y18/(E18/1000),\"ー\")","v":{"$error":"#N/A"}},"ー",{"$f":"ROUNDDOWN(AD18*AE18*AF18*AG18,2)","v":{"$error":"#VALUE!"}},{"$f":"IF(F18=3,1,IF(F18=2,0.85,IF(F18=1,0.75,\"-\")))","v":"-"},1,0.95,{"$error":"#N/A"},{"$f":"IF(C18=0,\"ー\",I18*AC18)","v":"ー"},"ー","ー",null,{"$f":"VLOOKUP(C18,$AQ$5:$AR$13,2,TRUE)","v":{"$error":"#N/A"}},null,140,13720,null,null,null,null,{"$f":"ABS(入力シート!N27)","v":0},{"$f":"入力シート!O27","v":0},0,0,0,0,-55,88.8,17.399999999999999,"OK","ー","OK","ー","OK","ー","ー",null,{"$f":"入力シート!J27","v":0},{"$f":"入力シート!K27","v":0},180,0,0,350,70,{"$error":"#NUM!"},0.66666666666666663,0,{"$error":"#NUM!"},{"$error":"#NUM!"},{"$error":"#NUM!"},0,{"$error":"#NUM!"},{"$error":"#NUM!"},{"$error":"#NUM!"},0,0.66666666666666663,5492,"OK","ー","OK","ー",{"$error":"#NUM!"},"ー","ー"]
[null,{"$f":"入力シート!F28","v":0},{"$f":"入力シート!G28","v":0},{"$f":"入力シート!H28","v":0},{"$f":"入力シート!I28","v":0},{"$f":"入力シート!L28","v":0},null,{"$error":"#N/A"},{"$error":"#N/A"},{"$error":"#N/A"},null,{"$error":"#N/A"},326.99070256410255,42.4,164.3,-98.5,null,{"$error":"#N/A"},{"$error":"#N/A"},0,0,0,0,"ー",{"$error":"#N/A"},{"$error":"#N/A"},{"$error":"#N/A"},"ー",{"$error":"#VALUE!"},"-",1,0.95,{"$error":"#N/A"},"ー","ー","ー",null,{"$error":"#N/A"},null,150,14700,null,null,null,null,{"$f":"ABS(入力シート!N28)","v":0},{"$f":"入力シート!O28","v":0},0,0,0,0,-55,88.8,17.399999999999999,"OK","ー","OK","ー","OK","ー","ー",null,{"$f":"入力シート!J28","v":0},{"$f":"入力シート!K28","v":0},180,0,0,350,70,{"$error":"#NUM!"},0.66666666666666663,0,{"$error":"#NUM!"},{"$error":"#NUM!"},{"$error":"#NUM!"},0,{"$error":"#NUM!"},{"$error":"#NUM!"},{"$error":"#NUM!"},0,0.66666666666666663,5492,"OK","ー","OK","ー",{"$error":"#NUM!"},"ー","ー"]
[null,{"$f":"入力シート!F29","v":0},{"$f":"入力シート!G29","v":0},{"$f":"入力シート!H29","v":0},{"$f":"入力シート!I29","v":0},{"$f":"入力シート!L29","v":0},null,{"$error":"#N/A"},{"$error":"#N/A"},{"$error":"#N/A"},null,{"$error":"#N/A"},326.99070256410255,42.4,164.3,-98.5,null,{"$error":"#N/A"},{"$error":"#N/A"},0,0,0,0,"ー",{"$error":"#N/A"},{"$error":"#N/A"},{"$error":"#N/A"},"ー",{"$error":"#VALUE!"},"-",1,0.95,{"$error":"#N/A"},"ー","ー","ー",null,{"$error":"#N/A"},null,160,15680,null,null,null,null,{"$f":"ABS(入力シート!N29)","v":0},{"$f":"入力シート!O29","v":0},0,0,0,0,-55,88.8,17.399999999999999,"OK","ー","OK","ー","OK","ー","ー",null,{"$f":"入力シート!J29","v":0},{"$f":"入力シート!K29","v":0},180,0,0,350,70,{"$error":"#NUM!"},0.66666666666666663,0,{"$error":"#NUM!"},{"$error":"#NUM!"},{"$error":"#NUM!"},0,{"$error":"#NUM!"},{"$error":"#NUM!"},{"$error":"#NUM!"},0,0.66666666666666663,5492,"OK","ー","OK","ー",{"$error":"#NUM!"},"ー","ー"]
[null,{"$f":"入力シート!F30","v":0},{"$f":"入力シート!G30","v":0},{"$f":"入力シート!H30","v":0},{"$f":"入力シート!I30","v":0},{"$f":"入力シート!L30","v":0},null,{"$error":"#N/A"},{"$error":"#N/A"},{"$error":"#N/A"},null,{"$error":"#N/A"},326.99070256410255,42.4,164.3,-98.5,null,{"$error":"#N/A"},{"$error":"#N/A"},0,0,0,0,"ー",{"$error":"#N/A"},{"$error":"#N/A"},{"$error":"#N/A"},"ー",{"$error":"#VALUE!"},"-",1,0.95,{"$error":"#N/A"},"ー","ー","ー",null,{"$error":"#N/A"},null,170,16660,null,null,null,null,{"$f":"ABS(入力シート!N30)","v":0},{"$f":"入力シート!O30","v":0},0,0,0,0,-55,88.8,17.399999999999999,"OK","ー","OK","ー","OK","ー","ー",null,{"$f":"入力シート!J30","v":0},{"$f":"入力シート!K30","v":0},180,0,0,350,70,{"$error":"#NUM!"},0.66666666666666663,0,{"$error":"#NUM!"},{"$error":"#NUM!"},{"$error":"#NUM!"},0,{"$error":"#NUM!"},{"$error":"#NUM!"},{"$error":"#NUM!"},0,0.66666666666666663,5492,"OK","ー","OK","ー",{"$error":"#NUM!"},"ー","ー"]
[null,{"$f":"入力シート!F31","v":0},{"$f":"入力シート!G31","v":0},{"$f":"入力シート!H31","v":0},{"$f":"入力シート!I31","v":0},{"$f":"入力シート!L31","v":0},null,{"$f":"((I22*J22)/(I22+J22))*0.85","v":{"$error":"#N/A"}},{"$f":"M22*L22","v":{"$error":"#N/A"}},{"$f":"R22","v":{"$error":"#N/A"}},null,{"$f":"0.0000319*S22+0.665","v":{"$error":"#N/A"}},{"$f":"((P22^2)/((1/N22)+(1/O22)))/1000","v":326.99070256410255},{"$f":"42400/1000","v":42.4},{"$f":"164300/1000","v":164.3},{"$f":"1.05*C22-98.5","v":-98.5},null,{"$f":"(((3*S22*T22)/W22))/1000000","v":{"$error":"#N/A"}},{"$error":"#N/A"},{"$f":"(V22*(U22^3))/12","v":0},{"$f":"C22","v":0},{"$f":"D22","v":0},{"$f":"E22","v":0},"ー",{"$error":"#N/A"},{"$error":"#N/A"},{"$error":"#N/A"},"ー",{"$f":"ROUNDDOWN(AD22*AE22*AF22*AG22,2)","v":{"$error":"#VALUE!"}},{"$f":"IF(F22=3,1,IF(F22=2,0.85,IF(F22=1,0.75,\"-\")))","v":"-"},1,0.95,{"$error":"#N/A"},"ー","ー","ー",null,{"$error":"#N/A"},null,null,null,null,null,null,null,{"$f":"ABS(入力シート!N31)","v":0},{"$f":"入力シート!O31","v":0},0,0,0,0,-55,88.8,17.399999999999999,"OK","ー","OK","ー","OK","ー","ー",null,{"$f":"入力シート!J31","v":0},{"$f":"入力シート!K31","v":0},180,0,0,350,70,{"$error":"#NUM!"},0.66666666666666663,0,{"$error":"#NUM!"},{"$error":"#NUM!"},{"$error":"#NUM!"},0,{"$error":"#NUM!"},{"$error":"#NUM!"},{"$error":"#NUM!"},0,0.66666666666666663,5492,"OK","ー","OK","ー",{"$error":"#NUM!"},"ー","ー"]
[null,{"$f":"入力シート!F32","v":0},{"$f":"入力シート!G32","v":0},{"$f":"入力シート!H32","v":0},{"$f":"入力シート!I32","v":0},{"$f":"入力シート!L32","v":0},null,{"$f":"((I23*J23)/(I23+J23))*0.85","v":{"$error":"#N/A"}},{"$error":"#N/A"},{"$f":"R23","v":{"$error":"#N/A"}},null,{"$f":"0.0000319*S23+0.665","v":{"$error":"#N/A"}},{"$f":"((P23^2)/((1/N23)+(1/O23)))/1000","v":326.99070256410255},{"$f":"42400/1000","v":42.4},{"$f":"164300/1000","v":164.3},-98.5,null,{"$f":"(((3*S23*T23)/W23))/1000000","v":{"$error":"#N/A"}},{"$error":"#N/A"},0,0,0,0,"ー",{"$error":"#N/A"},{"$error":"#N/A"},{"$error":"#N/A"},"ー",{"$f":"ROUNDDOWN(AD23*AE23*AF23*AG23,2)","v":{"$error":"#VALUE!"}},{"$f":"IF(F23=3,1,IF(F23=2,0.85,IF(F23=1,0.75,\"-\")))","v":"-"},1,0.95,{"$error":"#N/A"},"ー","ー","ー",null,{"$error":"#N/A"},null,"柱幅","Fc",null,"使用環境",null,null,{"$f":"ABS(入力シート!N32)","v":0},{"$f":"入力シート!O32","v":0},0,0,0,0,-55,88.8,17.399999999999999,"OK","ー","OK","ー","OK","ー","ー",null,{"$f":"入力シート!J32","v":0},{"$f":"入力シート!K32","v":0},180,0,0,350,70,{"$error":"#NUM!"},0.66666666666666663,0,{"$error":"#NUM!"},{"$error":"#NUM!"},{"$error":"#NUM!"},0,{"$error":"#NUM!"},{"$error":"#NUM!"},{"$error":"#NUM!"},0,0.66666666666666663,5492,"OK","ー","OK","ー",{"$error":"#NUM!"},"ー","ー"]
[null,{"$f":"入力シート!F33","v":0},{"$f":"入力シート!G33","v":0},{"$f":"入力シート!H33","v":0},{"$f":"入力シート!I33","v":0},{"$f":"入力シート!L33","v":0},null,{"$error":"#N/A"},{"$error":"#N/A"},{"$error":"#N/A"},null,{"$error":"#N/A"},326.99070256410255,42.4,164.3,-98.5,null,{"$error":"#N/A"},{"$error":"#N/A"},0,0,0,0,"ー",{"$error":"#N/A"},{"$error":"#N/A"},{"$error":"#N/A"},"ー",{"$error":"#VALUE!"},"-",1,0.95,{"$error":"#N/A"},"ー","ー","ー",null,{"$error":"#N/A"},null,210,21,null,1,null,null,{"$f":"ABS(入力シート!N33)","v":0},{"$f":"入力シート!O33","v":0},0,0,0,0,-55,88.8,17.399999999999999,"OK","ー","OK","ー","OK","ー","ー",null,{"$f":"入力シート!J33","v":0},{"$f":"入力シート!K33","v":0},180,0,0,350,70,{"$error":"#NUM!"},0.66666666666666663,0,{"$error":"#NUM!"},{"$error":"#NUM!"},{"$error":"#NUM!"},0,{"$error":"#NUM!"},{"$error":"#NUM!"},{"$error":"#NUM!"},0,0.66666666666666663,5492,{"$f":"IF(AX24<=CB24,\"OK\",\"NG\")","v":"OK"},"ー","OK","ー",{"$error":"#NUM!"},"ー","ー"]
[null,{"$f":"入力シート!F34","v":0},{"$f":"入力シート!G34","v":0},{"$f":"入力シート!H34","v":0},{"$f":"入力シート!I34","v":0},{"$f":"入力シート!L34","v":0},null,{"$error":"#N/A"},{"$error":"#N/A"},{"$error":"#N/A"},null,{"$error":"#N/A"},326.99070256410255,42.4,164.3,-98.5,null,{"$error":"#N/A"},{"$error":"#N/A"},0,0,0,0,"ー",{"$error":"#N/A"},{"$error":"#N/A"},{"$error":"#N/A"},"ー",{"$error":"#VALUE!"},"-",1,0.95,{"$error":"#N/A"},"ー","ー","ー",null,{"$error":"#N/A"},null,{"$f":"AN24+30","v":240},{"$f":"AO24+3","v":24},null,2,null,null,{"$f":"ABS(入力シート!N34)","v":0},{"$f":"入力シート!O34","v":0},0,0,0,0,-55,88.8,17.399999999999999,"OK","ー","OK","ー","OK","ー","ー",null,{"$f":"入力シート!J34","v":0},{"$f":"入力シート!K34","v":0},180,0,0,350,70,{"$error":"#NUM!"},0.66666666666666663,0,{"$error":"#NUM!"},{"$error":"#NUM!"},{"$error":"#NUM!"},0,{"$error":"#NUM!"},{"$error":"#NUM!"},{"$error":"#NUM!"},0,0.66666666666666663,5492,"OK","ー","OK","ー",{"$error":"#NUM!"},"ー","ー"]
[null,{"$f":"入力シート!F35","v":0},{"$f":"入力シート!G35","v":0},{"$f":"入力シート!H35","v":0},{"$f":"入力シート!I35","v":0},{"$f":"入力シート!L35","v":0},null,{"$error":"#N/A"},{"$error":"#N/A"},{"$error":"#N/A"},null,{"$error":"#N/A"},326.99070256410255,42.4,164.3,-98.5,null,{"$error":"#N/A"},{"$error":"#N/A"},0,0,0,0,"ー",{"$error":"#N/A"},{"$error":"#N/A"},{"$error":"#N/A"},"ー",{"$error":"#VALUE!"},"-",1,0.95,{"$error":"#N/A"},"ー","ー","ー",null,{"$error":"#N/A"},null,{"$f":"AN25+30","v":270},{"$f":"AO25+3","v":27},null,3,null,null,{"$f":"ABS(入力シート!N35)","v":0},{"$f":"入力シート!O35","v":0},0,0,0,0,-55,88.8,17.399999999999999,"OK","ー","OK","ー","OK","ー","ー",null,{"$f":"入力シート!J35","v":0},{"$f":"入力シート!K35","v":0},180,0,0,350,70,{"$error":"#NUM!"},0.66666666666666663,0,{"$error":"#NUM!"},{"$error":"#NUM!"},{"$error":"#NUM!"},0,{"$error":"#NUM!"},{"$error":"#NUM!"},{"$error":"#NUM!"},0,0.66666666666666663,5492,"OK","ー","OK","ー",{"$error":"#NUM!"},"ー","ー"]
[null,{"$f":"入力シート!F36","v":0},{"$f":"入力シート!G36","v":0},{"$f":"入力シート!H36","v":0},{"$f":"入力シート!I36","v":0},{"$f":"入力シート!L36","v":0},null,{"$error":"#N/A"},{"$error":"#N/A"},{"$error":"#N/A"},null,{"$error":"#N/A"},326.99070256410255,42.4,164.3,-98.5,null,{"$error":"#N/A"},{"$error":"#N/A"},0,0,0,0,"ー",{"$error":"#N/A"},{"$error":"#N/A"},{"$error":"#N/A"},"ー",{"$error":"#VALUE!"},"-",1,0.95,{"$error":"#N/A"},"ー","ー","ー",null,{"$error":"#N/A"},null,300,30,null,null,null,null,{"$f":"ABS(入力シート!N36)","v":0},{"$f":"入力シート!O36","v":0},0,0,0,0,-55,88.8,17.399999999999999,"OK","ー","OK","ー","OK","ー","ー",null,{"$f":"入力シート!J36","v":0},{"$f":"入力シート!K36","v":0},180,0,0,350,70,{"$error":"#NUM!"},0.66666666666666663,0,{"$error":"#NUM!"},{"$error":"#NUM!"},{"$error":"#NUM!"},0,{"$error":"#NUM!"},{"$error":"#NUM!"},{"$error":"#NUM!"},0,0.66666666666666663,5492,"OK","ー","OK","ー",{"$error":"#NUM!"},"ー","ー"]
[null,{"$f":"入力シート!F37","v":0},{"$f":"入力シート!G37","v":0},{"$f":"入力シート!H37","v":0},{"$f":"入力シート!I37","v":0},{"$f":"入力シート!L37","v":0},null,{"$error":"#N/A"},{"$error":"#N/A"},{"$error":"#N/A"},null,{"$error":"#N/A"},326.99070256410255,42.4,164.3,-98.5,null,{"$error":"#N/A"},{"$error":"#N/A"},0,0,0,0,"ー",{"$error":"#N/A"},{"$error":"#N/A"},{"$error":"#N/A"},"ー",{"$error":"#VALUE!"},"-",1,0.95,{"$error":"#N/A"},"ー","ー","ー",null,{"$error":"#N/A"},null,330,33,null,null,null,null,{"$f":"ABS(入力シート!N37)","v":0},{"$f":"入力シート!O37","v":0},0,0,0,0,-55,88.8,17.399999999999999,"OK","ー","OK","ー","OK","ー","ー",null,{"$f":"入力シート!J37","v":0},{"$f":"入力シート!K37","v":0},180,0,0,350,70,{"$error":"#NUM!"},0.66666666666666663,0,{"$error":"#NUM!"},{"$error":"#NUM!"},{"$error":"#NUM!"},0,{"$error":"#NUM!"},{"$error":"#NUM!"},{"$error":"#NUM!"},0,0.66666666666666663,5492,"OK","ー","OK","ー",{"$error":"#NUM!"},"ー","ー"]
[null,{"$f":"入力シート!F38","v":0},{"$f":"入力シート!G38","v":0},{"$f":"入力シート!H38","v":0},{"$f":"入力シート!I38","v":0},{"$f":"入力シート!L38","v":0},null,{"$error":"#N/A"},{"$error":"#N/A"},{"$error":"#N/A"},null,{"$error":"#N/A"},326.99070256410255,42.4,164.3,-98.5,null,{"$error":"#N/A"},{"$error":"#N/A"},0,0,0,0,"ー",{"$error":"#N/A"},{"$error":"#N/A"},{"$error":"#N/A"},"ー",{"$error":"#VALUE!"},"-",1,0.95,{"$error":"#N/A"},"ー","ー","ー",null,{"$error":"#N/A"},null,360,36,null,null,null,null,{"$f":"ABS(入力シート!N38)","v":0},{"$f":"入力シート!O38","v":0},0,0,0,0,-55,88.8,17.399999999999999,"OK","ー","OK","ー","OK","ー","ー",null,{"$f":"入力シート!J38","v":0},{"$f":"入力シート!K38","v":0},180,0,0,350,70,{"$error":"#NUM!"},0.66666666666666663,0,{"$error":"#NUM!"},{"$error":"#NUM!"},{"$error":"#NUM!"},0,{"$error":"#NUM!"},{"$error":"#NUM!"},{"$error":"#NUM!"},0,0.66666666666666663,5492,"OK","ー","OK","ー",{"$error":"#NUM!"},"ー","ー"]
[null,{"$f":"入力シート!F39","v":0},{"$f":"入力シート!G39","v":0},{"$f":"入力シート!H39","v":0},{"$f":"入力シート!I39","v":0},{"$f":"入力シート!L39","v":0},null,{"$error":"#N/A"},{"$error":"#N/A"},{"$error":"#N/A"},null,{"$error":"#N/A"},326.99070256410255,42.4,164.3,-98.5,null,{"$error":"#N/A"},{"$error":"#N/A"},0,0,0,0,"ー",{"$error":"#N/A"},{"$error":"#N/A"},{"$error":"#N/A"},"ー",{"$error":"#VALUE!"},"-",1,0.95,{"$error":"#N/A"},"ー","ー","ー",null,{"$error":"#N/A"},null,390,39,null,null,null,null,{"$f":"ABS(入力シート!N39)","v":0},{"$f":"入力シート!O39","v":0},0,0,0,0,-55,88.8,17.399999999999999,"OK","ー","OK","ー","OK","ー","ー",null,{"$f":"入力シート!J39","v":0},{"$f":"入力シート!K39","v":0},180,0,0,350,70,{"$error":"#NUM!"},0.66666666666666663,0,{"$error":"#NUM!"},{"$error":"#NUM!"},{"$error":"#NUM!"},0,{"$error":"#NUM!"},{"$error":"#NUM!"},{"$error":"#NUM!"},0,0.66666666666666663,5492,"OK","ー","OK","ー",{"$error":"#NUM!"},"ー","ー"]
[null,{"$f":"入力シート!F40","v":0},{"$f":"入力シート!G40","v":0},{"$f":"入力シート!H40","v":0},{"$f":"入力シート!I40","v":0},{"$f":"入力シート!L40","v":0},null,{"$error":"#N/A"},{"$error":"#N/A"},{"$error":"#N/A"},null,{"$error":"#N/A"},326.99070256410255,42.4,164.3,-98.5,null,{"$error":"#N/A"},{"$error":"#N/A"},0,0,0,0,"ー",{"$error":"#N/A"},{"$error":"#N/A"},{"$error":"#N/A"},"ー",{"$error":"#VALUE!"},"-",1,0.95,{"$error":"#N/A"},"ー","ー","ー",null,{"$error":"#N/A"},null,420,42,null,null,null,null,{"$f":"ABS(入力シート!N40)","v":0},{"$f":"入力シート!O40","v":0},0,0,0,0,-55,88.8,17.399999999999999,"OK","ー","OK","ー","OK","ー","ー",null,{"$f":"入力シート!J40","v":0},{"$f":"入力シート!K40","v":0},180,0,0,350,70,{"$error":"#NUM!"},0.66666666666666663,0,{"$error":"#NUM!"},{"$error":"#NUM!"},{"$error":"#NUM!"},0,{"$error":"#NUM!"},{"$error":"#NUM!"},{"$error":"#NUM!"},0,0.66666666666666663,5492,"OK","ー","OK","ー",{"$error":"#NUM!"},"ー","ー"]
[null,{"$f":"入力シート!F41","v":0},{"$f":"入力シート!G41","v":0},{"$f":"入力シート!H41","v":0},{"$f":"入力シート!I41","v":0},{"$f":"入力シート!L41","v":0},null,{"$error":"#N/A"},{"$error":"#N/A"},{"$error":"#N/A"},null,{"$error":"#N/A"},326.99070256410255,42.4,164.3,-98.5,null,{"$error":"#N/A"},{"$error":"#N/A"},0,0,0,0,"ー",{"$error":"#N/A"},{"$error":"#N/A"},{"$error":"#N/A"},"ー",{"$error":"#VALUE!"},"-",1,0.95,{"$error":"#N/A"},"ー","ー","ー",null,{"$error":"#N/A"},null,{"$f":"AN31+30","v":450},45,null,null,null,null,{"$f":"ABS(入力シート!N41)","v":0},{"$f":"入力シート!O41","v":0},0,0,0,0,-55,88.8,17.399999999999999,"OK","ー","OK","ー","OK","ー","ー",null,{"$f":"入力シート!J41","v":0},{"$f":"入力シート!K41","v":0},180,0,0,350,70,{"$error":"#NUM!"},0.66666666666666663,0,{"$error":"#NUM!"},{"$error":"#NUM!"},{"$error":"#NUM!"},0,{"$error":"#NUM!"},{"$error":"#NUM!"},{"$error":"#NUM!"},0,0.66666666666666663,5492,"OK","ー","OK","ー",{"$error":"#NUM!"},"ー","ー"]
[null,{"$f":"入力シート!F42","v":0},{"$f":"入力シート!G42","v":0},{"$f":"入力シート!H42","v":0},{"$f":"入力シート!I42","v":0},{"$f":"入力シート!L42","v":0},null,{"$error":"#N/A"},{"$error":"#N/A"},{"$error":"#N/A"},null,{"$error":"#N/A"},326.99070256410255,42.4,164.3,-98.5,null,{"$error":"#N/A"},{"$error":"#N/A"},0,0,0,0,"ー",{"$error":"#N/A"},{"$error":"#N/A"},{"$error":"#N/A"},"ー",{"$error":"#VALUE!"},"-",1,0.95,{"$error":"#N/A"},"ー","ー","ー",null,{"$error":"#N/A"},null,null,null,null,null,null,null,{"$f":"ABS(入力シート!N42)","v":0},{"$f":"入力シート!O42","v":0},0,0,0,0,-55,88.8,17.399999999999999,"OK","ー","OK","ー","OK","ー","ー",null,{"$f":"入力シート!J42","v":0},{"$f":"入力シート!K42","v":0},180,0,0,350,70,{"$error":"#NUM!"},0.66666666666666663,0,{"$error":"#NUM!"},{"$error":"#NUM!"},{"$error":"#NUM!"},0,{"$error":"#NUM!"},{"$error":"#NUM!"},{"$error":"#NUM!"},0,0.66666666666666663,5492,"OK","ー","OK","ー",{"$error":"#NUM!"},"ー","ー"]
[null,{"$f":"入力シート!F43","v":0},{"$f":"入力シート!G43","v":0},{"$f":"入力シート!H43","v":0},{"$f":"入力シート!I43","v":0},{"$f":"入力シート!L43","v":0},null,{"$error":"#N/A"},{"$error":"#N/A"},{"$error":"#N/A"},null,{"$error":"#N/A"},326.99070256410255,42.4,164.3,-98.5,null,{"$error":"#N/A"},{"$error":"#N/A"},0,0,0,0,"ー",{"$error":"#N/A"},{"$error":"#N/A"},{"$error":"#N/A"},"ー",{"$error":"#VALUE!"},"-",1,0.95,{"$error":"#N/A"},"ー","ー","ー",null,{"$error":"#N/A"},null,null,null,null,null,null,null,{"$f":"ABS(入力シート!N43)","v":0},{"$f":"入力シート!O43","v":0},0,0,0,0,-55,88.8,17.399999999999999,"OK","ー","OK","ー","OK","ー","ー",null,{"$f":"入力シート!J43","v":0},{"$f":"入力シート!K43","v":0},180,0,0,350,70,{"$error":"#NUM!"},0.66666666666666663,0,{"$error":"#NUM!"},{"$error":"#NUM!"},{"$error":"#NUM!"},0,{"$error":"#NUM!"},{"$error":"#NUM!"},{"$error":"#NUM!"},0,0.66666666666666663,5492,"OK","ー","OK","ー",{"$error":"#NUM!"},"ー","ー"]
[null,{"$f":"入力シート!F44","v":0},{"$f":"入力シート!G44","v":0},{"$f":"入力シート!H44","v":0},{"$f":"入力シート!I44","v":0},{"$f":"入力シート!L44","v":0},null,{"$error":"#N/A"},{"$error":"#N/A"},{"$error":"#N/A"},null,{"$error":"#N/A"},326.99070256410255,42.4,164.3,-98.5,null,{"$error":"#N/A"},{"$error":"#N/A"},0,0,0,0,"ー",{"$error":"#N/A"},{"$error":"#N/A"},{"$error":"#N/A"},"ー",{"$error":"#VALUE!"},"-",1,0.95,{"$error":"#N/A"},"ー","ー","ー",null,{"$error":"#N/A"},null,null,null,null,null,null,null,{"$f":"ABS(入力シート!N44)","v":0},{"$f":"入力シート!O44","v":0},0,0,0,0,-55,88.8,17.399999999999999,"OK","ー","OK","ー","OK","ー","ー",null,{"$f":"入力シート!J44","v":0},{"$f":"入力シート!K44","v":0},180,0,0,350,70,{"$error":"#NUM!"},0.66666666666666663,0,{"$error":"#NUM!"},{"$error":"#NUM!"},{"$error":"#NUM!"},0,{"$error":"#NUM!"},{"$error":"#NUM!"},{"$error":"#NUM!"},0,0.66666666666666663,5492,"OK","ー","OK","ー",{"$error":"#NUM!"},"ー","ー"]
[null,{"$f":"入力シート!F45","v":0},{"$f":"入力シート!G45","v":0},{"$f":"入力シート!H45","v":0},{"$f":"入力シート!I45","v":0},{"$f":"入力シート!L45","v":0},null,{"$error":"#N/A"},{"$error":"#N/A"},{"$error":"#N/A"},null,{"$error":"#N/A"},326.99070256410255,42.4,164.3,-98.5,null,{"$error":"#N/A"},{"$error":"#N/A"},0,0,0,0,"ー",{"$error":"#N/A"},{"$error":"#N/A"},{"$error":"#N/A"},"ー",{"$error":"#VALUE!"},"-",1,0.95,{"$error":"#N/A"},"ー","ー","ー",null,{"$error":"#N/A"},null,null,null,null,null,null,null,{"$f":"ABS(入力シート!N45)","v":0},{"$f":"入力シート!O45","v":0},0,0,0,0,-55,88.8,17.399999999999999,"OK","ー","OK","ー","OK","ー","ー",null,{"$f":"入力シート!J45","v":0},{"$f":"入力シート!K45","v":0},180,0,0,350,70,{"$error":"#NUM!"},0.66666666666666663,0,{"$error":"#NUM!"},{"$error":"#NUM!"},{"$error":"#NUM!"},0,{"$error":"#NUM!"},{"$error":"#NUM!"},{"$error":"#NUM!"},0,0.66666666666666663,5492,"OK","ー","OK","ー",{"$error":"#NUM!"},"ー","ー"]
[null,{"$f":"入力シート!F46","v":0},{"$f":"入力シート!G46","v":0},{"$f":"入力シート!H46","v":0},{"$f":"入力シート!I46","v":0},{"$f":"入力シート!L46","v":0},null,{"$error":"#N/A"},{"$error":"#N/A"},{"$error":"#N/A"},null,{"$error":"#N/A"},326.99070256410255,42.4,164.3,-98.5,null,{"$error":"#N/A"},{"$error":"#N/A"},0,0,0,0,"ー",{"$error":"#N/A"},{"$error":"#N/A"},{"$error":"#N/A"},"ー",{"$error":"#VALUE!"},"-",1,0.95,{"$error":"#N/A"},"ー","ー","ー",null,{"$error":"#N/A"},null,null,null,null,null,null,null,{"$f":"ABS(入力シート!N46)","v":0},{"$f":"入力シート!O46","v":0},0,{"$f":"(AT37*(E37/1000))/(P37/1000)","v":0},0,0,{"$f":"IF(F37=3,63.2,IF(F37=2,63.2,55))*-1","v":-55},{"$f":"IF(F37=3,127.8,IF(F37=2,107.6,88.8))","v":88.8},{"$f":"IF(F37=3,23.1,IF(F37=2,21,17.4))","v":17.399999999999999},"OK","ー","OK","ー","OK","ー","ー",null,{"$f":"入力シート!J46","v":0},{"$f":"入力シート!K46","v":0},180,0,0,350,70,{"$error":"#NUM!"},0.66666666666666663,0,{"$error":"#NUM!"},{"$error":"#NUM!"},{"$error":"#NUM!"},0,{"$error":"#NUM!"},{"$error":"#NUM!"},{"$error":"#NUM!"},{"$f":"CC37*BK37*CD37/1000","v":0},0.66666666666666663,5492,"OK","ー","OK","ー",{"$error":"#NUM!"},"ー","ー"]
[null,{"$f":"入力シート!F47","v":0},{"$f":"入力シート!G47","v":0},{"$f":"入力シート!H47","v":0},{"$f":"入力シート!I47","v":0},{"$f":"入力シート!L47","v":0},null,{"$error":"#N/A"},{"$error":"#N/A"},{"$error":"#N/A"},null,{"$error":"#N/A"},326.99070256410255,42.4,164.3,-98.5,null,{"$error":"#N/A"},{"$error":"#N/A"},0,0,0,0,"ー",{"$error":"#N/A"},{"$error":"#N/A"},{"$error":"#N/A"},"ー",{"$error":"#VALUE!"},"-",1,0.95,{"$error":"#N/A"},"ー","ー","ー",null,{"$error":"#N/A"},null,null,null,null,null,null,null,{"$f":"ABS(入力シート!N47)","v":0},{"$f":"入力シート!O47","v":0},0,0,0,0,-55,88.8,17.399999999999999,"OK","ー","OK","ー","OK","ー","ー",null,{"$f":"入力シート!J47","v":0},{"$f":"入力シート!K47","v":0},180,0,0,350,70,{"$error":"#NUM!"},0.66666666666666663,0,{"$error":"#NUM!"},{"$error":"#NUM!"},{"$error":"#NUM!"},0,{"$error":"#NUM!"},{"$error":"#NUM!"},{"$error":"#NUM!"},0,0.66666666666666663,5492,"OK","ー","OK","ー",{"$error":"#NUM!"},"ー","ー"]
[null,{"$f":"入力シート!F48","v":0},{"$f":"入力シート!G48","v":0},{"$f":"入力シート!H48","v":0},{"$f":"入力シート!I48","v":0},{"$f":"入力シート!L48","v":0},null,{"$f":"((I39*J39)/(I39+J39))*0.85","v":{"$error":"#N/A"}},{"$f":"M39*L39","v":{"$error":"#N/A"}},{"$f":"R39","v":{"$error":"#N/A"}},null,{"$f":"0.0000319*S39+0.665","v":{"$error":"#N/A"}},{"$f":"((P39^2)/((1/N39)+(1/O39)))/1000","v":326.99070256410255},{"$f":"42400/1000","v":42.4},{"$f":"164300/1000","v":164.3},{"$f":"1.05*C39-98.5","v":-98.5},null,{"$f":"(((3*S39*T39)/W39))/1000000","v":{"$error":"#N/A"}},{"$error":"#N/A"},{"$f":"(V39*(U39^3))/12","v":0},{"$f":"C39","v":0},{"$f":"D39","v":0},{"$f":"E39","v":0},"ー",{"$error":"#N/A"},{"$error":"#N/A"},{"$error":"#N/A"},"ー",{"$f":"ROUNDDOWN(AD39*AE39*AF39*AG39,2)","v":{"$error":"#VALUE!"}},{"$f":"IF(F39=3,1,IF(F39=2,0.85,IF(F39=1,0.75,\"-\")))","v":"-"},1,0.95,{"$error":"#N/A"},"ー","ー","ー",null,{"$error":"#N/A"},null,null,null,null,null,null,null,{"$f":"ABS(入力シート!N48)","v":0},{"$f":"入力シート!O48","v":0},0,0,0,0,-55,88.8,17.399999999999999,"OK","ー","OK","ー","OK","ー","ー",null,{"$f":"入力シート!J48","v":0},{"$f":"入力シート!K48","v":0},180,0,0,350,70,{"$error":"#NUM!"},0.66666666666666663,0,{"$error":"#NUM!"},{"$error":"#NUM!"},{"$error":"#NUM!"},0,{"$error":"#NUM!"},{"$error":"#NUM!"},{"$error":"#NUM!"},0,0.66666666666666663,5492,"OK","ー","OK","ー",{"$error":"#NUM!"},"ー","ー"]
[null,{"$f":"入力シート!F49","v":0},{"$f":"入力シート!G49","v":0},{"$f":"入力シート!H49","v":0},{"$f":"入力シート!I49","v":0},{"$f":"入力シート!L49","v":0},null,{"$f":"((I40*J40)/(I40+J40))*0.85","v":{"$error":"#N/A"}},{"$error":"#N/A"},{"$f":"R40","v":{"$error":"#N/A"}},null,{"$f":"0.0000319*S40+0.665","v":{"$error":"#N/A"}},{"$f":"((P40^2)/((1/N40)+(1/O40)))/1000","v":326.99070256410255},{"$f":"42400/1000","v":42.4},{"$f":"164300/1000","v":164.3},-98.5,null,{"$f":"(((3*S40*T40)/W40))/1000000","v":{"$error":"#N/A"}},{"$error":"#N/A"},0,0,0,0,"ー",{"$error":"#N/A"},{"$error":"#N/A"},{"$error":"#N/A"},"ー",{"$f":"ROUNDDOWN(AD40*AE40*AF40*AG40,2)","v":{"$error":"#VALUE!"}},{"$f":"IF(F40=3,1,IF(F40=2,0.85,IF(F40=1,0.75,\"-\")))","v":"-"},1,0.95,{"$error":"#N/A"},"ー","ー","ー",null,{"$error":"#N/A"},null,null,null,null,null,null,null,{"$f":"ABS(入力シート!N49)","v":0},{"$f":"入力シート!O49","v":0},0,0,0,0,-55,88.8,17.399999999999999,"OK","ー","OK","ー","OK","ー","ー",null,{"$f":"入力シート!J49","v":0},{"$f":"入力シート!K49","v":0},180,0,0,350,70,{"$error":"#NUM!"},0.66666666666666663,0,{"$error":"#NUM!"},{"$error":"#NUM!"},{"$error":"#NUM!"},0,{"$error":"#NUM!"},{"$error":"#NUM!"},{"$error":"#NUM!"},0,0.66666666666666663,5492,"OK","ー","OK","ー",{"$error":"#NUM!"},"ー","ー"]
[null,{"$f":"入力シート!F50","v":0},{"$f":"入力シート!G50","v":0},{"$f":"入力シート!H50","v":0},{"$f":"入力シート!I50","v":0},{"$f":"入力シート!L50","v":0},null,{"$error":"#N/A"},{"$error":"#N/A"},{"$error":"#N/A"},null,{"$error":"#N/A"},326.99070256410255,42.4,164.3,-98.5,null,{"$error":"#N/A"},{"$error":"#N/A"},0,0,0,0,"ー",{"$error":"#N/A"},{"$error":"#N/A"},{"$error":"#N/A"},"ー",{"$error":"#VALUE!"},"-",1,0.95,{"$error":"#N/A"},"ー","ー","ー",null,{"$error":"#N/A"},null,null,null,null,null,null,null,{"$f":"ABS(入力シート!N50)","v":0},{"$f":"入力シート!O50","v":0},0,0,0,0,-55,88.8,17.399999999999999,"OK","ー","OK","ー","OK","ー","ー",null,{"$f":"入力シート!J50","v":0},{"$f":"入力シート!K50","v":0},180,0,0,350,70,{"$error":"#NUM!"},0.66666666666666663,0,{"$error":"#NUM!"},{"$error":"#NUM!"},{"$error":"#NUM!"},0,{"$error":"#NUM!"},{"$error":"#NUM!"},{"$error":"#NUM!"},0,0.66666666666666663,5492,"OK","ー","OK","ー",{"$error":"#NUM!"},"ー","ー"]
[null,{"$f":"入力シート!F51","v":0},{"$f":"入力シート!G51","v":0},{"$f":"入力シート!H51","v":0},{"$f":"入力シート!I51","v":0},{"$f":"入力シート!L51","v":0},null,{"$error":"#N/A"},{"$error":"#N/A"},{"$error":"#N/A"},null,{"$error":"#N/A"},326.99070256410255,42.4,164.3,-98.5,null,{"$error":"#N/A"},{"$error":"#N/A"},0,0,0,0,"ー",{"$error":"#N/A"},{"$error":"#N/A"},{"$error":"#N/A"},"ー",{"$error":"#VALUE!"},"-",1,0.95,{"$error":"#N/A"},"ー","ー","ー",null,{"$error":"#N/A"},null,null,null,null,null,null,null,{"$f":"ABS(入力シート!N51)","v":0},{"$f":"入力シート!O51","v":0},0,0,0,0,-55,88.8,17.399999999999999,"OK","ー","OK","ー","OK","ー","ー",null,{"$f":"入力シート!J51","v":0},{"$f":"入力シート!K51","v":0},180,0,0,350,70,{"$error":"#NUM!"},0.66666666666666663,0,{"$error":"#NUM!"},{"$error":"#NUM!"},{"$error":"#NUM!"},0,{"$error":"#NUM!"},{"$error":"#NUM!"},{"$error":"#NUM!"},0,0.66666666666666663,5492,"OK","ー","OK","ー",{"$error":"#NUM!"},"ー","ー"]
[null,{"$f":"入力シート!F52","v":0},{"$f":"入力シート!G52","v":0},{"$f":"入力シート!H52","v":0},{"$f":"入力シート!I52","v":0},{"$f":"入力シート!L52","v":0},null,{"$error":"#N/A"},{"$error":"#N/A"},{"$error":"#N/A"},null,{"$error":"#N/A"},326.99070256410255,42.4,164.3,-98.5,null,{"$error":"#N/A"},{"$error":"#N/A"},0,0,0,0,"ー",{"$error":"#N/A"},{"$error":"#N/A"},{"$error":"#N/A"},"ー",{"$error":"#VALUE!"},"-",1,0.95,{"$error":"#N/A"},"ー","ー","ー",null,{"$error":"#N/A"},null,null,null,null,null,null,null,{"$f":"ABS(入力シート!N52)","v":0},{"$f":"入力シート!O52","v":0},0,0,0,0,-55,88.8,17.399999999999999,"OK","ー","OK","ー","OK","ー","ー",null,{"$f":"入力シート!J52","v":0},{"$f":"入力シート!K52","v":0},180,0,0,350,70,{"$error":"#NUM!"},0.66666666666666663,0,{"$error":"#NUM!"},{"$error":"#NUM!"},{"$error":"#NUM!"},0,{"$error":"#NUM!"},{"$error":"#NUM!"},{"$error":"#NUM!"},0,0.66666666666666663,5492,"OK","ー","OK","ー",{"$error":"#NUM!"},"ー","ー"]
[null,{"$f":"入力シート!F53","v":0},{"$f":"入力シート!G53","v":0},{"$f":"入力シート!H53","v":0},{"$f":"入力シート!I53","v":0},{"$f":"入力シート!L53","v":0},null,{"$error":"#N/A"},{"$error":"#N/A"},{"$error":"#N/A"},null,{"$error":"#N/A"},326.99070256410255,42.4,164.3,-98.5,null,{"$error":"#N/A"},{"$error":"#N/A"},0,0,0,0,"ー",{"$error":"#N/A"},{"$error":"#N/A"},{"$error":"#N/A"},"ー",{"$error":"#VALUE!"},"-",1,0.95,{"$error":"#N/A"},"ー","ー","ー",null,{"$error":"#N/A"},null,null,null,null,null,null,null,{"$f":"ABS(入力シート!N53)","v":0},{"$f":"入力シート!O53","v":0},0,0,0,0,-55,88.8,17.399999999999999,"OK","ー","OK","ー","OK","ー","ー",null,{"$f":"入力シート!J53","v":0},{"$f":"入力シート!K53","v":0},180,0,0,350,70,{"$error":"#NUM!"},0.66666666666666663,0,{"$error":"#NUM!"},{"$error":"#NUM!"},{"$error":"#NUM!"},0,{"$error":"#NUM!"},{"$error":"#NUM!"},{"$error":"#NUM!"},0,0.66666666666666663,5492,"OK","ー","OK","ー",{"$error":"#NUM!"},"ー","ー"]
[null,{"$f":"入力シート!F54","v":0},{"$f":"入力シート!G54","v":0},{"$f":"入力シート!H54","v":0},{"$f":"入力シート!I54","v":0},{"$f":"入力シート!L54","v":0},null,{"$error":"#N/A"},{"$error":"#N/A"},{"$error":"#N/A"},null,{"$error":"#N/A"},326.99070256410255,42.4,164.3,-98.5,null,{"$error":"#N/A"},{"$error":"#N/A"},0,0,0,0,"ー",{"$error":"#N/A"},{"$error":"#N/A"},{"$error":"#N/A"},"ー",{"$error":"#VALUE!"},"-",1,0.95,{"$error":"#N/A"},"ー","ー","ー",null,{"$error":"#N/A"},null,null,null,null,null,null,null,{"$f":"ABS(入力シート!N54)","v":0},{"$f":"入力シート!O54","v":0},0,0,0,0,-55,88.8,17.399999999999999,"OK","ー","OK","ー","OK","ー","ー",null,{"$f":"入力シート!J54","v":0},{"$f":"入力シート!K54","v":0},180,0,0,350,70,{"$error":"#NUM!"},0.66666666666666663,0,{"$error":"#NUM!"},{"$error":"#NUM!"},{"$error":"#NUM!"},0,{"$error":"#NUM!"},{"$error":"#NUM!"},{"$error":"#NUM!"},0,0.66666666666666663,5492,"OK","ー","OK","ー",{"$error":"#NUM!"},"ー","ー"]
[null,{"$f":"入力シート!F55","v":0},{"$f":"入力シート!G55","v":0},{"$f":"入力シート!H55","v":0},{"$f":"入力シート!I55","v":0},{"$f":"入力シート!L55","v":0},null,{"$error":"#N/A"},{"$error":"#N/A"},{"$error":"#N/A"},null,{"$error":"#N/A"},326.99070256410255,42.4,164.3,-98.5,null,{"$error":"#N/A"},{"$error":"#N/A"},0,0,0,0,"ー",{"$error":"#N/A"},{"$error":"#N/A"},{"$error":"#N/A"},"ー",{"$error":"#VALUE!"},"-",1,0.95,{"$error":"#N/A"},"ー","ー","ー",null,{"$error":"#N/A"},null,null,null,null,null,null,null,{"$f":"ABS(入力シート!N55)","v":0},{"$f":"入力シート!O55","v":0},0,0,0,0,-55,88.8,17.399999999999999,"OK","ー","OK","ー","OK","ー","ー",null,{"$f":"入力シート!J55","v":0},{"$f":"入力シート!K55","v":0},180,0,0,350,70,{"$error":"#NUM!"},0.66666666666666663,0,{"$error":"#NUM!"},{"$error":"#NUM!"},{"$error":"#NUM!"},0,{"$error":"#NUM!"},{"$error":"#NUM!"},{"$error":"#NUM!"},0,0.66666666666666663,5492,"OK","ー","OK","ー",{"$error":"#NUM!"},"ー","ー"]
[null,{"$f":"入力シート!F56","v":0},{"$f":"入力シート!G56","v":0},{"$f":"入力シート!H56","v":0},{"$f":"入力シート!I56","v":0},{"$f":"入力シート!L56","v":0},null,{"$error":"#N/A"},{"$error":"#N/A"},{"$error":"#N/A"},null,{"$error":"#N/A"},326.99070256410255,42.4,164.3,-98.5,null,{"$error":"#N/A"},{"$error":"#N/A"},0,0,0,0,"ー",{"$error":"#N/A"},{"$error":"#N/A"},{"$error":"#N/A"},"ー",{"$error":"#VALUE!"},"-",1,0.95,{"$error":"#N/A"},"ー","ー","ー",null,{"$error":"#N/A"},null,null,null,null,null,null,null,{"$f":"ABS(入力シート!N56)","v":0},{"$f":"入力シート!O56","v":0},0,0,0,0,-55,88.8,17.399999999999999,"OK","ー","OK","ー","OK","ー","ー",null,{"$f":"入力シート!J56","v":0},{"$f":"入力シート!K56","v":0},180,0,0,350,70,{"$error":"#NUM!"},0.66666666666666663,0,{"$error":"#NUM!"},{"$error":"#NUM!"},{"$error":"#NUM!"},0,{"$error":"#NUM!"},{"$error":"#NUM!"},{"$error":"#NUM!"},0,0.66666666666666663,5492,"OK","ー","OK","ー",{"$error":"#NUM!"},"ー","ー"]
[null,{"$f":"入力シート!F57","v":0},{"$f":"入力シート!G57","v":0},{"$f":"入力シート!H57","v":0},{"$f":"入力シート!I57","v":0},{"$f":"入力シート!L57","v":0},null,{"$error":"#N/A"},{"$error":"#N/A"},{"$error":"#N/A"},null,{"$error":"#N/A"},326.99070256410255,42.4,164.3,-98.5,null,{"$error":"#N/A"},{"$error":"#N/A"},0,0,0,0,"ー",{"$error":"#N/A"},{"$error":"#N/A"},{"$error":"#N/A"},"ー",{"$error":"#VALUE!"},"-",1,0.95,{"$error":"#N/A"},"ー","ー","ー",null,{"$error":"#N/A"},null,null,null,null,null,null,null,{"$f":"ABS(入力シート!N57)","v":0},{"$f":"入力シート!O57","v":0},0,0,0,0,-55,88.8,17.399999999999999,"OK","ー","OK","ー","OK","ー","ー",null,{"$f":"入力シート!J57","v":0},{"$f":"入力シート!K57","v":0},180,0,0,350,70,{"$error":"#NUM!"},0.66666666666666663,0,{"$error":"#NUM!"},{"$error":"#NUM!"},{"$error":"#NUM!"},0,{"$error":"#NUM!"},{"$error":"#NUM!"},{"$error":"#NUM!"},0,0.66666666666666663,5492,"OK","ー","OK","ー",{"$error":"#NUM!"},"ー","ー"]
[null,{"$f":"入力シート!F58","v":0},{"$f":"入力シート!G58","v":0},{"$f":"入力シート!H58","v":0},{"$f":"入力シート!I58","v":0},{"$f":"入力シート!L58","v":0},null,{"$error":"#N/A"},{"$error":"#N/A"},{"$error":"#N/A"},null,{"$error":"#N/A"},326.99070256410255,42.4,164.3,-98.5,null,{"$error":"#N/A"},{"$error":"#N/A"},0,0,0,0,"ー",{"$error":"#N/A"},{"$error":"#N/A"},{"$error":"#N/A"},"ー",{"$error":"#VALUE!"},"-",1,0.95,{"$error":"#N/A"},"ー","ー","ー",null,{"$error":"#N/A"},null,null,null,null,null,null,null,{"$f":"ABS(入力シート!N58)","v":0},{"$f":"入力シート!O58","v":0},0,0,0,0,-55,88.8,17.399999999999999,"OK","ー","OK","ー","OK","ー","ー",null,{"$f":"入力シート!J58","v":0},{"$f":"入力シート!K58","v":0},180,0,0,350,70,{"$error":"#NUM!"},0.66666666666666663,0,{"$error":"#NUM!"},{"$error":"#NUM!"},{"$error":"#NUM!"},0,{"$error":"#NUM!"},{"$error":"#NUM!"},{"$error":"#NUM!"},0,0.66666666666666663,5492,"OK","ー","OK","ー",{"$error":"#NUM!"},"ー","ー"]
[null,{"$f":"入力シート!F59","v":0},{"$f":"入力シート!G59","v":0},{"$f":"入力シート!H59","v":0},{"$f":"入力シート!I59","v":0},{"$f":"入力シート!L59","v":0},null,{"$error":"#N/A"},{"$error":"#N/A"},{"$error":"#N/A"},null,{"$error":"#N/A"},326.99070256410255,42.4,164.3,-98.5,null,{"$error":"#N/A"},{"$f":"VLOOKUP(B50,$AN$5:$AO$21,2,TRUE)","v":{"$error":"#N/A"}},0,0,0,0,"ー",{"$f":"IF(H50>=AL50,H50/120,\"―\")","v":{"$error":"#N/A"}},{"$f":"IF(H50>=AL50,Y50*AC50,\"ー\")","v":{"$error":"#N/A"}},{"$f":"IF(H50>=AL50,Y50/(E50/1000),\"ー\")","v":{"$error":"#N/A"}},"ー",{"$error":"#VALUE!"},"-",1,0.95,{"$error":"#N/A"},"ー","ー","ー",null,{"$f":"VLOOKUP(C50,$AQ$5:$AR$13,2,TRUE)","v":{"$error":"#N/A"}},null,null,null,null,null,null,null,{"$f":"ABS(入力シート!N59)","v":0},{"$f":"入力シート!O59","v":0},0,0,0,0,-55,88.8,17.399999999999999,"OK","ー","OK","ー","OK","ー","ー",null,{"$f":"入力シート!J59","v":0},{"$f":"入力シート!K59","v":0},180,0,0,350,70,{"$error":"#NUM!"},0.66666666666666663,0,{"$error":"#NUM!"},{"$error":"#NUM!"},{"$error":"#NUM!"},0,{"$error":"#NUM!"},{"$error":"#NUM!"},{"$error":"#NUM!"},0,0.66666666666666663,5492,"OK","ー","OK","ー",{"$error":"#NUM!"},"ー","ー"]
[null,{"$f":"入力シート!F60","v":0},{"$f":"入力シート!G60","v":0},{"$f":"入力シート!H60","v":0},{"$f":"入力シート!I60","v":0},{"$f":"入力シート!L60","v":0},null,{"$error":"#N/A"},{"$error":"#N/A"},{"$error":"#N/A"},null,{"$error":"#N/A"},326.99070256410255,42.4,164.3,-98.5,null,{"$error":"#N/A"},{"$error":"#N/A"},0,0,0,0,"ー",{"$error":"#N/A"},{"$error":"#N/A"},{"$error":"#N/A"},"ー",{"$error":"#VALUE!"},"-",1,0.95,{"$error":"#N/A"},"ー","ー","ー",null,{"$error":"#N/A"},null,null,null,null,null,null,null,{"$f":"ABS(入力シート!N60)","v":0},{"$f":"入力シート!O60","v":0},0,0,0,0,-55,88.8,17.399999999999999,"OK","ー","OK","ー","OK","ー","ー",null,{"$f":"入力シート!J60","v":0},{"$f":"入力シート!K60","v":0},180,0,0,350,70,{"$error":"#NUM!"},0.66666666666666663,0,{"$error":"#NUM!"},{"$error":"#NUM!"},{"$error":"#NUM!"},0,{"$error":"#NUM!"},{"$error":"#NUM!"},{"$error":"#NUM!"},0,0.66666666666666663,5492,"OK","ー","OK","ー",{"$error":"#NUM!"},"ー","ー"]
[null,{"$f":"入力シート!F61","v":0},{"$f":"入力シート!G61","v":0},{"$f":"入力シート!H61","v":0},{"$f":"入力シート!I61","v":0},{"$f":"入力シート!L61","v":0},null,{"$error":"#N/A"},{"$error":"#N/A"},{"$error":"#N/A"},null,{"$error":"#N/A"},326.99070256410255,42.4,164.3,-98.5,null,{"$error":"#N/A"},{"$error":"#N/A"},0,0,0,0,"ー",{"$error":"#N/A"},{"$error":"#N/A"},{"$error":"#N/A"},"ー",{"$error":"#VALUE!"},"-",1,0.95,{"$error":"#N/A"},"ー","ー","ー",null,{"$error":"#N/A"},null,null,null,null,null,null,null,{"$f":"ABS(入力シート!N61)","v":0},{"$f":"入力シート!O61","v":0},0,0,0,0,-55,88.8,17.399999999999999,"OK","ー","OK","ー","OK","ー","ー",null,{"$f":"入力シート!J61","v":0},{"$f":"入力シート!K61","v":0},180,0,0,350,70,{"$error":"#NUM!"},0.66666666666666663,0,{"$error":"#NUM!"},{"$error":"#NUM!"},{"$error":"#NUM!"},0,{"$error":"#NUM!"},{"$error":"#NUM!"},{"$error":"#NUM!"},0,0.66666666666666663,5492,"OK","ー","OK","ー",{"$error":"#NUM!"},"ー","ー"]
[null,{"$f":"入力シート!F62","v":0},{"$f":"入力シート!G62","v":0},{"$f":"入力シート!H62","v":0},{"$f":"入力シート!I62","v":0},{"$f":"入力シート!L62","v":0},null,{"$error":"#N/A"},{"$error":"#N/A"},{"$error":"#N/A"},null,{"$error":"#N/A"},326.99070256410255,42.4,164.3,-98.5,null,{"$error":"#N/A"},{"$error":"#N/A"},0,0,0,0,"ー",{"$error":"#N/A"},{"$error":"#N/A"},{"$error":"#N/A"},"ー",{"$error":"#VALUE!"},"-",1,0.95,{"$error":"#N/A"},"ー","ー","ー",null,{"$error":"#N/A"},null,null,null,null,null,null,null,{"$f":"ABS(入力シート!N62)","v":0},{"$f":"入力シート!O62","v":0},0,0,0,0,-55,88.8,17.399999999999999,"OK","ー","OK","ー","OK","ー","ー",null,{"$f":"入力シート!J62","v":0},{"$f":"入力シート!K62","v":0},180,0,0,350,70,{"$error":"#NUM!"},0.66666666666666663,0,{"$error":"#NUM!"},{"$error":"#NUM!"},{"$error":"#NUM!"},0,{"$error":"#NUM!"},{"$error":"#NUM!"},{"$error":"#NUM!"},0,0.66666666666666663,5492,"OK","ー","OK","ー",{"$error":"#NUM!"},"ー","ー"]
[null,{"$f":"入力シート!F63","v":0},{"$f":"入力シート!G63","v":0},{"$f":"入力シート!H63","v":0},{"$f":"入力シート!I63","v":0},{"$f":"入力シート!L63","v":0},null,{"$error":"#N/A"},{"$error":"#N/A"},{"$error":"#N/A"},null,{"$error":"#N/A"},326.99070256410255,42.4,164.3,-98.5,null,{"$error":"#N/A"},{"$error":"#N/A"},0,0,0,0,"ー",{"$error":"#N/A"},{"$error":"#N/A"},{"$error":"#N/A"},"ー",{"$error":"#VALUE!"},"-",1,0.95,{"$error":"#N/A"},"ー","ー","ー",null,{"$error":"#N/A"},null,null,null,null,null,null,null,{"$f":"ABS(入力シート!N63)","v":0},{"$f":"入力シート!O63","v":0},0,0,0,0,-55,88.8,17.399999999999999,"OK","ー","OK","ー","OK","ー","ー",null,{"$f":"入力シート!J63","v":0},{"$f":"入力シート!K63","v":0},180,0,0,350,70,{"$error":"#NUM!"},0.66666666666666663,0,{"$error":"#NUM!"},{"$error":"#NUM!"},{"$error":"#NUM!"},0,{"$error":"#NUM!"},{"$error":"#NUM!"},{"$error":"#NUM!"},0,0.66666666666666663,5492,"OK","ー","OK","ー",{"$error":"#NUM!"},"ー","ー"]
[null,{"$f":"入力シート!F66","v":0},{"$f":"入力シート!G66","v":0},{"$f":"入力シート!H66","v":0},{"$f":"入力シート!I66","v":0},{"$f":"入力シート!L66","v":0},null,{"$error":"#N/A"},{"$error":"#N/A"},{"$error":"#N/A"},null,{"$error":"#N/A"},326.99070256410255,42.4,164.3,-98.5,null,{"$error":"#N/A"},{"$error":"#N/A"},0,0,0,0,"ー",{"$error":"#N/A"},{"$error":"#N/A"},{"$error":"#N/A"},"ー",{"$error":"#VALUE!"},"-",1,0.95,{"$error":"#N/A"},"ー","ー","ー",null,{"$error":"#N/A"},null,null,null,null,null,null,null,{"$f":"ABS(入力シート!N66)","v":0},{"$f":"入力シート!O66","v":0},0,0,0,0,-55,88.8,17.399999999999999,"OK","ー","OK","ー","OK","ー","ー",null,{"$f":"入力シート!J66","v":0},{"$f":"入力シート!K66","v":0},180,0,0,350,70,{"$error":"#NUM!"},0.66666666666666663,0,{"$error":"#NUM!"},{"$error":"#NUM!"},{"$error":"#NUM!"},0,{"$error":"#NUM!"},{"$error":"#NUM!"},{"$error":"#NUM!"},0,0.66666666666666663,5492,"OK","ー","OK","ー",{"$error":"#NUM!"},"ー","ー"]
[null,{"$f":"入力シート!F67","v":0},{"$f":"入力シート!G67","v":0},{"$f":"入力シート!H67","v":0},{"$f":"入力シート!I67","v":0},{"$f":"入力シート!L67","v":0},null,{"$f":"((I56*J56)/(I56+J56))*0.85","v":{"$error":"#N/A"}},{"$f":"M56*L56","v":{"$error":"#N/A"}},{"$f":"R56","v":{"$error":"#N/A"}},null,{"$f":"0.0000319*S56+0.665","v":{"$error":"#N/A"}},{"$f":"((P56^2)/((1/N56)+(1/O56)))/1000","v":326.99070256410255},{"$f":"42400/1000","v":42.4},{"$f":"164300/1000","v":164.3},{"$f":"1.05*C56-98.5","v":-98.5},null,{"$f":"(((3*S56*T56)/W56))/1000000","v":{"$error":"#N/A"}},{"$error":"#N/A"},{"$f":"(V56*(U56^3))/12","v":0},{"$f":"C56","v":0},{"$f":"D56","v":0},{"$f":"E56","v":0},"ー",{"$error":"#N/A"},{"$error":"#N/A"},{"$error":"#N/A"},"ー",{"$f":"ROUNDDOWN(AD56*AE56*AF56*AG56,2)","v":{"$error":"#VALUE!"}},{"$f":"IF(F56=3,1,IF(F56=2,0.85,IF(F56=1,0.75,\"-\")))","v":"-"},1,0.95,{"$error":"#N/A"},"ー","ー","ー",null,{"$error":"#N/A"},null,null,null,null,null,null,null,{"$f":"ABS(入力シート!N67)","v":0},{"$f":"入力シート!O67","v":0},0,0,0,0,-55,88.8,17.399999999999999,"OK","ー","OK","ー","OK","ー","ー",null,{"$f":"入力シート!J67","v":0},{"$f":"入力シート!K67","v":0},180,0,0,350,70,{"$error":"#NUM!"},0.66666666666666663,0,{"$error":"#NUM!"},{"$error":"#NUM!"},{"$error":"#NUM!"},0,{"$error":"#NUM!"},{"$error":"#NUM!"},{"$error":"#NUM!"},0,0.66666666666666663,5492,"OK","ー","OK","ー",{"$error":"#NUM!"},"ー","ー"]
[null,{"$f":"入力シート!F68","v":0},{"$f":"入力シート!G68","v":0},{"$f":"入力シート!H68","v":0},{"$f":"入力シート!I68","v":0},{"$f":"入力シート!L68","v":0},null,{"$f":"((I57*J57)/(I57+J57))*0.85","v":{"$error":"#N/A"}},{"$error":"#N/A"},{"$f":"R57","v":{"$error":"#N/A"}},null,{"$f":"0.0000319*S57+0.665","v":{"$error":"#N/A"}},{"$f":"((P57^2)/((1/N57)+(1/O57)))/1000","v":326.99070256410255},{"$f":"42400/1000","v":42.4},{"$f":"164300/1000","v":164.3},-98.5,null,{"$f":"(((3*S57*T57)/W57))/1000000","v":{"$error":"#N/A"}},{"$error":"#N/A"},0,0,0,0,"ー",{"$error":"#N/A"},{"$error":"#N/A"},{"$error":"#N/A"},"ー",{"$f":"ROUNDDOWN(AD57*AE57*AF57*AG57,2)","v":{"$error":"#VALUE!"}},{"$f":"IF(F57=3,1,IF(F57=2,0.85,IF(F57=1,0.75,\"-\")))","v":"-"},1,0.95,{"$error":"#N/A"},"ー","ー","ー",null,{"$error":"#N/A"},null,null,null,null,null,null,null,{"$f":"ABS(入力シート!N68)","v":0},{"$f":"入力シート!O68","v":0},0,0,0,0,-55,88.8,17.399999999999999,"OK","ー","OK","ー","OK","ー","ー",null,{"$f":"入力シート!J68","v":0},{"$f":"入力シート!K68","v":0},180,0,0,350,70,{"$error":"#NUM!"},0.66666666666666663,0,{"$error":"#NUM!"},{"$error":"#NUM!"},{"$error":"#NUM!"},0,{"$error":"#NUM!"},{"$error":"#NUM!"},{"$error":"#NUM!"},0,0.66666666666666663,5492,"OK","ー","OK","ー",{"$error":"#NUM!"},"ー","ー"]
[null,{"$f":"入力シート!F69","v":0},{"$f":"入力シート!G69","v":0},{"$f":"入力シート!H69","v":0},{"$f":"入力シート!I69","v":0},{"$f":"入力シート!L69","v":0},null,{"$error":"#N/A"},{"$error":"#N/A"},{"$error":"#N/A"},null,{"$error":"#N/A"},326.99070256410255,42.4,164.3,-98.5,null,{"$error":"#N/A"},{"$error":"#N/A"},0,0,0,0,"ー",{"$error":"#N/A"},{"$error":"#N/A"},{"$error":"#N/A"},"ー",{"$error":"#VALUE!"},"-",1,0.95,{"$error":"#N/A"},"ー","ー","ー",null,{"$error":"#N/A"},null,null,null,null,null,null,null,{"$f":"ABS(入力シート!N69)","v":0},{"$f":"入力シート!O69","v":0},0,0,0,0,-55,88.8,17.399999999999999,"OK","ー","OK","ー","OK","ー","ー",null,{"$f":"入力シート!J69","v":0},{"$f":"入力シート!K69","v":0},180,0,0,350,70,{"$error":"#NUM!"},0.66666666666666663,0,{"$error":"#NUM!"},{"$error":"#NUM!"},{"$error":"#NUM!"},0,{"$error":"#NUM!"},{"$error":"#NUM!"},{"$error":"#NUM!"},0,0.66666666666666663,5492,"OK","ー","OK","ー",{"$error":"#NUM!"},"ー","ー"]
[null,{"$f":"入力シート!F70","v":0},{"$f":"入力シート!G70","v":0},{"$f":"入力シート!H70","v":0},{"$f":"入力シート!I70","v":0},{"$f":"入力シート!L70","v":0},null,{"$error":"#N/A"},{"$error":"#N/A"},{"$error":"#N/A"},null,{"$error":"#N/A"},326.99070256410255,42.4,164.3,-98.5,null,{"$error":"#N/A"},{"$error":"#N/A"},0,0,0,0,"ー",{"$error":"#N/A"},{"$error":"#N/A"},{"$error":"#N/A"},"ー",{"$error":"#VALUE!"},"-",1,0.95,{"$error":"#N/A"},"ー","ー","ー",null,{"$error":"#N/A"},null,null,null,null,null,null,null,{"$f":"ABS(入力シート!N70)","v":0},{"$f":"入力シート!O70","v":0},0,0,0,0,-55,88.8,17.399999999999999,"OK","ー","OK","ー","OK","ー","ー",null,{"$f":"入力シート!J70","v":0},{"$f":"入力シート!K70","v":0},180,0,0,350,70,{"$error":"#NUM!"},0.66666666666666663,0,{"$error":"#NUM!"},{"$error":"#NUM!"},{"$error":"#NUM!"},0,{"$error":"#NUM!"},{"$error":"#NUM!"},{"$error":"#NUM!"},0,0.66666666666666663,5492,"OK","ー","OK","ー",{"$error":"#NUM!"},"ー","ー"]
[null,{"$f":"入力シート!F71","v":0},{"$f":"入力シート!G71","v":0},{"$f":"入力シート!H71","v":0},{"$f":"入力シート!I71","v":0},{"$f":"入力シート!L71","v":0},null,{"$error":"#N/A"},{"$error":"#N/A"},{"$error":"#N/A"},null,{"$error":"#N/A"},326.99070256410255,42.4,164.3,-98.5,null,{"$error":"#N/A"},{"$error":"#N/A"},0,0,0,0,"ー",{"$error":"#N/A"},{"$error":"#N/A"},{"$error":"#N/A"},"ー",{"$error":"#VALUE!"},"-",1,0.95,{"$error":"#N/A"},"ー","ー","ー",null,{"$error":"#N/A"},null,null,null,null,null,null,null,{"$f":"ABS(入力シート!N71)","v":0},{"$f":"入力シート!O71","v":0},0,0,0,0,-55,88.8,17.399999999999999,"OK","ー","OK","ー","OK","ー","ー",null,{"$f":"入力シート!J71","v":0},{"$f":"入力シート!K71","v":0},180,0,0,350,70,{"$error":"#NUM!"},0.66666666666666663,0,{"$error":"#NUM!"},{"$error":"#NUM!"},{"$error":"#NUM!"},0,{"$error":"#NUM!"},{"$error":"#NUM!"},{"$error":"#NUM!"},0,0.66666666666666663,5492,"OK","ー","OK","ー",{"$error":"#NUM!"},"ー","ー"]
[null,{"$f":"入力シート!F72","v":0},{"$f":"入力シート!G72","v":0},{"$f":"入力シート!H72","v":0},{"$f":"入力シート!I72","v":0},{"$f":"入力シート!L72","v":0},null,{"$error":"#N/A"},{"$error":"#N/A"},{"$error":"#N/A"},null,{"$error":"#N/A"},326.99070256410255,42.4,164.3,-98.5,null,{"$error":"#N/A"},{"$error":"#N/A"},0,0,0,0,"ー",{"$error":"#N/A"},{"$error":"#N/A"},{"$error":"#N/A"},"ー",{"$error":"#VALUE!"},"-",1,0.95,{"$error":"#N/A"},"ー","ー","ー",null,{"$error":"#N/A"},null,null,null,null,null,null,null,{"$f":"ABS(入力シート!N72)","v":0},{"$f":"入力シート!O72","v":0},0,0,0,0,-55,88.8,17.399999999999999,"OK","ー","OK","ー","OK","ー","ー",null,{"$f":"入力シート!J72","v":0},{"$f":"入力シート!K72","v":0},180,0,0,350,70,{"$error":"#NUM!"},0.66666666666666663,0,{"$error":"#NUM!"},{"$error":"#NUM!"},{"$error":"#NUM!"},0,{"$error":"#NUM!"},{"$error":"#NUM!"},{"$error":"#NUM!"},0,0.66666666666666663,5492,"OK","ー","OK","ー",{"$error":"#NUM!"},"ー","ー"]
[null,{"$f":"入力シート!F73","v":0},{"$f":"入力シート!G73","v":0},{"$f":"入力シート!H73","v":0},{"$f":"入力シート!I73","v":0},{"$f":"入力シート!L73","v":0},null,{"$error":"#N/A"},{"$error":"#N/A"},{"$error":"#N/A"},null,{"$error":"#N/A"},326.99070256410255,42.4,164.3,-98.5,null,{"$error":"#N/A"},{"$error":"#N/A"},0,0,0,0,"ー",{"$error":"#N/A"},{"$error":"#N/A"},{"$error":"#N/A"},"ー",{"$error":"#VALUE!"},"-",1,0.95,{"$error":"#N/A"},"ー","ー","ー",null,{"$error":"#N/A"},null,null,null,null,null,null,null,{"$f":"ABS(入力シート!N73)","v":0},{"$f":"入力シート!O73","v":0},0,0,0,0,-55,88.8,17.399999999999999,"OK","ー","OK","ー","OK","ー","ー",null,{"$f":"入力シート!J73","v":0},{"$f":"入力シート!K73","v":0},180,0,0,350,70,{"$error":"#NUM!"},0.66666666666666663,0,{"$error":"#NUM!"},{"$error":"#NUM!"},{"$error":"#NUM!"},0,{"$error":"#NUM!"},{"$error":"#NUM!"},{"$error":"#NUM!"},0,0.66666666666666663,5492,"OK","ー","OK","ー",{"$error":"#NUM!"},"ー","ー"]
[null,{"$f":"入力シート!F74","v":0},{"$f":"入力シート!G74","v":0},{"$f":"入力シート!H74","v":0},{"$f":"入力シート!I74","v":0},{"$f":"入力シート!L74","v":0},null,{"$error":"#N/A"},{"$error":"#N/A"},{"$error":"#N/A"},null,{"$error":"#N/A"},326.99070256410255,42.4,164.3,-98.5,null,{"$error":"#N/A"},{"$error":"#N/A"},0,0,0,0,"ー",{"$error":"#N/A"},{"$error":"#N/A"},{"$error":"#N/A"},"ー",{"$error":"#VALUE!"},"-",1,0.95,{"$error":"#N/A"},"ー","ー","ー",null,{"$error":"#N/A"},null,null,null,null,null,null,null,{"$f":"ABS(入力シート!N74)","v":0},{"$f":"入力シート!O74","v":0},0,0,0,0,-55,88.8,17.399999999999999,"OK","ー","OK","ー","OK","ー","ー",null,{"$f":"入力シート!J74","v":0},{"$f":"入力シート!K74","v":0},180,0,0,350,70,{"$error":"#NUM!"},0.66666666666666663,0,{"$error":"#NUM!"},{"$error":"#NUM!"},{"$error":"#NUM!"},0,{"$error":"#NUM!"},{"$error":"#NUM!"},{"$error":"#NUM!"},0,0.66666666666666663,5492,"OK","ー","OK","ー",{"$error":"#NUM!"},"ー","ー"]
[null,{"$f":"入力シート!F75","v":0},{"$f":"入力シート!G75","v":0},{"$f":"入力シート!H75","v":0},{"$f":"入力シート!I75","v":0},{"$f":"入力シート!L75","v":0},null,{"$error":"#N/A"},{"$error":"#N/A"},{"$error":"#N/A"},null,{"$error":"#N/A"},326.99070256410255,42.4,164.3,-98.5,null,{"$error":"#N/A"},{"$error":"#N/A"},0,0,0,0,"ー",{"$error":"#N/A"},{"$error":"#N/A"},{"$error":"#N/A"},"ー",{"$error":"#VALUE!"},"-",1,0.95,{"$error":"#N/A"},"ー","ー","ー",null,{"$error":"#N/A"},null,null,null,null,null,null,null,{"$f":"ABS(入力シート!N75)","v":0},{"$f":"入力シート!O75","v":0},0,0,0,0,-55,88.8,17.399999999999999,"OK","ー","OK","ー","OK","ー","ー",null,{"$f":"入力シート!J75","v":0},{"$f":"入力シート!K75","v":0},180,0,0,350,70,{"$error":"#NUM!"},0.66666666666666663,0,{"$error":"#NUM!"},{"$error":"#NUM!"},{"$error":"#NUM!"},0,{"$error":"#NUM!"},{"$error":"#NUM!"},{"$error":"#NUM!"},0,0.66666666666666663,5492,"OK","ー","OK","ー",{"$error":"#NUM!"},"ー","ー"]
[null,{"$f":"入力シート!F76","v":0},{"$f":"入力シート!G76","v":0},{"$f":"入力シート!H76","v":0},{"$f":"入力シート!I76","v":0},{"$f":"入力シート!L76","v":0},null,{"$error":"#N/A"},{"$error":"#N/A"},{"$error":"#N/A"},null,{"$error":"#N/A"},326.99070256410255,42.4,164.3,-98.5,null,{"$error":"#N/A"},{"$error":"#N/A"},0,0,0,0,"ー",{"$error":"#N/A"},{"$error":"#N/A"},{"$error":"#N/A"},"ー",{"$error":"#VALUE!"},"-",1,0.95,{"$error":"#N/A"},"ー","ー","ー",null,{"$error":"#N/A"},null,null,null,null,null,null,null,{"$f":"ABS(入力シート!N76)","v":0},{"$f":"入力シート!O76","v":0},0,0,0,0,-55,88.8,17.399999999999999,"OK","ー","OK","ー","OK","ー","ー",null,{"$f":"入力シート!J76","v":0},{"$f":"入力シート!K76","v":0},180,0,0,350,70,{"$error":"#NUM!"},0.66666666666666663,0,{"$error":"#NUM!"},{"$error":"#NUM!"},{"$error":"#NUM!"},0,{"$error":"#NUM!"},{"$error":"#NUM!"},{"$error":"#NUM!"},0,0.66666666666666663,5492,"OK","ー","OK","ー",{"$error":"#NUM!"},"ー","ー"]
[null,{"$f":"入力シート!F77","v":0},{"$f":"入力シート!G77","v":0},{"$f":"入力シート!H77","v":0},{"$f":"入力シート!I77","v":0},{"$f":"入力シート!L77","v":0},null,{"$error":"#N/A"},{"$error":"#N/A"},{"$error":"#N/A"},null,{"$error":"#N/A"},326.99070256410255,42.4,164.3,-98.5,null,{"$error":"#N/A"},{"$error":"#N/A"},0,0,0,0,"ー",{"$error":"#N/A"},{"$error":"#N/A"},{"$error":"#N/A"},"ー",{"$error":"#VALUE!"},"-",1,0.95,{"$error":"#N/A"},"ー","ー","ー",null,{"$error":"#N/A"},null,null,null,null,null,null,null,{"$f":"ABS(入力シート!N77)","v":0},{"$f":"入力シート!O77","v":0},0,0,0,0,-55,88.8,17.399999999999999,"OK","ー","OK","ー","OK","ー","ー",null,{"$f":"入力シート!J77","v":0},{"$f":"入力シート!K77","v":0},180,0,0,350,70,{"$error":"#NUM!"},0.66666666666666663,0,{"$error":"#NUM!"},{"$error":"#NUM!"},{"$error":"#NUM!"},0,{"$error":"#NUM!"},{"$error":"#NUM!"},{"$error":"#NUM!"},0,0.66666666666666663,5492,"OK","ー","OK","ー",{"$error":"#NUM!"},"ー","ー"]
[null,{"$f":"入力シート!F78","v":0},{"$f":"入力シート!G78","v":0},{"$f":"入力シート!H78","v":0},{"$f":"入力シート!I78","v":0},{"$f":"入力シート!L78","v":0},null,{"$error":"#N/A"},{"$error":"#N/A"},{"$error":"#N/A"},null,{"$error":"#N/A"},326.99070256410255,42.4,164.3,-98.5,null,{"$error":"#N/A"},{"$error":"#N/A"},0,0,0,0,"ー",{"$error":"#N/A"},{"$error":"#N/A"},{"$error":"#N/A"},"ー",{"$error":"#VALUE!"},"-",1,0.95,{"$error":"#N/A"},"ー","ー","ー",null,{"$error":"#N/A"},null,null,null,null,null,null,null,{"$f":"ABS(入力シート!N78)","v":0},{"$f":"入力シート!O78","v":0},0,0,0,0,-55,88.8,17.399999999999999,"OK","ー","OK","ー","OK","ー","ー",null,{"$f":"入力シート!J78","v":0},{"$f":"入力シート!K78","v":0},180,0,0,350,70,{"$error":"#NUM!"},0.66666666666666663,0,{"$error":"#NUM!"},{"$error":"#NUM!"},{"$error":"#NUM!"},0,{"$error":"#NUM!"},{"$error":"#NUM!"},{"$error":"#NUM!"},0,0.66666666666666663,5492,"OK","ー","OK","ー",{"$error":"#NUM!"},"ー","ー"]
[null,{"$f":"入力シート!F79","v":0},{"$f":"入力シート!G79","v":0},{"$f":"入力シート!H79","v":0},{"$f":"入力シート!I79","v":0},{"$f":"入力シート!L79","v":0},null,{"$error":"#N/A"},{"$error":"#N/A"},{"$error":"#N/A"},null,{"$error":"#N/A"},326.99070256410255,42.4,164.3,-98.5,null,{"$error":"#N/A"},{"$error":"#N/A"},0,0,0,0,"ー",{"$error":"#N/A"},{"$error":"#N/A"},{"$error":"#N/A"},"ー",{"$error":"#VALUE!"},"-",1,0.95,{"$error":"#N/A"},"ー","ー","ー",null,{"$error":"#N/A"},null,null,null,null,null,null,null,{"$f":"ABS(入力シート!N79)","v":0},{"$f":"入力シート!O79","v":0},0,0,0,0,-55,88.8,17.399999999999999,"OK","ー","OK","ー","OK","ー","ー",null,{"$f":"入力シート!J79","v":0},{"$f":"入力シート!K79","v":0},180,0,0,350,70,{"$error":"#NUM!"},0.66666666666666663,0,{"$error":"#NUM!"},{"$error":"#NUM!"},{"$error":"#NUM!"},0,{"$error":"#NUM!"},{"$error":"#NUM!"},{"$error":"#NUM!"},0,0.66666666666666663,5492,"OK","ー","OK","ー",{"$error":"#NUM!"},"ー","ー"]
[null,{"$f":"入力シート!F80","v":0},{"$f":"入力シート!G80","v":0},{"$f":"入力シート!H80","v":0},{"$f":"入力シート!I80","v":0},{"$f":"入力シート!L80","v":0},null,{"$error":"#N/A"},{"$error":"#N/A"},{"$error":"#N/A"},null,{"$error":"#N/A"},326.99070256410255,42.4,164.3,-98.5,null,{"$error":"#N/A"},{"$error":"#N/A"},0,0,0,0,"ー",{"$error":"#N/A"},{"$error":"#N/A"},{"$error":"#N/A"},"ー",{"$error":"#VALUE!"},"-",1,0.95,{"$error":"#N/A"},"ー","ー","ー",null,{"$error":"#N/A"},null,null,null,null,null,null,null,{"$f":"ABS(入力シート!N80)","v":0},{"$f":"入力シート!O80","v":0},0,{"$f":"(AT69*(E69/1000))/(P69/1000)","v":0},0,0,{"$f":"IF(F69=3,63.2,IF(F69=2,63.2,55))*-1","v":-55},{"$f":"IF(F69=3,127.8,IF(F69=2,107.6,88.8))","v":88.8},{"$f":"IF(F69=3,23.1,IF(F69=2,21,17.4))","v":17.399999999999999},"OK","ー","OK","ー","OK","ー",{"$f":"IF(AND(AT69=0,AU69=0),\"ー\",IF(AND(BC69=\"OK\",BE69=\"OK\",BG69=\"OK\"),\"OK\",\"NG\"))","v":"ー"},null,{"$f":"入力シート!J80","v":0},{"$f":"入力シート!K80","v":0},180,0,0,350,70,{"$error":"#NUM!"},0.66666666666666663,0,{"$error":"#NUM!"},{"$error":"#NUM!"},{"$error":"#NUM!"},0,{"$error":"#NUM!"},{"$error":"#NUM!"},{"$error":"#NUM!"},{"$f":"CC69*BK69*CD69/1000","v":0},0.66666666666666663,5492,"OK","ー","OK","ー",{"$error":"#NUM!"},"ー","ー"]
[null,{"$f":"入力シート!F81","v":0},{"$f":"入力シート!G81","v":0},{"$f":"入力シート!H81","v":0},{"$f":"入力シート!I81","v":0},{"$f":"入力シート!L81","v":0},null,{"$error":"#N/A"},{"$error":"#N/A"},{"$error":"#N/A"},null,{"$error":"#N/A"},326.99070256410255,42.4,164.3,-98.5,null,{"$error":"#N/A"},{"$error":"#N/A"},0,0,0,0,{"$f":"IF(C70=0,\"ー\",U70-105)","v":"ー"},{"$error":"#N/A"},{"$error":"#N/A"},{"$error":"#N/A"},{"$f":"IF(C70=0,\"ー\",IF(AI70>=AL70,ROUNDDOWN(AA70*AC70,2),\"ー\"))","v":"ー"},{"$error":"#VALUE!"},"-",1,0.95,{"$f":"IF(S70>=10290,1,0.9)","v":{"$error":"#N/A"}},{"$f":"IF(C70=0,\"ー\",I70*AC70)","v":"ー"},{"$f":"IF(C70=0,\"ー\",H70*AC70)","v":"ー"},{"$f":"IF(C70=0,\"ー\",IF(H70>=AL70,ROUNDDOWN(AB70*(1000/(C70-105))/1.96,1),\"ー\"))","v":"ー"},null,{"$error":"#N/A"},null,null,null,null,null,null,null,{"$f":"ABS(入力シート!N81)","v":0},{"$f":"入力シート!O81","v":0},{"$f":"AU70/2","v":0},0,{"$f":"AV70+AW70","v":0},{"$f":"AV70-AW70","v":0},-55,88.8,17.399999999999999,{"$f":"IF(AX70<=BA70,\"OK\",\"NG\")","v":"OK"},{"$f":"IF(AND(AT70=0,AU70=0),\"ー\",IF(0<=AX70,AX70/BA70,AX70/AZ70))","v":"ー"},{"$f":"IF(AY70>=AZ70,\"OK\",\"NG\")","v":"OK"},{"$f":"IF(AND(AT70=0,AU70=0),\"ー\",IF(0>=AY70,AY70/AZ70,AY70/BA70))","v":"ー"},{"$f":"IF(AT70<=BB70,\"OK\",\"NG\")","v":"OK"},{"$f":"IF(AND(AT70=0,AU70=0),\"ー\",AT70/BB70)","v":"ー"},"ー",null,{"$f":"入力シート!J81","v":0},{"$f":"入力シート!K81","v":0},180,{"$f":"BO70*BP70*BQ70/1000*-1","v":0},{"$f":"MIN(BK70/10,1.35+BK70/25)*1.5","v":0},350,70,{"$f":"BS70*BT70*BU70/1000","v":{"$error":"#NUM!"}},{"$f":"2/3","v":0.66666666666666663},{"$f":"0.31*SQRT(BK70)","v":0},{"$f":"IF(2*BL70=BM70,(PI()*BL70^2)/2,(BM70*BZ70)+BV70)","v":{"$error":"#NUM!"}},{"$f":"BW70-CA70","v":{"$error":"#NUM!"}},{"$f":"PI()*BX70^2*((2*BY70)/(2*PI()))","v":{"$error":"#NUM!"}},{"$f":"BL70","v":0},{"$f":"ATAN((1/2)*BM70/BZ70)","v":{"$error":"#NUM!"}},{"$f":"SQRT(BX70^2-(BM70/2)^2)","v":{"$error":"#NUM!"}},{"$f":"(BM70*BZ70)/2","v":{"$error":"#NUM!"}},0,{"$f":"2/3","v":0.66666666666666663},5492,{"$f":"IF(AX70<=CB70,\"OK\",\"NG\")","v":"OK"},{"$f":"IF(AND(AT70=0,AU70=0),\"ー\",IF(0<=AX70,AX70/CB70,AX70/BN70))","v":"ー"},{"$f":"IF(AY70>=BN70,\"OK\",\"NG\")","v":"OK"},{"$f":"IF(AND(AT70=0,AU70=0),\"ー\",IF(0>=AY70,AY70/BN70,AY70/CB70))","v":"ー"},{"$f":"IF(AT70<=BR70,\"OK\",\"NG\")","v":{"$error":"#NUM!"}},{"$f":"IF(AND(AT70=0,AU70=0),\"ー\",AT70/BR70)","v":"ー"},{"$f":"IF(AND(AT70=0,AU70=0),\"ー\",IF(AND(CE70=\"OK\",CG70=\"OK\",CI70=\"OK\"),\"OK\",\"NG\"))","v":"ー"}]
[null,{"$f":"入力シート!F82","v":0},{"$f":"入力シート!G82","v":0},{"$f":"入力シート!H82","v":0},{"$f":"入力シート!I82","v":0},{"$f":"入力シート!L82","v":0},null,{"$error":"#N/A"},{"$error":"#N/A"},{"$error":"#N/A"},null,{"$error":"#N/A"},326.99070256410255,42.4,164.3,-98.5,null,{"$error":"#N/A"},{"$error":"#N/A"},0,0,0,0,"ー",{"$error":"#N/A"},{"$error":"#N/A"},{"$error":"#N/A"},"ー",{"$error":"#VALUE!"},"-",1,0.95,{"$error":"#N/A"},"ー","ー","ー",null,{"$error":"#N/A"},null,null,null,null,null,null,null,{"$f":"ABS(入力シート!N82)","v":0},{"$f":"入力シート!O82","v":0},0,0,0,0,-55,88.8,17.399999999999999,"OK","ー","OK","ー","OK","ー","ー",null,{"$f":"入力シート!J82","v":0},{"$f":"入力シート!K82","v":0},180,0,0,350,70,{"$error":"#NUM!"},0.66666666666666663,0,{"$error":"#NUM!"},{"$error":"#NUM!"},{"$error":"#NUM!"},0,{"$error":"#NUM!"},{"$error":"#NUM!"},{"$error":"#NUM!"},0,0.66666666666666663,5492,"OK","ー","OK","ー",{"$error":"#NUM!"},"ー","ー"]
[null,{"$f":"入力シート!F83","v":0},{"$f":"入力シート!G83","v":0},{"$f":"入力シート!H83","v":0},{"$f":"入力シート!I83","v":0},{"$f":"入力シート!L83","v":0},null,{"$error":"#N/A"},{"$error":"#N/A"},{"$error":"#N/A"},null,{"$error":"#N/A"},326.99070256410255,42.4,164.3,-98.5,null,{"$error":"#N/A"},{"$error":"#N/A"},0,0,0,0,"ー",{"$error":"#N/A"},{"$error":"#N/A"},{"$error":"#N/A"},"ー",{"$error":"#VALUE!"},"-",1,0.95,{"$error":"#N/A"},"ー","ー","ー",null,{"$error":"#N/A"},null,null,null,null,null,null,null,{"$f":"ABS(入力シート!N83)","v":0},{"$f":"入力シート!O83","v":0},0,0,0,0,-55,88.8,17.399999999999999,"OK","ー","OK","ー","OK","ー","ー",null,{"$f":"入力シート!J83","v":0},{"$f":"入力シート!K83","v":0},180,0,0,350,70,{"$error":"#NUM!"},0.66666666666666663,0,{"$error":"#NUM!"},{"$error":"#NUM!"},{"$error":"#NUM!"},0,{"$error":"#NUM!"},{"$error":"#NUM!"},{"$error":"#NUM!"},0,0.66666666666666663,5492,"OK","ー","OK","ー",{"$error":"#NUM!"},"ー","ー"]
[null,{"$f":"入力シート!F84","v":0},{"$f":"入力シート!G84","v":0},{"$f":"入力シート!H84","v":0},{"$f":"入力シート!I84","v":0},{"$f":"入力シート!L84","v":0},null,{"$f":"((I73*J73)/(I73+J73))*0.85","v":{"$error":"#N/A"}},{"$f":"M73*L73","v":{"$error":"#N/A"}},{"$f":"R73","v":{"$error":"#N/A"}},null,{"$f":"0.0000319*S73+0.665","v":{"$error":"#N/A"}},{"$f":"((P73^2)/((1/N73)+(1/O73)))/1000","v":326.99070256410255},{"$f":"42400/1000","v":42.4},{"$f":"164300/1000","v":164.3},{"$f":"1.05*C73-98.5","v":-98.5},null,{"$f":"(((3*S73*T73)/W73))/1000000","v":{"$error":"#N/A"}},{"$error":"#N/A"},{"$f":"(V73*(U73^3))/12","v":0},{"$f":"C73","v":0},{"$f":"D73","v":0},{"$f":"E73","v":0},"ー",{"$error":"#N/A"},{"$error":"#N/A"},{"$error":"#N/A"},"ー",{"$f":"ROUNDDOWN(AD73*AE73*AF73*AG73,2)","v":{"$error":"#VALUE!"}},{"$f":"IF(F73=3,1,IF(F73=2,0.85,IF(F73=1,0.75,\"-\")))","v":"-"},1,0.95,{"$error":"#N/A"},"ー","ー","ー",null,{"$error":"#N/A"},null,null,null,null,null,null,null,{"$f":"ABS(入力シート!N84)","v":0},{"$f":"入力シート!O84","v":0},0,0,0,0,-55,88.8,17.399999999999999,"OK","ー","OK","ー","OK","ー","ー",null,{"$f":"入力シート!J84","v":0},{"$f":"入力シート!K84","v":0},180,0,0,350,70,{"$error":"#NUM!"},0.66666666666666663,0,{"$error":"#NUM!"},{"$error":"#NUM!"},{"$error":"#NUM!"},0,{"$error":"#NUM!"},{"$error":"#NUM!"},{"$error":"#NUM!"},0,0.66666666666666663,5492,"OK","ー","OK","ー",{"$error":"#NUM!"},"ー","ー"]
[null,{"$f":"入力シート!F85","v":0},{"$f":"入力シート!G85","v":0},{"$f":"入力シート!H85","v":0},{"$f":"入力シート!I85","v":0},{"$f":"入力シート!L85","v":0},null,{"$f":"((I74*J74)/(I74+J74))*0.85","v":{"$error":"#N/A"}},{"$error":"#N/A"},{"$f":"R74","v":{"$error":"#N/A"}},null,{"$f":"0.0000319*S74+0.665","v":{"$error":"#N/A"}},{"$f":"((P74^2)/((1/N74)+(1/O74)))/1000","v":326.99070256410255},{"$f":"42400/1000","v":42.4},{"$f":"164300/1000","v":164.3},-98.5,null,{"$f":"(((3*S74*T74)/W74))/1000000","v":{"$error":"#N/A"}},{"$error":"#N/A"},0,0,0,0,"ー",{"$error":"#N/A"},{"$error":"#N/A"},{"$error":"#N/A"},"ー",{"$f":"ROUNDDOWN(AD74*AE74*AF74*AG74,2)","v":{"$error":"#VALUE!"}},{"$f":"IF(F74=3,1,IF(F74=2,0.85,IF(F74=1,0.75,\"-\")))","v":"-"},1,0.95,{"$error":"#N/A"},"ー","ー","ー",null,{"$error":"#N/A"},null,null,null,null,null,null,null,{"$f":"ABS(入力シート!N85)","v":0},{"$f":"入力シート!O85","v":0},0,0,0,0,-55,88.8,17.399999999999999,"OK","ー","OK","ー","OK","ー","ー",null,{"$f":"入力シート!J85","v":0},{"$f":"入力シート!K85","v":0},180,0,0,350,70,{"$error":"#NUM!"},0.66666666666666663,0,{"$error":"#NUM!"},{"$error":"#NUM!"},{"$error":"#NUM!"},0,{"$error":"#NUM!"},{"$error":"#NUM!"},{"$error":"#NUM!"},0,0.66666666666666663,5492,"OK","ー","OK","ー",{"$error":"#NUM!"},"ー","ー"]
[null,{"$f":"入力シート!F86","v":0},{"$f":"入力シート!G86","v":0},{"$f":"入力シート!H86","v":0},{"$f":"入力シート!I86","v":0},{"$f":"入力シート!L86","v":0},null,{"$error":"#N/A"},{"$error":"#N/A"},{"$error":"#N/A"},null,{"$error":"#N/A"},326.99070256410255,42.4,164.3,-98.5,null,{"$error":"#N/A"},{"$error":"#N/A"},0,0,0,0,"ー",{"$error":"#N/A"},{"$error":"#N/A"},{"$error":"#N/A"},"ー",{"$error":"#VALUE!"},"-",1,0.95,{"$error":"#N/A"},"ー","ー","ー",null,{"$error":"#N/A"},null,null,null,null,null,null,null,{"$f":"ABS(入力シート!N86)","v":0},{"$f":"入力シート!O86","v":0},0,0,0,0,-55,88.8,17.399999999999999,"OK","ー","OK","ー","OK","ー","ー",null,{"$f":"入力シート!J86","v":0},{"$f":"入力シート!K86","v":0},180,0,0,350,70,{"$error":"#NUM!"},0.66666666666666663,0,{"$error":"#NUM!"},{"$error":"#NUM!"},{"$error":"#NUM!"},0,{"$error":"#NUM!"},{"$error":"#NUM!"},{"$error":"#NUM!"},0,0.66666666666666663,5492,"OK","ー","OK","ー",{"$error":"#NUM!"},"ー","ー"]
[null,{"$f":"入力シート!F87","v":0},{"$f":"入力シート!G87","v":0},{"$f":"入力シート!H87","v":0},{"$f":"入力シート!I87","v":0},{"$f":"入力シート!L87","v":0},null,{"$error":"#N/A"},{"$error":"#N/A"},{"$error":"#N/A"},null,{"$error":"#N/A"},326.99070256410255,42.4,164.3,-98.5,null,{"$error":"#N/A"},{"$error":"#N/A"},0,0,0,0,"ー",{"$error":"#N/A"},{"$error":"#N/A"},{"$error":"#N/A"},"ー",{"$error":"#VALUE!"},"-",1,0.95,{"$error":"#N/A"},"ー","ー","ー",null,{"$error":"#N/A"},null,null,null,null,null,null,null,{"$f":"ABS(入力シート!N87)","v":0},{"$f":"入力シート!O87","v":0},0,0,0,0,-55,88.8,17.399999999999999,"OK","ー","OK","ー","OK","ー","ー",null,{"$f":"入力シート!J87","v":0},{"$f":"入力シート!K87","v":0},180,0,0,350,70,{"$error":"#NUM!"},0.66666666666666663,0,{"$error":"#NUM!"},{"$error":"#NUM!"},{"$error":"#NUM!"},0,{"$error":"#NUM!"},{"$error":"#NUM!"},{"$error":"#NUM!"},0,0.66666666666666663,5492,"OK","ー","OK","ー",{"$error":"#NUM!"},"ー","ー"]
[null,{"$f":"入力シート!F88","v":0},{"$f":"入力シート!G88","v":0},{"$f":"入力シート!H88","v":0},{"$f":"入力シート!I88","v":0},{"$f":"入力シート!L88","v":0},null,{"$error":"#N/A"},{"$error":"#N/A"},{"$error":"#N/A"},null,{"$error":"#N/A"},326.99070256410255,42.4,164.3,-98.5,null,{"$error":"#N/A"},{"$error":"#N/A"},0,0,0,0,"ー",{"$error":"#N/A"},{"$error":"#N/A"},{"$error":"#N/A"},"ー",{"$error":"#VALUE!"},"-",1,0.95,{"$error":"#N/A"},"ー","ー","ー",null,{"$error":"#N/A"},null,null,null,null,null,null,null,{"$f":"ABS(入力シート!N88)","v":0},{"$f":"入力シート!O88","v":0},0,0,0,0,-55,88.8,17.399999999999999,"OK","ー","OK","ー","OK","ー","ー",null,{"$f":"入力シート!J88","v":0},{"$f":"入力シート!K88","v":0},180,0,0,350,70,{"$error":"#NUM!"},0.66666666666666663,0,{"$error":"#NUM!"},{"$error":"#NUM!"},{"$error":"#NUM!"},0,{"$error":"#NUM!"},{"$error":"#NUM!"},{"$error":"#NUM!"},0,0.66666666666666663,5492,"OK","ー","OK","ー",{"$error":"#NUM!"},"ー","ー"]
[null,{"$f":"入力シート!F89","v":0},{"$f":"入力シート!G89","v":0},{"$f":"入力シート!H89","v":0},{"$f":"入力シート!I89","v":0},{"$f":"入力シート!L89","v":0},null,{"$error":"#N/A"},{"$error":"#N/A"},{"$error":"#N/A"},null,{"$error":"#N/A"},326.99070256410255,42.4,164.3,-98.5,null,{"$error":"#N/A"},{"$error":"#N/A"},0,0,0,0,"ー",{"$error":"#N/A"},{"$error":"#N/A"},{"$error":"#N/A"},"ー",{"$error":"#VALUE!"},"-",1,0.95,{"$error":"#N/A"},"ー","ー","ー",null,{"$error":"#N/A"},null,null,null,null,null,null,null,{"$f":"ABS(入力シート!N89)","v":0},{"$f":"入力シート!O89","v":0},0,0,0,0,-55,88.8,17.399999999999999,"OK","ー","OK","ー","OK","ー","ー",null,{"$f":"入力シート!J89","v":0},{"$f":"入力シート!K89","v":0},180,0,0,350,70,{"$error":"#NUM!"},0.66666666666666663,0,{"$error":"#NUM!"},{"$error":"#NUM!"},{"$error":"#NUM!"},0,{"$error":"#NUM!"},{"$error":"#NUM!"},{"$error":"#NUM!"},0,0.66666666666666663,5492,"OK","ー","OK","ー",{"$error":"#NUM!"},"ー","ー"]
[null,{"$f":"入力シート!F90","v":0},{"$f":"入力シート!G90","v":0},{"$f":"入力シート!H90","v":0},{"$f":"入力シート!I90","v":0},{"$f":"入力シート!L90","v":0},null,{"$error":"#N/A"},{"$error":"#N/A"},{"$error":"#N/A"},null,{"$error":"#N/A"},326.99070256410255,42.4,164.3,-98.5,null,{"$error":"#N/A"},{"$error":"#N/A"},0,0,0,0,"ー",{"$error":"#N/A"},{"$error":"#N/A"},{"$error":"#N/A"},"ー",{"$error":"#VALUE!"},"-",1,0.95,{"$error":"#N/A"},"ー","ー","ー",null,{"$error":"#N/A"},null,null,null,null,null,null,null,{"$f":"ABS(入力シート!N90)","v":0},{"$f":"入力シート!O90","v":0},0,0,0,0,-55,88.8,17.399999999999999,"OK","ー","OK","ー","OK","ー","ー",null,{"$f":"入力シート!J90","v":0},{"$f":"入力シート!K90","v":0},180,0,0,350,70,{"$error":"#NUM!"},0.66666666666666663,0,{"$error":"#NUM!"},{"$error":"#NUM!"},{"$error":"#NUM!"},0,{"$error":"#NUM!"},{"$error":"#NUM!"},{"$error":"#NUM!"},0,0.66666666666666663,5492,"OK","ー","OK","ー",{"$error":"#NUM!"},"ー","ー"]
[null,{"$f":"入力シート!F91","v":0},{"$f":"入力シート!G91","v":0},{"$f":"入力シート!H91","v":0},{"$f":"入力シート!I91","v":0},{"$f":"入力シート!L91","v":0},null,{"$error":"#N/A"},{"$error":"#N/A"},{"$error":"#N/A"},null,{"$error":"#N/A"},326.99070256410255,42.4,164.3,-98.5,null,{"$error":"#N/A"},{"$error":"#N/A"},0,0,0,0,"ー",{"$error":"#N/A"},{"$error":"#N/A"},{"$error":"#N/A"},"ー",{"$error":"#VALUE!"},"-",1,0.95,{"$error":"#N/A"},"ー","ー","ー",null,{"$error":"#N/A"},null,null,null,null,null,null,null,{"$f":"ABS(入力シート!N91)","v":0},{"$f":"入力シート!O91","v":0},0,0,0,0,-55,88.8,17.399999999999999,"OK","ー","OK","ー","OK","ー","ー",null,{"$f":"入力シート!J91","v":0},{"$f":"入力シート!K91","v":0},180,0,0,350,70,{"$error":"#NUM!"},0.66666666666666663,0,{"$error":"#NUM!"},{"$error":"#NUM!"},{"$error":"#NUM!"},0,{"$error":"#NUM!"},{"$error":"#NUM!"},{"$error":"#NUM!"},0,0.66666666666666663,5492,"OK","ー","OK","ー",{"$error":"#NUM!"},"ー","ー"]
[null,{"$f":"入力シート!F92","v":0},{"$f":"入力シート!G92","v":0},{"$f":"入力シート!H92","v":0},{"$f":"入力シート!I92","v":0},{"$f":"入力シート!L92","v":0},null,{"$error":"#N/A"},{"$error":"#N/A"},{"$error":"#N/A"},null,{"$error":"#N/A"},326.99070256410255,42.4,164.3,-98.5,null,{"$error":"#N/A"},{"$error":"#N/A"},0,0,0,0,"ー",{"$error":"#N/A"},{"$error":"#N/A"},{"$error":"#N/A"},"ー",{"$error":"#VALUE!"},"-",1,0.95,{"$error":"#N/A"},"ー","ー","ー",null,{"$error":"#N/A"},null,null,null,null,null,null,null,{"$f":"ABS(入力シート!N92)","v":0},{"$f":"入力シート!O92","v":0},0,0,0,0,-55,88.8,17.399999999999999,"OK","ー","OK","ー","OK","ー","ー",null,{"$f":"入力シート!J92","v":0},{"$f":"入力シート!K92","v":0},180,0,0,350,70,{"$error":"#NUM!"},0.66666666666666663,0,{"$error":"#NUM!"},{"$error":"#NUM!"},{"$error":"#NUM!"},0,{"$error":"#NUM!"},{"$error":"#NUM!"},{"$error":"#NUM!"},0,0.66666666666666663,5492,"OK","ー","OK","ー",{"$error":"#NUM!"},"ー","ー"]
[null,{"$f":"入力シート!F93","v":0},{"$f":"入力シート!G93","v":0},{"$f":"入力シート!H93","v":0},{"$f":"入力シート!I93","v":0},{"$f":"入力シート!L93","v":0},null,{"$error":"#N/A"},{"$error":"#N/A"},{"$error":"#N/A"},null,{"$error":"#N/A"},326.99070256410255,42.4,164.3,-98.5,null,{"$error":"#N/A"},{"$f":"VLOOKUP(B82,$AN$5:$AO$21,2,TRUE)","v":{"$error":"#N/A"}},0,0,0,0,"ー",{"$f":"IF(H82>=AL82,H82/120,\"―\")","v":{"$error":"#N/A"}},{"$f":"IF(H82>=AL82,Y82*AC82,\"ー\")","v":{"$error":"#N/A"}},{"$f":"IF(H82>=AL82,Y82/(E82/1000),\"ー\")","v":{"$error":"#N/A"}},"ー",{"$error":"#VALUE!"},"-",1,0.95,{"$error":"#N/A"},"ー","ー","ー",null,{"$f":"VLOOKUP(C82,$AQ$5:$AR$13,2,TRUE)","v":{"$error":"#N/A"}},null,null,null,null,null,null,null,{"$f":"ABS(入力シート!N93)","v":0},{"$f":"入力シート!O93","v":0},0,0,0,0,-55,88.8,17.399999999999999,"OK","ー","OK","ー","OK","ー","ー",null,{"$f":"入力シート!J93","v":0},{"$f":"入力シート!K93","v":0},180,0,0,350,70,{"$error":"#NUM!"},0.66666666666666663,0,{"$error":"#NUM!"},{"$error":"#NUM!"},{"$error":"#NUM!"},0,{"$error":"#NUM!"},{"$error":"#NUM!"},{"$error":"#NUM!"},0,0.66666666666666663,5492,"OK","ー","OK","ー",{"$error":"#NUM!"},"ー","ー"]
[null,{"$f":"入力シート!F94","v":0},{"$f":"入力シート!G94","v":0},{"$f":"入力シート!H94","v":0},{"$f":"入力シート!I94","v":0},{"$f":"入力シート!L94","v":0},null,{"$error":"#N/A"},{"$error":"#N/A"},{"$error":"#N/A"},null,{"$error":"#N/A"},326.99070256410255,42.4,164.3,-98.5,null,{"$error":"#N/A"},{"$error":"#N/A"},0,0,0,0,"ー",{"$error":"#N/A"},{"$error":"#N/A"},{"$error":"#N/A"},"ー",{"$error":"#VALUE!"},"-",1,0.95,{"$error":"#N/A"},"ー","ー","ー",null,{"$error":"#N/A"},null,null,null,null,null,null,null,{"$f":"ABS(入力シート!N94)","v":0},{"$f":"入力シート!O94","v":0},0,0,0,0,-55,88.8,17.399999999999999,"OK","ー","OK","ー","OK","ー","ー",null,{"$f":"入力シート!J94","v":0},{"$f":"入力シート!K94","v":0},180,0,0,350,70,{"$error":"#NUM!"},0.66666666666666663,0,{"$error":"#NUM!"},{"$error":"#NUM!"},{"$error":"#NUM!"},0,{"$error":"#NUM!"},{"$error":"#NUM!"},{"$error":"#NUM!"},0,0.66666666666666663,5492,"OK","ー","OK","ー",{"$error":"#NUM!"},"ー","ー"]
[null,{"$f":"入力シート!F95","v":0},{"$f":"入力シート!G95","v":0},{"$f":"入力シート!H95","v":0},{"$f":"入力シート!I95","v":0},{"$f":"入力シート!L95","v":0},null,{"$error":"#N/A"},{"$error":"#N/A"},{"$error":"#N/A"},null,{"$error":"#N/A"},326.99070256410255,42.4,164.3,-98.5,null,{"$error":"#N/A"},{"$error":"#N/A"},0,0,0,0,"ー",{"$error":"#N/A"},{"$error":"#N/A"},{"$error":"#N/A"},"ー",{"$error":"#VALUE!"},"-",1,0.95,{"$error":"#N/A"},"ー","ー","ー",null,{"$error":"#N/A"},null,null,null,null,null,null,null,{"$f":"ABS(入力シート!N95)","v":0},{"$f":"入力シート!O95","v":0},0,0,0,0,-55,88.8,17.399999999999999,"OK","ー","OK","ー","OK","ー","ー",null,{"$f":"入力シート!J95","v":0},{"$f":"入力シート!K95","v":0},180,0,0,350,70,{"$error":"#NUM!"},0.66666666666666663,0,{"$error":"#NUM!"},{"$error":"#NUM!"},{"$error":"#NUM!"},0,{"$error":"#NUM!"},{"$error":"#NUM!"},{"$error":"#NUM!"},0,0.66666666666666663,5492,"OK","ー","OK","ー",{"$error":"#NUM!"},"ー","ー"]
[null,{"$f":"入力シート!F96","v":0},{"$f":"入力シート!G96","v":0},{"$f":"入力シート!H96","v":0},{"$f":"入力シート!I96","v":0},{"$f":"入力シート!L96","v":0},null,{"$error":"#N/A"},{"$error":"#N/A"},{"$error":"#N/A"},null,{"$error":"#N/A"},326.99070256410255,42.4,164.3,-98.5,null,{"$error":"#N/A"},{"$error":"#N/A"},0,0,0,0,"ー",{"$error":"#N/A"},{"$error":"#N/A"},{"$error":"#N/A"},"ー",{"$error":"#VALUE!"},"-",1,0.95,{"$error":"#N/A"},"ー","ー","ー",null,{"$error":"#N/A"},null,null,null,null,null,null,null,{"$f":"ABS(入力シート!N96)","v":0},{"$f":"入力シート!O96","v":0},0,0,0,0,-55,88.8,17.399999999999999,"OK","ー","OK","ー","OK","ー","ー",null,{"$f":"入力シート!J96","v":0},{"$f":"入力シート!K96","v":0},180,0,0,350,70,{"$error":"#NUM!"},0.66666666666666663,0,{"$error":"#NUM!"},{"$error":"#NUM!"},{"$error":"#NUM!"},0,{"$error":"#NUM!"},{"$error":"#NUM!"},{"$error":"#NUM!"},0,0.66666666666666663,5492,"OK","ー","OK","ー",{"$error":"#NUM!"},"ー","ー"]
[null,{"$f":"入力シート!F97","v":0},{"$f":"入力シート!G97","v":0},{"$f":"入力シート!H97","v":0},{"$f":"入力シート!I97","v":0},{"$f":"入力シート!L97","v":0},null,{"$error":"#N/A"},{"$error":"#N/A"},{"$error":"#N/A"},null,{"$error":"#N/A"},326.99070256410255,42.4,164.3,-98.5,null,{"$error":"#N/A"},{"$error":"#N/A"},0,0,0,0,"ー",{"$error":"#N/A"},{"$error":"#N/A"},{"$error":"#N/A"},"ー",{"$error":"#VALUE!"},"-",1,0.95,{"$error":"#N/A"},"ー","ー","ー",null,{"$error":"#N/A"},null,null,null,null,null,null,null,{"$f":"ABS(入力シート!N97)","v":0},{"$f":"入力シート!O97","v":0},0,0,0,0,-55,88.8,17.399999999999999,"OK","ー","OK","ー","OK","ー","ー",null,{"$f":"入力シート!J97","v":0},{"$f":"入力シート!K97","v":0},180,0,0,350,70,{"$error":"#NUM!"},0.66666666666666663,0,{"$error":"#NUM!"},{"$error":"#NUM!"},{"$error":"#NUM!"},0,{"$error":"#NUM!"},{"$error":"#NUM!"},{"$error":"#NUM!"},0,0.66666666666666663,5492,"OK","ー","OK","ー",{"$error":"#NUM!"},"ー","ー"]
[null,{"$f":"入力シート!F98","v":0},{"$f":"入力シート!G98","v":0},{"$f":"入力シート!H98","v":0},{"$f":"入力シート!I98","v":0},{"$f":"入力シート!L98","v":0},null,{"$error":"#N/A"},{"$error":"#N/A"},{"$error":"#N/A"},null,{"$error":"#N/A"},326.99070256410255,42.4,164.3,-98.5,null,{"$error":"#N/A"},{"$error":"#N/A"},0,0,0,0,"ー",{"$error":"#N/A"},{"$error":"#N/A"},{"$error":"#N/A"},"ー",{"$error":"#VALUE!"},"-",1,0.95,{"$error":"#N/A"},"ー","ー","ー",null,{"$error":"#N/A"},null,null,null,null,null,null,null,{"$f":"ABS(入力シート!N98)","v":0},{"$f":"入力シート!O98","v":0},0,0,0,0,-55,88.8,17.399999999999999,"OK","ー","OK","ー","OK","ー","ー",null,{"$f":"入力シート!J98","v":0},{"$f":"入力シート!K98","v":0},180,0,0,350,70,{"$error":"#NUM!"},0.66666666666666663,0,{"$error":"#NUM!"},{"$error":"#NUM!"},{"$error":"#NUM!"},0,{"$error":"#NUM!"},{"$error":"#NUM!"},{"$error":"#NUM!"},0,0.66666666666666663,5492,"OK","ー","OK","ー",{"$error":"#NUM!"},"ー","ー"]
[null,{"$f":"入力シート!F99","v":0},{"$f":"入力シート!G99","v":0},{"$f":"入力シート!H99","v":0},{"$f":"入力シート!I99","v":0},{"$f":"入力シート!L99","v":0},null,{"$error":"#N/A"},{"$error":"#N/A"},{"$error":"#N/A"},null,{"$error":"#N/A"},326.99070256410255,42.4,164.3,-98.5,null,{"$error":"#N/A"},{"$error":"#N/A"},0,0,0,0,"ー",{"$error":"#N/A"},{"$error":"#N/A"},{"$error":"#N/A"},"ー",{"$error":"#VALUE!"},"-",1,0.95,{"$error":"#N/A"},"ー","ー","ー",null,{"$error":"#N/A"},null,null,null,null,null,null,null,{"$f":"ABS(入力シート!N99)","v":0},{"$f":"入力シート!O99","v":0},0,0,0,0,-55,88.8,17.399999999999999,"OK","ー","OK","ー","OK","ー","ー",null,{"$f":"入力シート!J99","v":0},{"$f":"入力シート!K99","v":0},180,0,0,350,70,{"$error":"#NUM!"},0.66666666666666663,0,{"$error":"#NUM!"},{"$error":"#NUM!"},{"$error":"#NUM!"},0,{"$error":"#NUM!"},{"$error":"#NUM!"},{"$error":"#NUM!"},0,0.66666666666666663,5492,"OK","ー","OK","ー",{"$error":"#NUM!"},"ー","ー"]
[null,{"$f":"入力シート!F100","v":0},{"$f":"入力シート!G100","v":0},{"$f":"入力シート!H100","v":0},{"$f":"入力シート!I100","v":0},{"$f":"入力シート!L100","v":0},null,{"$error":"#N/A"},{"$error":"#N/A"},{"$error":"#N/A"},null,{"$error":"#N/A"},326.99070256410255,42.4,164.3,-98.5,null,{"$error":"#N/A"},{"$error":"#N/A"},0,0,0,0,"ー",{"$error":"#N/A"},{"$error":"#N/A"},{"$error":"#N/A"},"ー",{"$error":"#VALUE!"},"-",1,0.95,{"$error":"#N/A"},"ー","ー","ー",null,{"$error":"#N/A"},null,null,null,null,null,null,null,{"$f":"ABS(入力シート!N100)","v":0},{"$f":"入力シート!O100","v":0},0,0,0,0,-55,88.8,17.399999999999999,"OK","ー","OK","ー","OK","ー","ー",null,{"$f":"入力シート!J100","v":0},{"$f":"入力シート!K100","v":0},180,0,0,350,70,{"$error":"#NUM!"},0.66666666666666663,0,{"$error":"#NUM!"},{"$error":"#NUM!"},{"$error":"#NUM!"},0,{"$error":"#NUM!"},{"$error":"#NUM!"},{"$error":"#NUM!"},0,0.66666666666666663,5492,"OK","ー","OK","ー",{"$error":"#NUM!"},"ー","ー"]
[null,{"$f":"入力シート!F101","v":0},{"$f":"入力シート!G101","v":0},{"$f":"入力シート!H101","v":0},{"$f":"入力シート!I101","v":0},{"$f":"入力シート!L101","v":0},null,{"$f":"((I90*J90)/(I90+J90))*0.85","v":{"$error":"#N/A"}},{"$f":"M90*L90","v":{"$error":"#N/A"}},{"$f":"R90","v":{"$error":"#N/A"}},null,{"$f":"0.0000319*S90+0.665","v":{"$error":"#N/A"}},{"$f":"((P90^2)/((1/N90)+(1/O90)))/1000","v":326.99070256410255},{"$f":"42400/1000","v":42.4},{"$f":"164300/1000","v":164.3},{"$f":"1.05*C90-98.5","v":-98.5},null,{"$f":"(((3*S90*T90)/W90))/1000000","v":{"$error":"#N/A"}},{"$error":"#N/A"},{"$f":"(V90*(U90^3))/12","v":0},{"$f":"C90","v":0},{"$f":"D90","v":0},{"$f":"E90","v":0},"ー",{"$error":"#N/A"},{"$error":"#N/A"},{"$error":"#N/A"},"ー",{"$f":"ROUNDDOWN(AD90*AE90*AF90*AG90,2)","v":{"$error":"#VALUE!"}},{"$f":"IF(F90=3,1,IF(F90=2,0.85,IF(F90=1,0.75,\"-\")))","v":"-"},1,0.95,{"$error":"#N/A"},"ー","ー","ー",null,{"$error":"#N/A"},null,null,null,null,null,null,null,{"$f":"ABS(入力シート!N101)","v":0},{"$f":"入力シート!O101","v":0},0,0,0,0,-55,88.8,17.399999999999999,"OK","ー","OK","ー","OK","ー","ー",null,{"$f":"入力シート!J101","v":0},{"$f":"入力シート!K101","v":0},180,0,0,350,70,{"$error":"#NUM!"},0.66666666666666663,0,{"$error":"#NUM!"},{"$error":"#NUM!"},{"$error":"#NUM!"},0,{"$error":"#NUM!"},{"$error":"#NUM!"},{"$error":"#NUM!"},0,0.66666666666666663,5492,"OK","ー","OK","ー",{"$error":"#NUM!"},"ー","ー"]
[null,{"$f":"入力シート!F102","v":0},{"$f":"入力シート!G102","v":0},{"$f":"入力シート!H102","v":0},{"$f":"入力シート!I102","v":0},{"$f":"入力シート!L102","v":0},null,{"$f":"((I91*J91)/(I91+J91))*0.85","v":{"$error":"#N/A"}},{"$error":"#N/A"},{"$f":"R91","v":{"$error":"#N/A"}},null,{"$f":"0.0000319*S91+0.665","v":{"$error":"#N/A"}},{"$f":"((P91^2)/((1/N91)+(1/O91)))/1000","v":326.99070256410255},{"$f":"42400/1000","v":42.4},{"$f":"164300/1000","v":164.3},-98.5,null,{"$f":"(((3*S91*T91)/W91))/1000000","v":{"$error":"#N/A"}},{"$error":"#N/A"},0,0,0,0,"ー",{"$error":"#N/A"},{"$error":"#N/A"},{"$error":"#N/A"},"ー",{"$f":"ROUNDDOWN(AD91*AE91*AF91*AG91,2)","v":{"$error":"#VALUE!"}},{"$f":"IF(F91=3,1,IF(F91=2,0.85,IF(F91=1,0.75,\"-\")))","v":"-"},1,0.95,{"$error":"#N/A"},"ー","ー","ー",null,{"$error":"#N/A"},null,null,null,null,null,null,null,{"$f":"ABS(入力シート!N102)","v":0},{"$f":"入力シート!O102","v":0},0,0,0,0,-55,88.8,17.399999999999999,"OK","ー","OK","ー","OK","ー","ー",null,{"$f":"入力シート!J102","v":0},{"$f":"入力シート!K102","v":0},180,0,0,350,70,{"$error":"#NUM!"},0.66666666666666663,0,{"$error":"#NUM!"},{"$error":"#NUM!"},{"$error":"#NUM!"},0,{"$error":"#NUM!"},{"$error":"#NUM!"},{"$error":"#NUM!"},0,0.66666666666666663,5492,"OK","ー","OK","ー",{"$error":"#NUM!"},"ー","ー"]
[null,{"$f":"入力シート!F103","v":0},{"$f":"入力シート!G103","v":0},{"$f":"入力シート!H103","v":0},{"$f":"入力シート!I103","v":0},{"$f":"入力シート!L103","v":0},null,{"$error":"#N/A"},{"$error":"#N/A"},{"$error":"#N/A"},null,{"$error":"#N/A"},326.99070256410255,42.4,164.3,-98.5,null,{"$error":"#N/A"},{"$error":"#N/A"},0,0,0,0,"ー",{"$error":"#N/A"},{"$error":"#N/A"},{"$error":"#N/A"},"ー",{"$error":"#VALUE!"},"-",1,0.95,{"$error":"#N/A"},"ー","ー","ー",null,{"$error":"#N/A"},null,null,null,null,null,null,null,{"$f":"ABS(入力シート!N103)","v":0},{"$f":"入力シート!O103","v":0},0,0,0,0,-55,88.8,17.399999999999999,"OK","ー","OK","ー","OK","ー","ー",null,{"$f":"入力シート!J103","v":0},{"$f":"入力シート!K103","v":0},180,0,0,350,70,{"$error":"#NUM!"},0.66666666666666663,0,{"$error":"#NUM!"},{"$error":"#NUM!"},{"$error":"#NUM!"},0,{"$error":"#NUM!"},{"$error":"#NUM!"},{"$error":"#NUM!"},0,0.66666666666666663,5492,"OK","ー","OK","ー",{"$error":"#NUM!"},"ー","ー"]
[null,{"$f":"入力シート!F104","v":0},{"$f":"入力シート!G104","v":0},{"$f":"入力シート!H104","v":0},{"$f":"入力シート!I104","v":0},{"$f":"入力シート!L104","v":0},null,{"$error":"#N/A"},{"$error":"#N/A"},{"$error":"#N/A"},null,{"$error":"#N/A"},326.99070256410255,42.4,164.3,-98.5,null,{"$error":"#N/A"},{"$error":"#N/A"},0,0,0,0,"ー",{"$error":"#N/A"},{"$error":"#N/A"},{"$error":"#N/A"},"ー",{"$error":"#VALUE!"},"-",1,0.95,{"$error":"#N/A"},"ー","ー","ー",null,{"$error":"#N/A"},null,null,null,null,null,null,null,{"$f":"ABS(入力シート!N104)","v":0},{"$f":"入力シート!O104","v":0},0,0,0,0,-55,88.8,17.399999999999999,"OK","ー","OK","ー","OK","ー","ー",null,{"$f":"入力シート!J104","v":0},{"$f":"入力シート!K104","v":0},180,0,0,350,70,{"$error":"#NUM!"},0.66666666666666663,0,{"$error":"#NUM!"},{"$error":"#NUM!"},{"$error":"#NUM!"},0,{"$error":"#NUM!"},{"$error":"#NUM!"},{"$error":"#NUM!"},0,0.66666666666666663,5492,"OK","ー","OK","ー",{"$error":"#NUM!"},"ー","ー"]
[null,{"$f":"入力シート!F105","v":0},{"$f":"入力シート!G105","v":0},{"$f":"入力シート!H105","v":0},{"$f":"入力シート!I105","v":0},{"$f":"入力シート!L105","v":0},null,{"$error":"#N/A"},{"$error":"#N/A"},{"$error":"#N/A"},null,{"$error":"#N/A"},326.99070256410255,42.4,164.3,-98.5,null,{"$error":"#N/A"},{"$error":"#N/A"},0,0,0,0,"ー",{"$error":"#N/A"},{"$error":"#N/A"},{"$error":"#N/A"},"ー",{"$error":"#VALUE!"},"-",1,0.95,{"$error":"#N/A"},"ー","ー","ー",null,{"$error":"#N/A"},null,null,null,null,null,null,null,{"$f":"ABS(入力シート!N105)","v":0},{"$f":"入力シート!O105","v":0},0,0,0,0,-55,88.8,17.399999999999999,"OK","ー","OK","ー","OK","ー","ー",null,{"$f":"入力シート!J105","v":0},{"$f":"入力シート!K105","v":0},180,0,0,350,70,{"$error":"#NUM!"},0.66666666666666663,0,{"$error":"#NUM!"},{"$error":"#NUM!"},{"$error":"#NUM!"},0,{"$error":"#NUM!"},{"$error":"#NUM!"},{"$error":"#NUM!"},0,0.66666666666666663,5492,"OK","ー","OK","ー",{"$error":"#NUM!"},"ー","ー"]
[null,{"$f":"入力シート!F106","v":0},{"$f":"入力シート!G106","v":0},{"$f":"入力シート!H106","v":0},{"$f":"入力シート!I106","v":0},{"$f":"入力シート!L106","v":0},null,{"$error":"#N/A"},{"$error":"#N/A"},{"$error":"#N/A"},null,{"$error":"#N/A"},326.99070256410255,42.4,164.3,-98.5,null,{"$error":"#N/A"},{"$error":"#N/A"},0,0,0,0,"ー",{"$error":"#N/A"},{"$error":"#N/A"},{"$error":"#N/A"},"ー",{"$error":"#VALUE!"},"-",1,0.95,{"$error":"#N/A"},"ー","ー","ー",null,{"$error":"#N/A"},null,null,null,null,null,null,null,{"$f":"ABS(入力シート!N106)","v":0},{"$f":"入力シート!O106","v":0},0,0,0,0,-55,88.8,17.399999999999999,"OK","ー","OK","ー","OK","ー","ー",null,{"$f":"入力シート!J106","v":0},{"$f":"入力シート!K106","v":0},180,0,0,350,70,{"$error":"#NUM!"},0.66666666666666663,0,{"$error":"#NUM!"},{"$error":"#NUM!"},{"$error":"#NUM!"},0,{"$error":"#NUM!"},{"$error":"#NUM!"},{"$error":"#NUM!"},0,0.66666666666666663,5492,"OK","ー","OK","ー",{"$error":"#NUM!"},"ー","ー"]
[null,{"$f":"入力シート!F107","v":0},{"$f":"入力シート!G107","v":0},{"$f":"入力シート!H107","v":0},{"$f":"入力シート!I107","v":0},{"$f":"入力シート!L107","v":0},null,{"$error":"#N/A"},{"$error":"#N/A"},{"$error":"#N/A"},null,{"$error":"#N/A"},326.99070256410255,42.4,164.3,-98.5,null,{"$error":"#N/A"},{"$error":"#N/A"},0,0,0,0,"ー",{"$error":"#N/A"},{"$error":"#N/A"},{"$error":"#N/A"},"ー",{"$error":"#VALUE!"},"-",1,0.95,{"$error":"#N/A"},"ー","ー","ー",null,{"$error":"#N/A"},null,null,null,null,null,null,null,{"$f":"ABS(入力シート!N107)","v":0},{"$f":"入力シート!O107","v":0},0,0,0,0,-55,88.8,17.399999999999999,"OK","ー","OK","ー","OK","ー","ー",null,{"$f":"入力シート!J107","v":0},{"$f":"入力シート!K107","v":0},180,0,0,350,70,{"$error":"#NUM!"},0.66666666666666663,0,{"$error":"#NUM!"},{"$error":"#NUM!"},{"$error":"#NUM!"},0,{"$error":"#NUM!"},{"$error":"#NUM!"},{"$error":"#NUM!"},0,0.66666666666666663,5492,"OK","ー","OK","ー",{"$error":"#NUM!"},"ー","ー"]
[null,{"$f":"入力シート!F108","v":0},{"$f":"入力シート!G108","v":0},{"$f":"入力シート!H108","v":0},{"$f":"入力シート!I108","v":0},{"$f":"入力シート!L108","v":0},null,{"$error":"#N/A"},{"$error":"#N/A"},{"$error":"#N/A"},null,{"$error":"#N/A"},326.99070256410255,42.4,164.3,-98.5,null,{"$error":"#N/A"},{"$error":"#N/A"},0,0,0,0,"ー",{"$error":"#N/A"},{"$error":"#N/A"},{"$error":"#N/A"},"ー",{"$error":"#VALUE!"},"-",1,0.95,{"$error":"#N/A"},"ー","ー","ー",null,{"$error":"#N/A"},null,null,null,null,null,null,null,{"$f":"ABS(入力シート!N108)","v":0},{"$f":"入力シート!O108","v":0},0,0,0,0,-55,88.8,17.399999999999999,"OK","ー","OK","ー","OK","ー","ー",null,{"$f":"入力シート!J108","v":0},{"$f":"入力シート!K108","v":0},180,0,0,350,70,{"$error":"#NUM!"},0.66666666666666663,0,{"$error":"#NUM!"},{"$error":"#NUM!"},{"$error":"#NUM!"},0,{"$error":"#NUM!"},{"$error":"#NUM!"},{"$error":"#NUM!"},0,0.66666666666666663,5492,"OK","ー","OK","ー",{"$error":"#NUM!"},"ー","ー"]
[null,{"$f":"入力シート!F109","v":0},{"$f":"入力シート!G109","v":0},{"$f":"入力シート!H109","v":0},{"$f":"入力シート!I109","v":0},{"$f":"入力シート!L109","v":0},null,{"$error":"#N/A"},{"$error":"#N/A"},{"$error":"#N/A"},null,{"$error":"#N/A"},326.99070256410255,42.4,164.3,-98.5,null,{"$error":"#N/A"},{"$error":"#N/A"},0,0,0,0,"ー",{"$error":"#N/A"},{"$error":"#N/A"},{"$error":"#N/A"},"ー",{"$error":"#VALUE!"},"-",1,0.95,{"$error":"#N/A"},"ー","ー","ー",null,{"$error":"#N/A"},null,null,null,null,null,null,null,{"$f":"ABS(入力シート!N109)","v":0},{"$f":"入力シート!O109","v":0},0,0,0,0,-55,88.8,17.399999999999999,"OK","ー","OK","ー","OK","ー","ー",null,{"$f":"入力シート!J109","v":0},{"$f":"入力シート!K109","v":0},180,0,0,350,70,{"$error":"#NUM!"},0.66666666666666663,0,{"$error":"#NUM!"},{"$error":"#NUM!"},{"$error":"#NUM!"},0,{"$error":"#NUM!"},{"$error":"#NUM!"},{"$error":"#NUM!"},0,0.66666666666666663,5492,"OK","ー","OK","ー",{"$error":"#NUM!"},"ー","ー"]
[null,{"$f":"入力シート!F110","v":0},{"$f":"入力シート!G110","v":0},{"$f":"入力シート!H110","v":0},{"$f":"入力シート!I110","v":0},{"$f":"入力シート!L110","v":0},null,{"$error":"#N/A"},{"$error":"#N/A"},{"$error":"#N/A"},null,{"$error":"#N/A"},326.99070256410255,42.4,164.3,-98.5,null,{"$error":"#N/A"},{"$error":"#N/A"},0,0,0,0,"ー",{"$error":"#N/A"},{"$error":"#N/A"},{"$error":"#N/A"},"ー",{"$error":"#VALUE!"},"-",1,0.95,{"$error":"#N/A"},"ー","ー","ー",null,{"$error":"#N/A"},null,null,null,null,null,null,null,{"$f":"ABS(入力シート!N110)","v":0},{"$f":"入力シート!O110","v":0},0,0,0,0,-55,88.8,17.399999999999999,"OK","ー","OK","ー","OK","ー","ー",null,{"$f":"入力シート!J110","v":0},{"$f":"入力シート!K110","v":0},180,0,0,350,70,{"$error":"#NUM!"},0.66666666666666663,0,{"$error":"#NUM!"},{"$error":"#NUM!"},{"$error":"#NUM!"},0,{"$error":"#NUM!"},{"$error":"#NUM!"},{"$error":"#NUM!"},0,0.66666666666666663,5492,"OK","ー","OK","ー",{"$error":"#NUM!"},"ー","ー"]
[null,{"$f":"入力シート!F111","v":0},{"$f":"入力シート!G111","v":0},{"$f":"入力シート!H111","v":0},{"$f":"入力シート!I111","v":0},{"$f":"入力シート!L111","v":0},null,{"$error":"#N/A"},{"$error":"#N/A"},{"$error":"#N/A"},null,{"$error":"#N/A"},326.99070256410255,42.4,164.3,-98.5,null,{"$error":"#N/A"},{"$error":"#N/A"},0,0,0,0,"ー",{"$error":"#N/A"},{"$error":"#N/A"},{"$error":"#N/A"},"ー",{"$error":"#VALUE!"},"-",1,0.95,{"$error":"#N/A"},"ー","ー","ー",null,{"$error":"#N/A"},null,null,null,null,null,null,null,{"$f":"ABS(入力シート!N111)","v":0},{"$f":"入力シート!O111","v":0},0,0,0,0,-55,88.8,17.399999999999999,"OK","ー","OK","ー","OK","ー","ー",null,{"$f":"入力シート!J111","v":0},{"$f":"入力シート!K111","v":0},180,0,0,350,70,{"$error":"#NUM!"},0.66666666666666663,0,{"$error":"#NUM!"},{"$error":"#NUM!"},{"$error":"#NUM!"},0,{"$error":"#NUM!"},{"$error":"#NUM!"},{"$error":"#NUM!"},0,0.66666666666666663,5492,"OK","ー","OK","ー",{"$error":"#NUM!"},"ー","ー"]
[null,{"$f":"入力シート!F112","v":0},{"$f":"入力シート!G112","v":0},{"$f":"入力シート!H112","v":0},{"$f":"入力シート!I112","v":0},{"$f":"入力シート!L112","v":0},null,{"$error":"#N/A"},{"$error":"#N/A"},{"$error":"#N/A"},null,{"$error":"#N/A"},326.99070256410255,42.4,164.3,-98.5,null,{"$error":"#N/A"},{"$error":"#N/A"},0,0,0,0,"ー",{"$error":"#N/A"},{"$error":"#N/A"},{"$error":"#N/A"},"ー",{"$error":"#VALUE!"},"-",1,0.95,{"$error":"#N/A"},"ー","ー","ー",null,{"$error":"#N/A"},null,null,null,null,null,null,null,{"$f":"ABS(入力シート!N112)","v":0},{"$f":"入力シート!O112","v":0},0,{"$f":"(AT101*(E101/1000))/(P101/1000)","v":0},0,0,{"$f":"IF(F101=3,63.2,IF(F101=2,63.2,55))*-1","v":-55},{"$f":"IF(F101=3,127.8,IF(F101=2,107.6,88.8))","v":88.8},{"$f":"IF(F101=3,23.1,IF(F101=2,21,17.4))","v":17.399999999999999},"OK","ー","OK","ー","OK","ー","ー",null,{"$f":"入力シート!J112","v":0},{"$f":"入力シート!K112","v":0},180,0,0,350,70,{"$error":"#NUM!"},0.66666666666666663,0,{"$error":"#NUM!"},{"$error":"#NUM!"},{"$error":"#NUM!"},0,{"$error":"#NUM!"},{"$error":"#NUM!"},{"$error":"#NUM!"},{"$f":"CC101*BK101*CD101/1000","v":0},0.66666666666666663,5492,"OK","ー","OK","ー",{"$error":"#NUM!"},"ー","ー"]
[null,{"$f":"入力シート!F113","v":0},{"$f":"入力シート!G113","v":0},{"$f":"入力シート!H113","v":0},{"$f":"入力シート!I113","v":0},{"$f":"入力シート!L113","v":0},null,{"$error":"#N/A"},{"$error":"#N/A"},{"$error":"#N/A"},null,{"$error":"#N/A"},326.99070256410255,42.4,164.3,-98.5,null,{"$error":"#N/A"},{"$error":"#N/A"},0,0,0,0,"ー",{"$error":"#N/A"},{"$error":"#N/A"},{"$error":"#N/A"},"ー",{"$error":"#VALUE!"},"-",1,0.95,{"$error":"#N/A"},"ー","ー","ー",null,{"$error":"#N/A"},null,null,null,null,null,null,null,{"$f":"ABS(入力シート!N113)","v":0},{"$f":"入力シート!O113","v":0},0,0,0,0,-55,88.8,17.399999999999999,"OK","ー","OK","ー","OK","ー","ー",null,{"$f":"入力シート!J113","v":0},{"$f":"入力シート!K113","v":0},180,0,0,350,70,{"$error":"#NUM!"},0.66666666666666663,0,{"$error":"#NUM!"},{"$error":"#NUM!"},{"$error":"#NUM!"},0,{"$error":"#NUM!"},{"$error":"#NUM!"},{"$error":"#NUM!"},0,0.66666666666666663,5492,"OK","ー","OK","ー",{"$error":"#NUM!"},"ー","ー"]
[null,{"$f":"入力シート!F114","v":0},{"$f":"入力シート!G114","v":0},{"$f":"入力シート!H114","v":0},{"$f":"入力シート!I114","v":0},{"$f":"入力シート!L114","v":0},null,{"$error":"#N/A"},{"$error":"#N/A"},{"$error":"#N/A"},null,{"$error":"#N/A"},326.99070256410255,42.4,164.3,-98.5,null,{"$error":"#N/A"},{"$error":"#N/A"},0,0,0,0,"ー",{"$error":"#N/A"},{"$error":"#N/A"},{"$error":"#N/A"},"ー",{"$error":"#VALUE!"},"-",1,0.95,{"$error":"#N/A"},"ー","ー","ー",null,{"$error":"#N/A"},null,null,null,null,null,null,null,{"$f":"ABS(入力シート!N114)","v":0},{"$f":"入力シート!O114","v":0},0,0,0,0,-55,88.8,17.399999999999999,"OK","ー","OK","ー","OK","ー","ー",null,{"$f":"入力シート!J114","v":0},{"$f":"入力シート!K114","v":0},180,0,0,350,70,{"$error":"#NUM!"},0.66666666666666663,0,{"$error":"#NUM!"},{"$error":"#NUM!"},{"$error":"#NUM!"},0,{"$error":"#NUM!"},{"$error":"#NUM!"},{"$error":"#NUM!"},0,0.66666666666666663,5492,"OK","ー","OK","ー",{"$error":"#NUM!"},"ー","ー"]
[null,{"$f":"入力シート!F115","v":0},{"$f":"入力シート!G115","v":0},{"$f":"入力シート!H115","v":0},{"$f":"入力シート!I115","v":0},{"$f":"入力シート!L115","v":0},null,{"$error":"#N/A"},{"$error":"#N/A"},{"$error":"#N/A"},null,{"$error":"#N/A"},326.99070256410255,42.4,164.3,-98.5,null,{"$error":"#N/A"},{"$error":"#N/A"},0,0,0,0,"ー",{"$error":"#N/A"},{"$error":"#N/A"},{"$error":"#N/A"},"ー",{"$error":"#VALUE!"},"-",1,0.95,{"$error":"#N/A"},"ー","ー","ー",null,{"$error":"#N/A"},null,null,null,null,null,null,null,{"$f":"ABS(入力シート!N115)","v":0},{"$f":"入力シート!O115","v":0},0,0,0,0,-55,88.8,17.399999999999999,"OK","ー","OK","ー","OK","ー","ー",null,{"$f":"入力シート!J115","v":0},{"$f":"入力シート!K115","v":0},180,0,0,350,70,{"$error":"#NUM!"},0.66666666666666663,0,{"$error":"#NUM!"},{"$error":"#NUM!"},{"$error":"#NUM!"},0,{"$error":"#NUM!"},{"$error":"#NUM!"},{"$error":"#NUM!"},0,0.66666666666666663,5492,"OK","ー","OK","ー",{"$error":"#NUM!"},"ー","ー"]
[null,{"$f":"入力シート!F116","v":0},{"$f":"入力シート!G116","v":0},{"$f":"入力シート!H116","v":0},{"$f":"入力シート!I116","v":0},{"$f":"入力シート!L116","v":0},null,{"$error":"#N/A"},{"$error":"#N/A"},{"$error":"#N/A"},null,{"$error":"#N/A"},326.99070256410255,42.4,164.3,-98.5,null,{"$error":"#N/A"},{"$error":"#N/A"},0,0,0,0,"ー",{"$error":"#N/A"},{"$error":"#N/A"},{"$error":"#N/A"},"ー",{"$error":"#VALUE!"},"-",1,0.95,{"$error":"#N/A"},"ー","ー","ー",null,{"$error":"#N/A"},null,null,null,null,null,null,null,{"$f":"ABS(入力シート!N116)","v":0},{"$f":"入力シート!O116","v":0},0,0,0,0,-55,88.8,17.399999999999999,"OK","ー","OK","ー","OK","ー","ー",null,{"$f":"入力シート!J116","v":0},{"$f":"入力シート!K116","v":0},180,0,0,350,70,{"$error":"#NUM!"},0.66666666666666663,0,{"$error":"#NUM!"},{"$error":"#NUM!"},{"$error":"#NUM!"},0,{"$error":"#NUM!"},{"$error":"#NUM!"},{"$error":"#NUM!"},0,0.66666666666666663,5492,"OK","ー","OK","ー",{"$error":"#NUM!"},"ー","ー"]
[null,{"$f":"入力シート!F117","v":0},{"$f":"入力シート!G117","v":0},{"$f":"入力シート!H117","v":0},{"$f":"入力シート!I117","v":0},{"$f":"入力シート!L117","v":0},null,{"$error":"#N/A"},{"$error":"#N/A"},{"$error":"#N/A"},null,{"$error":"#N/A"},326.99070256410255,42.4,164.3,-98.5,null,{"$error":"#N/A"},{"$error":"#N/A"},0,0,0,0,"ー",{"$error":"#N/A"},{"$error":"#N/A"},{"$error":"#N/A"},"ー",{"$error":"#VALUE!"},"-",1,0.95,{"$error":"#N/A"},"ー","ー","ー",null,{"$error":"#N/A"},null,null,null,null,null,null,null,{"$f":"ABS(入力シート!N117)","v":0},{"$f":"入力シート!O117","v":0},0,0,0,0,-55,88.8,17.399999999999999,"OK","ー","OK","ー","OK","ー","ー",null,{"$f":"入力シート!J117","v":0},{"$f":"入力シート!K117","v":0},180,0,0,350,70,{"$error":"#NUM!"},0.66666666666666663,0,{"$error":"#NUM!"},{"$error":"#NUM!"},{"$error":"#NUM!"},0,{"$error":"#NUM!"},{"$error":"#NUM!"},{"$error":"#NUM!"},0,0.66666666666666663,5492,"OK","ー","OK","ー",{"$error":"#NUM!"},"ー","ー"]
[null,{"$f":"入力シート!F118","v":0},{"$f":"入力シート!G118","v":0},{"$f":"入力シート!H118","v":0},{"$f":"入力シート!I118","v":0},{"$f":"入力シート!L118","v":0},null,{"$f":"((I107*J107)/(I107+J107))*0.85","v":{"$error":"#N/A"}},{"$f":"M107*L107","v":{"$error":"#N/A"}},{"$f":"R107","v":{"$error":"#N/A"}},null,{"$f":"0.0000319*S107+0.665","v":{"$error":"#N/A"}},{"$f":"((P107^2)/((1/N107)+(1/O107)))/1000","v":326.99070256410255},{"$f":"42400/1000","v":42.4},{"$f":"164300/1000","v":164.3},{"$f":"1.05*C107-98.5","v":-98.5},null,{"$f":"(((3*S107*T107)/W107))/1000000","v":{"$error":"#N/A"}},{"$error":"#N/A"},{"$f":"(V107*(U107^3))/12","v":0},{"$f":"C107","v":0},{"$f":"D107","v":0},{"$f":"E107","v":0},"ー",{"$error":"#N/A"},{"$error":"#N/A"},{"$error":"#N/A"},"ー",{"$f":"ROUNDDOWN(AD107*AE107*AF107*AG107,2)","v":{"$error":"#VALUE!"}},{"$f":"IF(F107=3,1,IF(F107=2,0.85,IF(F107=1,0.75,\"-\")))","v":"-"},1,0.95,{"$error":"#N/A"},"ー","ー","ー",null,{"$error":"#N/A"},null,null,null,null,null,null,null,{"$f":"ABS(入力シート!N118)","v":0},{"$f":"入力シート!O118","v":0},0,0,0,0,-55,88.8,17.399999999999999,"OK","ー","OK","ー","OK","ー","ー",null,{"$f":"入力シート!J118","v":0},{"$f":"入力シート!K118","v":0},180,0,0,350,70,{"$error":"#NUM!"},0.66666666666666663,0,{"$error":"#NUM!"},{"$error":"#NUM!"},{"$error":"#NUM!"},0,{"$error":"#NUM!"},{"$error":"#NUM!"},{"$error":"#NUM!"},0,0.66666666666666663,5492,"OK","ー","OK","ー",{"$error":"#NUM!"},"ー","ー"]
[null,{"$f":"入力シート!F119","v":0},{"$f":"入力シート!G119","v":0},{"$f":"入力シート!H119","v":0},{"$f":"入力シート!I119","v":0},{"$f":"入力シート!L119","v":0},null,{"$f":"((I108*J108)/(I108+J108))*0.85","v":{"$error":"#N/A"}},{"$error":"#N/A"},{"$f":"R108","v":{"$error":"#N/A"}},null,{"$f":"0.0000319*S108+0.665","v":{"$error":"#N/A"}},{"$f":"((P108^2)/((1/N108)+(1/O108)))/1000","v":326.99070256410255},{"$f":"42400/1000","v":42.4},{"$f":"164300/1000","v":164.3},-98.5,null,{"$f":"(((3*S108*T108)/W108))/1000000","v":{"$error":"#N/A"}},{"$error":"#N/A"},0,0,0,0,"ー",{"$error":"#N/A"},{"$error":"#N/A"},{"$error":"#N/A"},"ー",{"$f":"ROUNDDOWN(AD108*AE108*AF108*AG108,2)","v":{"$error":"#VALUE!"}},{"$f":"IF(F108=3,1,IF(F108=2,0.85,IF(F108=1,0.75,\"-\")))","v":"-"},1,0.95,{"$error":"#N/A"},"ー","ー","ー",null,{"$error":"#N/A"},null,null,null,null,null,null,null,{"$f":"ABS(入力シート!N119)","v":0},{"$f":"入力シート!O119","v":0},0,0,0,0,-55,88.8,17.399999999999999,"OK","ー","OK","ー","OK","ー","ー",null,{"$f":"入力シート!J119","v":0},{"$f":"入力シート!K119","v":0},180,0,0,350,70,{"$error":"#NUM!"},0.66666666666666663,0,{"$error":"#NUM!"},{"$error":"#NUM!"},{"$error":"#NUM!"},0,{"$error":"#NUM!"},{"$error":"#NUM!"},{"$error":"#NUM!"},0,0.66666666666666663,5492,"OK","ー","OK","ー",{"$error":"#NUM!"},"ー","ー"]
[null,{"$f":"入力シート!F120","v":0},{"$f":"入力シート!G120","v":0},{"$f":"入力シート!H120","v":0},{"$f":"入力シート!I120","v":0},{"$f":"入力シート!L120","v":0},null,{"$error":"#N/A"},{"$error":"#N/A"},{"$error":"#N/A"},null,{"$error":"#N/A"},326.99070256410255,42.4,164.3,-98.5,null,{"$error":"#N/A"},{"$error":"#N/A"},0,0,0,0,"ー",{"$error":"#N/A"},{"$error":"#N/A"},{"$error":"#N/A"},"ー",{"$error":"#VALUE!"},"-",1,0.95,{"$error":"#N/A"},"ー","ー","ー",null,{"$error":"#N/A"},null,null,null,null,null,null,null,{"$f":"ABS(入力シート!N120)","v":0},{"$f":"入力シート!O120","v":0},0,0,0,0,-55,88.8,17.399999999999999,"OK","ー","OK","ー","OK","ー","ー",null,{"$f":"入力シート!J120","v":0},{"$f":"入力シート!K120","v":0},180,0,0,350,70,{"$error":"#NUM!"},0.66666666666666663,0,{"$error":"#NUM!"},{"$error":"#NUM!"},{"$error":"#NUM!"},0,{"$error":"#NUM!"},{"$error":"#NUM!"},{"$error":"#NUM!"},0,0.66666666666666663,5492,"OK","ー","OK","ー",{"$error":"#NUM!"},"ー","ー"]
[null,{"$f":"入力シート!F121","v":0},{"$f":"入力シート!G121","v":0},{"$f":"入力シート!H121","v":0},{"$f":"入力シート!I121","v":0},{"$f":"入力シート!L121","v":0},null,{"$error":"#N/A"},{"$error":"#N/A"},{"$error":"#N/A"},null,{"$error":"#N/A"},326.99070256410255,42.4,164.3,-98.5,null,{"$error":"#N/A"},{"$error":"#N/A"},0,0,0,0,"ー",{"$error":"#N/A"},{"$error":"#N/A"},{"$error":"#N/A"},"ー",{"$error":"#VALUE!"},"-",1,0.95,{"$error":"#N/A"},"ー","ー","ー",null,{"$error":"#N/A"},null,null,null,null,null,null,null,{"$f":"ABS(入力シート!N121)","v":0},{"$f":"入力シート!O121","v":0},0,0,0,0,-55,88.8,17.399999999999999,"OK","ー","OK","ー","OK","ー","ー",null,{"$f":"入力シート!J121","v":0},{"$f":"入力シート!K121","v":0},180,0,0,350,70,{"$error":"#NUM!"},0.66666666666666663,0,{"$error":"#NUM!"},{"$error":"#NUM!"},{"$error":"#NUM!"},0,{"$error":"#NUM!"},{"$error":"#NUM!"},{"$error":"#NUM!"},0,0.66666666666666663,5492,"OK","ー","OK","ー",{"$error":"#NUM!"},"ー","ー"]
[null,{"$f":"入力シート!F122","v":0},{"$f":"入力シート!G122","v":0},{"$f":"入力シート!H122","v":0},{"$f":"入力シート!I122","v":0},{"$f":"入力シート!L122","v":0},null,{"$error":"#N/A"},{"$error":"#N/A"},{"$error":"#N/A"},null,{"$error":"#N/A"},326.99070256410255,42.4,164.3,-98.5,null,{"$error":"#N/A"},{"$error":"#N/A"},0,0,0,0,"ー",{"$error":"#N/A"},{"$error":"#N/A"},{"$error":"#N/A"},"ー",{"$error":"#VALUE!"},"-",1,0.95,{"$error":"#N/A"},"ー","ー","ー",null,{"$error":"#N/A"},null,null,null,null,null,null,null,{"$f":"ABS(入力シート!N122)","v":0},{"$f":"入力シート!O122","v":0},0,0,0,0,-55,88.8,17.399999999999999,"OK","ー","OK","ー","OK","ー","ー",null,{"$f":"入力シート!J122","v":0},{"$f":"入力シート!K122","v":0},180,0,0,350,70,{"$error":"#NUM!"},0.66666666666666663,0,{"$error":"#NUM!"},{"$error":"#NUM!"},{"$error":"#NUM!"},0,{"$error":"#NUM!"},{"$error":"#NUM!"},{"$error":"#NUM!"},0,0.66666666666666663,5492,"OK","ー","OK","ー",{"$error":"#NUM!"},"ー","ー"]
[null,{"$f":"入力シート!F123","v":0},{"$f":"入力シート!G123","v":0},{"$f":"入力シート!H123","v":0},{"$f":"入力シート!I123","v":0},{"$f":"入力シート!L123","v":0},null,{"$error":"#N/A"},{"$error":"#N/A"},{"$error":"#N/A"},null,{"$error":"#N/A"},326.99070256410255,42.4,164.3,-98.5,null,{"$error":"#N/A"},{"$error":"#N/A"},0,0,0,0,"ー",{"$error":"#N/A"},{"$error":"#N/A"},{"$error":"#N/A"},"ー",{"$error":"#VALUE!"},"-",1,0.95,{"$error":"#N/A"},"ー","ー","ー",null,{"$error":"#N/A"},null,null,null,null,null,null,null,{"$f":"ABS(入力シート!N123)","v":0},{"$f":"入力シート!O123","v":0},0,0,0,0,-55,88.8,17.399999999999999,"OK","ー","OK","ー","OK","ー","ー",null,{"$f":"入力シート!J123","v":0},{"$f":"入力シート!K123","v":0},180,0,0,350,70,{"$error":"#NUM!"},0.66666666666666663,0,{"$error":"#NUM!"},{"$error":"#NUM!"},{"$error":"#NUM!"},0,{"$error":"#NUM!"},{"$error":"#NUM!"},{"$error":"#NUM!"},0,0.66666666666666663,5492,"OK","ー","OK","ー",{"$error":"#NUM!"},"ー","ー"]
[null,{"$f":"入力シート!F124","v":0},{"$f":"入力シート!G124","v":0},{"$f":"入力シート!H124","v":0},{"$f":"入力シート!I124","v":0},{"$f":"入力シート!L124","v":0},null,{"$error":"#N/A"},{"$error":"#N/A"},{"$error":"#N/A"},null,{"$error":"#N/A"},326.99070256410255,42.4,164.3,-98.5,null,{"$error":"#N/A"},{"$error":"#N/A"},0,0,0,0,"ー",{"$error":"#N/A"},{"$error":"#N/A"},{"$error":"#N/A"},"ー",{"$error":"#VALUE!"},"-",1,0.95,{"$error":"#N/A"},"ー","ー","ー",null,{"$error":"#N/A"},null,null,null,null,null,null,null,{"$f":"ABS(入力シート!N124)","v":0},{"$f":"入力シート!O124","v":0},0,0,0,0,-55,88.8,17.399999999999999,"OK","ー","OK","ー","OK","ー","ー",null,{"$f":"入力シート!J124","v":0},{"$f":"入力シート!K124","v":0},180,0,0,350,70,{"$error":"#NUM!"},0.66666666666666663,0,{"$error":"#NUM!"},{"$error":"#NUM!"},{"$error":"#NUM!"},0,{"$error":"#NUM!"},{"$error":"#NUM!"},{"$error":"#NUM!"},0,0.66666666666666663,5492,"OK","ー","OK","ー",{"$error":"#NUM!"},"ー","ー"]
[null,{"$f":"入力シート!F125","v":0},{"$f":"入力シート!G125","v":0},{"$f":"入力シート!H125","v":0},{"$f":"入力シート!I125","v":0},{"$f":"入力シート!L125","v":0},null,{"$error":"#N/A"},{"$error":"#N/A"},{"$error":"#N/A"},null,{"$error":"#N/A"},326.99070256410255,42.4,164.3,-98.5,null,{"$error":"#N/A"},{"$f":"VLOOKUP(B114,$AN$5:$AO$21,2,TRUE)","v":{"$error":"#N/A"}},0,0,0,0,"ー",{"$f":"IF(H114>=AL114,H114/120,\"―\")","v":{"$error":"#N/A"}},{"$f":"IF(H114>=AL114,Y114*AC114,\"ー\")","v":{"$error":"#N/A"}},{"$f":"IF(H114>=AL114,Y114/(E114/1000),\"ー\")","v":{"$error":"#N/A"}},"ー",{"$error":"#VALUE!"},"-",1,0.95,{"$error":"#N/A"},"ー","ー","ー",null,{"$f":"VLOOKUP(C114,$AQ$5:$AR$13,2,TRUE)","v":{"$error":"#N/A"}},null,null,null,null,null,null,null,{"$f":"ABS(入力シート!N125)","v":0},{"$f":"入力シート!O125","v":0},0,0,0,0,-55,88.8,17.399999999999999,"OK","ー","OK","ー","OK","ー","ー",null,{"$f":"入力シート!J125","v":0},{"$f":"入力シート!K125","v":0},180,0,0,350,70,{"$error":"#NUM!"},0.66666666666666663,0,{"$error":"#NUM!"},{"$error":"#NUM!"},{"$error":"#NUM!"},0,{"$error":"#NUM!"},{"$error":"#NUM!"},{"$error":"#NUM!"},0,0.66666666666666663,5492,"OK","ー","OK","ー",{"$error":"#NUM!"},"ー","ー"]
[null,{"$f":"入力シート!F126","v":0},{"$f":"入力シート!G126","v":0},{"$f":"入力シート!H126","v":0},{"$f":"入力シート!I126","v":0},{"$f":"入力シート!L126","v":0},null,{"$error":"#N/A"},{"$error":"#N/A"},{"$error":"#N/A"},null,{"$error":"#N/A"},326.99070256410255,42.4,164.3,-98.5,null,{"$error":"#N/A"},{"$error":"#N/A"},0,0,0,0,"ー",{"$error":"#N/A"},{"$error":"#N/A"},{"$error":"#N/A"},"ー",{"$error":"#VALUE!"},"-",1,0.95,{"$error":"#N/A"},"ー","ー","ー",null,{"$error":"#N/A"},null,null,null,null,null,null,null,{"$f":"ABS(入力シート!N126)","v":0},{"$f":"入力シート!O126","v":0},0,0,0,0,-55,88.8,17.399999999999999,"OK","ー","OK","ー","OK","ー","ー",null,{"$f":"入力シート!J126","v":0},{"$f":"入力シート!K126","v":0},180,0,0,350,70,{"$error":"#NUM!"},0.66666666666666663,0,{"$error":"#NUM!"},{"$error":"#NUM!"},{"$error":"#NUM!"},0,{"$error":"#NUM!"},{"$error":"#NUM!"},{"$error":"#NUM!"},0,0.66666666666666663,5492,"OK","ー","OK","ー",{"$error":"#NUM!"},"ー","ー"]
[null,{"$f":"入力シート!F127","v":0},{"$f":"入力シート!G127","v":0},{"$f":"入力シート!H127","v":0},{"$f":"入力シート!I127","v":0},{"$f":"入力シート!L127","v":0},null,{"$error":"#N/A"},{"$error":"#N/A"},{"$error":"#N/A"},null,{"$error":"#N/A"},326.99070256410255,42.4,164.3,-98.5,null,{"$error":"#N/A"},{"$error":"#N/A"},0,0,0,0,"ー",{"$error":"#N/A"},{"$error":"#N/A"},{"$error":"#N/A"},"ー",{"$error":"#VALUE!"},"-",1,0.95,{"$error":"#N/A"},"ー","ー","ー",null,{"$error":"#N/A"},null,null,null,null,null,null,null,{"$f":"ABS(入力シート!N127)","v":0},{"$f":"入力シート!O127","v":0},0,0,0,0,-55,88.8,17.399999999999999,"OK","ー","OK","ー","OK","ー","ー",null,{"$f":"入力シート!J127","v":0},{"$f":"入力シート!K127","v":0},180,0,0,350,70,{"$error":"#NUM!"},0.66666666666666663,0,{"$error":"#NUM!"},{"$error":"#NUM!"},{"$error":"#NUM!"},0,{"$error":"#NUM!"},{"$error":"#NUM!"},{"$error":"#NUM!"},0,0.66666666666666663,5492,"OK","ー","OK","ー",{"$error":"#NUM!"},"ー","ー"]
[null,{"$f":"入力シート!F128","v":0},{"$f":"入力シート!G128","v":0},{"$f":"入力シート!H128","v":0},{"$f":"入力シート!I128","v":0},{"$f":"入力シート!L128","v":0},null,{"$error":"#N/A"},{"$error":"#N/A"},{"$error":"#N/A"},null,{"$error":"#N/A"},326.99070256410255,42.4,164.3,-98.5,null,{"$error":"#N/A"},{"$error":"#N/A"},0,0,0,0,"ー",{"$error":"#N/A"},{"$error":"#N/A"},{"$error":"#N/A"},"ー",{"$error":"#VALUE!"},"-",1,0.95,{"$error":"#N/A"},"ー","ー","ー",null,{"$error":"#N/A"},null,null,null,null,null,null,null,{"$f":"ABS(入力シート!N128)","v":0},{"$f":"入力シート!O128","v":0},0,0,0,0,-55,88.8,17.399999999999999,"OK","ー","OK","ー","OK","ー","ー",null,{"$f":"入力シート!J128","v":0},{"$f":"入力シート!K128","v":0},180,0,0,350,70,{"$error":"#NUM!"},0.66666666666666663,0,{"$error":"#NUM!"},{"$error":"#NUM!"},{"$error":"#NUM!"},0,{"$error":"#NUM!"},{"$error":"#NUM!"},{"$error":"#NUM!"},0,0.66666666666666663,5492,"OK","ー","OK","ー",{"$error":"#NUM!"},"ー","ー"]
[null,{"$f":"入力シート!F129","v":0},{"$f":"入力シート!G129","v":0},{"$f":"入力シート!H129","v":0},{"$f":"入力シート!I129","v":0},{"$f":"入力シート!L129","v":0},null,{"$error":"#N/A"},{"$error":"#N/A"},{"$error":"#N/A"},null,{"$error":"#N/A"},326.99070256410255,42.4,164.3,-98.5,null,{"$error":"#N/A"},{"$error":"#N/A"},0,0,0,0,"ー",{"$error":"#N/A"},{"$error":"#N/A"},{"$error":"#N/A"},"ー",{"$error":"#VALUE!"},"-",1,0.95,{"$error":"#N/A"},"ー","ー","ー",null,{"$error":"#N/A"},null,null,null,null,null,null,null,{"$f":"ABS(入力シート!N129)","v":0},{"$f":"入力シート!O129","v":0},0,0,0,0,-55,88.8,17.399999999999999,"OK","ー","OK","ー","OK","ー","ー",null,{"$f":"入力シート!J129","v":0},{"$f":"入力シート!K129","v":0},180,0,0,350,70,{"$error":"#NUM!"},0.66666666666666663,0,{"$error":"#NUM!"},{"$error":"#NUM!"},{"$error":"#NUM!"},0,{"$error":"#NUM!"},{"$error":"#NUM!"},{"$error":"#NUM!"},0,0.66666666666666663,5492,"OK","ー","OK","ー",{"$error":"#NUM!"},"ー","ー"]
[null,{"$f":"入力シート!F130","v":0},{"$f":"入力シート!G130","v":0},{"$f":"入力シート!H130","v":0},{"$f":"入力シート!I130","v":0},{"$f":"入力シート!L130","v":0},null,{"$error":"#N/A"},{"$error":"#N/A"},{"$error":"#N/A"},null,{"$error":"#N/A"},326.99070256410255,42.4,164.3,-98.5,null,{"$error":"#N/A"},{"$error":"#N/A"},0,0,0,0,"ー",{"$error":"#N/A"},{"$error":"#N/A"},{"$error":"#N/A"},"ー",{"$error":"#VALUE!"},"-",1,0.95,{"$error":"#N/A"},"ー","ー","ー",null,{"$error":"#N/A"},null,null,null,null,null,null,null,{"$f":"ABS(入力シート!N130)","v":0},{"$f":"入力シート!O130","v":0},0,0,0,0,-55,88.8,17.399999999999999,"OK","ー","OK","ー","OK","ー","ー",null,{"$f":"入力シート!J130","v":0},{"$f":"入力シート!K130","v":0},180,0,0,350,70,{"$error":"#NUM!"},0.66666666666666663,0,{"$error":"#NUM!"},{"$error":"#NUM!"},{"$error":"#NUM!"},0,{"$error":"#NUM!"},{"$error":"#NUM!"},{"$error":"#NUM!"},0,0.66666666666666663,5492,"OK","ー","OK","ー",{"$error":"#NUM!"},"ー","ー"]
[null,{"$f":"入力シート!F131","v":0},{"$f":"入力シート!G131","v":0},{"$f":"入力シート!H131","v":0},{"$f":"入力シート!I131","v":0},{"$f":"入力シート!L131","v":0},null,{"$error":"#N/A"},{"$error":"#N/A"},{"$error":"#N/A"},null,{"$error":"#N/A"},326.99070256410255,42.4,164.3,-98.5,null,{"$error":"#N/A"},{"$error":"#N/A"},0,0,0,0,"ー",{"$error":"#N/A"},{"$error":"#N/A"},{"$error":"#N/A"},"ー",{"$error":"#VALUE!"},"-",1,0.95,{"$error":"#N/A"},"ー","ー","ー",null,{"$error":"#N/A"},null,null,null,null,null,null,null,{"$f":"ABS(入力シート!N131)","v":0},{"$f":"入力シート!O131","v":0},0,0,0,0,-55,88.8,17.399999999999999,"OK","ー","OK","ー","OK","ー","ー",null,{"$f":"入力シート!J131","v":0},{"$f":"入力シート!K131","v":0},180,0,0,350,70,{"$error":"#NUM!"},0.66666666666666663,0,{"$error":"#NUM!"},{"$error":"#NUM!"},{"$error":"#NUM!"},0,{"$error":"#NUM!"},{"$error":"#NUM!"},{"$error":"#NUM!"},0,0.66666666666666663,5492,"OK","ー","OK","ー",{"$error":"#NUM!"},"ー","ー"]
[null,{"$f":"入力シート!F132","v":0},{"$f":"入力シート!G132","v":0},{"$f":"入力シート!H132","v":0},{"$f":"入力シート!I132","v":0},{"$f":"入力シート!L132","v":0},null,{"$error":"#N/A"},{"$error":"#N/A"},{"$error":"#N/A"},null,{"$error":"#N/A"},326.99070256410255,42.4,164.3,-98.5,null,{"$error":"#N/A"},{"$error":"#N/A"},0,0,0,0,"ー",{"$error":"#N/A"},{"$error":"#N/A"},{"$error":"#N/A"},"ー",{"$error":"#VALUE!"},"-",1,0.95,{"$error":"#N/A"},"ー","ー","ー",null,{"$error":"#N/A"},null,null,null,null,null,null,null,{"$f":"ABS(入力シート!N132)","v":0},{"$f":"入力シート!O132","v":0},0,0,0,0,-55,88.8,17.399999999999999,"OK","ー","OK","ー","OK","ー","ー",null,{"$f":"入力シート!J132","v":0},{"$f":"入力シート!K132","v":0},180,0,0,350,70,{"$error":"#NUM!"},0.66666666666666663,0,{"$error":"#NUM!"},{"$error":"#NUM!"},{"$error":"#NUM!"},0,{"$error":"#NUM!"},{"$error":"#NUM!"},{"$error":"#NUM!"},0,0.66666666666666663,5492,"OK","ー","OK","ー",{"$error":"#NUM!"},"ー","ー"]
[null,{"$f":"入力シート!F133","v":0},{"$f":"入力シート!G133","v":0},{"$f":"入力シート!H133","v":0},{"$f":"入力シート!I133","v":0},{"$f":"入力シート!L133","v":0},null,{"$error":"#N/A"},{"$error":"#N/A"},{"$error":"#N/A"},null,{"$error":"#N/A"},326.99070256410255,42.4,164.3,-98.5,null,{"$error":"#N/A"},{"$error":"#N/A"},0,0,0,0,"ー",{"$error":"#N/A"},{"$error":"#N/A"},{"$error":"#N/A"},"ー",{"$error":"#VALUE!"},"-",1,0.95,{"$error":"#N/A"},"ー","ー","ー",null,{"$error":"#N/A"},null,null,null,null,null,null,null,{"$f":"ABS(入力シート!N133)","v":0},{"$f":"入力シート!O133","v":0},0,0,0,0,-55,88.8,17.399999999999999,"OK","ー","OK","ー","OK","ー","ー",null,{"$f":"入力シート!J133","v":0},{"$f":"入力シート!K133","v":0},180,0,0,350,70,{"$error":"#NUM!"},0.66666666666666663,0,{"$error":"#NUM!"},{"$error":"#NUM!"},{"$error":"#NUM!"},0,{"$error":"#NUM!"},{"$error":"#NUM!"},{"$error":"#NUM!"},0,0.66666666666666663,5492,"OK","ー","OK","ー",{"$error":"#NUM!"},"ー","ー"]
[null,{"$f":"入力シート!F134","v":0},{"$f":"入力シート!G134","v":0},{"$f":"入力シート!H134","v":0},{"$f":"入力シート!I134","v":0},{"$f":"入力シート!L134","v":0},null,{"$error":"#N/A"},{"$error":"#N/A"},{"$error":"#N/A"},null,{"$error":"#N/A"},326.99070256410255,42.4,164.3,-98.5,null,{"$error":"#N/A"},{"$error":"#N/A"},0,0,0,0,"ー",{"$error":"#N/A"},{"$error":"#N/A"},{"$error":"#N/A"},"ー",{"$error":"#VALUE!"},"-",1,0.95,{"$error":"#N/A"},"ー","ー","ー",null,{"$error":"#N/A"},null,null,null,null,null,null,null,{"$f":"ABS(入力シート!N134)","v":0},{"$f":"入力シート!O134","v":0},0,0,0,0,-55,88.8,17.399999999999999,"OK","ー","OK","ー","OK","ー","ー",null,{"$f":"入力シート!J134","v":0},{"$f":"入力シート!K134","v":0},180,0,0,350,70,{"$error":"#NUM!"},0.66666666666666663,0,{"$error":"#NUM!"},{"$error":"#NUM!"},{"$error":"#NUM!"},0,{"$error":"#NUM!"},{"$error":"#NUM!"},{"$error":"#NUM!"},0,0.66666666666666663,5492,"OK","ー","OK","ー",{"$error":"#NUM!"},"ー","ー"]
[null,{"$f":"入力シート!F135","v":0},{"$f":"入力シート!G135","v":0},{"$f":"入力シート!H135","v":0},{"$f":"入力シート!I135","v":0},{"$f":"入力シート!L135","v":0},null,{"$f":"((I124*J124)/(I124+J124))*0.85","v":{"$error":"#N/A"}},{"$f":"M124*L124","v":{"$error":"#N/A"}},{"$f":"R124","v":{"$error":"#N/A"}},null,{"$f":"0.0000319*S124+0.665","v":{"$error":"#N/A"}},{"$f":"((P124^2)/((1/N124)+(1/O124)))/1000","v":326.99070256410255},{"$f":"42400/1000","v":42.4},{"$f":"164300/1000","v":164.3},{"$f":"1.05*C124-98.5","v":-98.5},null,{"$f":"(((3*S124*T124)/W124))/1000000","v":{"$error":"#N/A"}},{"$error":"#N/A"},{"$f":"(V124*(U124^3))/12","v":0},{"$f":"C124","v":0},{"$f":"D124","v":0},{"$f":"E124","v":0},"ー",{"$error":"#N/A"},{"$error":"#N/A"},{"$error":"#N/A"},"ー",{"$f":"ROUNDDOWN(AD124*AE124*AF124*AG124,2)","v":{"$error":"#VALUE!"}},{"$f":"IF(F124=3,1,IF(F124=2,0.85,IF(F124=1,0.75,\"-\")))","v":"-"},1,0.95,{"$error":"#N/A"},"ー","ー","ー",null,{"$error":"#N/A"},null,null,null,null,null,null,null,{"$f":"ABS(入力シート!N135)","v":0},{"$f":"入力シート!O135","v":0},0,0,0,0,-55,88.8,17.399999999999999,"OK","ー","OK","ー","OK","ー","ー",null,{"$f":"入力シート!J135","v":0},{"$f":"入力シート!K135","v":0},180,0,0,350,70,{"$error":"#NUM!"},0.66666666666666663,0,{"$error":"#NUM!"},{"$error":"#NUM!"},{"$error":"#NUM!"},0,{"$error":"#NUM!"},{"$error":"#NUM!"},{"$error":"#NUM!"},0,0.66666666666666663,5492,"OK","ー","OK","ー",{"$error":"#NUM!"},"ー","ー"]
[null,{"$f":"入力シート!F136","v":0},{"$f":"入力シート!G136","v":0},{"$f":"入力シート!H136","v":0},{"$f":"入力シート!I136","v":0},{"$f":"入力シート!L136","v":0},null,{"$f":"((I125*J125)/(I125+J125))*0.85","v":{"$error":"#N/A"}},{"$error":"#N/A"},{"$f":"R125","v":{"$error":"#N/A"}},null,{"$f":"0.0000319*S125+0.665","v":{"$error":"#N/A"}},{"$f":"((P125^2)/((1/N125)+(1/O125)))/1000","v":326.99070256410255},{"$f":"42400/1000","v":42.4},{"$f":"164300/1000","v":164.3},-98.5,null,{"$f":"(((3*S125*T125)/W125))/1000000","v":{"$error":"#N/A"}},{"$error":"#N/A"},0,0,0,0,"ー",{"$error":"#N/A"},{"$error":"#N/A"},{"$error":"#N/A"},"ー",{"$f":"ROUNDDOWN(AD125*AE125*AF125*AG125,2)","v":{"$error":"#VALUE!"}},{"$f":"IF(F125=3,1,IF(F125=2,0.85,IF(F125=1,0.75,\"-\")))","v":"-"},1,0.95,{"$error":"#N/A"},"ー","ー","ー",null,{"$error":"#N/A"},null,null,null,null,null,null,null,{"$f":"ABS(入力シート!N136)","v":0},{"$f":"入力シート!O136","v":0},0,0,0,0,-55,88.8,17.399999999999999,"OK","ー","OK","ー","OK","ー","ー",null,{"$f":"入力シート!J136","v":0},{"$f":"入力シート!K136","v":0},180,0,0,350,70,{"$error":"#NUM!"},0.66666666666666663,0,{"$error":"#NUM!"},{"$error":"#NUM!"},{"$error":"#NUM!"},0,{"$error":"#NUM!"},{"$error":"#NUM!"},{"$error":"#NUM!"},0,0.66666666666666663,5492,"OK","ー","OK","ー",{"$error":"#NUM!"},"ー","ー"]
[null,{"$f":"入力シート!F137","v":0},{"$f":"入力シート!G137","v":0},{"$f":"入力シート!H137","v":0},{"$f":"入力シート!I137","v":0},{"$f":"入力シート!L137","v":0},null,{"$error":"#N/A"},{"$error":"#N/A"},{"$error":"#N/A"},null,{"$error":"#N/A"},326.99070256410255,42.4,164.3,-98.5,null,{"$error":"#N/A"},{"$error":"#N/A"},0,0,0,0,"ー",{"$error":"#N/A"},{"$error":"#N/A"},{"$error":"#N/A"},"ー",{"$error":"#VALUE!"},"-",1,0.95,{"$error":"#N/A"},"ー","ー","ー",null,{"$error":"#N/A"},null,null,null,null,null,null,null,{"$f":"ABS(入力シート!N137)","v":0},{"$f":"入力シート!O137","v":0},0,0,0,0,-55,88.8,17.399999999999999,"OK","ー","OK","ー","OK","ー","ー",null,{"$f":"入力シート!J137","v":0},{"$f":"入力シート!K137","v":0},180,0,0,350,70,{"$error":"#NUM!"},0.66666666666666663,0,{"$error":"#NUM!"},{"$error":"#NUM!"},{"$error":"#NUM!"},0,{"$error":"#NUM!"},{"$error":"#NUM!"},{"$error":"#NUM!"},0,0.66666666666666663,5492,"OK","ー","OK","ー",{"$error":"#NUM!"},"ー","ー"]
[null,{"$f":"入力シート!F138","v":0},{"$f":"入力シート!G138","v":0},{"$f":"入力シート!H138","v":0},{"$f":"入力シート!I138","v":0},{"$f":"入力シート!L138","v":0},null,{"$error":"#N/A"},{"$error":"#N/A"},{"$error":"#N/A"},null,{"$error":"#N/A"},326.99070256410255,42.4,164.3,-98.5,null,{"$error":"#N/A"},{"$error":"#N/A"},0,0,0,0,"ー",{"$error":"#N/A"},{"$error":"#N/A"},{"$error":"#N/A"},"ー",{"$error":"#VALUE!"},"-",1,0.95,{"$error":"#N/A"},"ー","ー","ー",null,{"$error":"#N/A"},null,null,null,null,null,null,null,{"$f":"ABS(入力シート!N138)","v":0},{"$f":"入力シート!O138","v":0},0,0,0,0,-55,88.8,17.399999999999999,"OK","ー","OK","ー","OK","ー","ー",null,{"$f":"入力シート!J138","v":0},{"$f":"入力シート!K138","v":0},180,0,0,350,70,{"$error":"#NUM!"},0.66666666666666663,0,{"$error":"#NUM!"},{"$error":"#NUM!"},{"$error":"#NUM!"},0,{"$error":"#NUM!"},{"$error":"#NUM!"},{"$error":"#NUM!"},0,0.66666666666666663,5492,"OK","ー","OK","ー",{"$error":"#NUM!"},"ー","ー"]
[null,{"$f":"入力シート!F139","v":0},{"$f":"入力シート!G139","v":0},{"$f":"入力シート!H139","v":0},{"$f":"入力シート!I139","v":0},{"$f":"入力シート!L139","v":0},null,{"$error":"#N/A"},{"$error":"#N/A"},{"$error":"#N/A"},null,{"$error":"#N/A"},326.99070256410255,42.4,164.3,-98.5,null,{"$error":"#N/A"},{"$error":"#N/A"},0,0,0,0,"ー",{"$error":"#N/A"},{"$error":"#N/A"},{"$error":"#N/A"},"ー",{"$error":"#VALUE!"},"-",1,0.95,{"$error":"#N/A"},"ー","ー","ー",null,{"$error":"#N/A"},null,null,null,null,null,null,null,{"$f":"ABS(入力シート!N139)","v":0},{"$f":"入力シート!O139","v":0},0,0,0,0,-55,88.8,17.399999999999999,"OK","ー","OK","ー","OK","ー","ー",null,{"$f":"入力シート!J139","v":0},{"$f":"入力シート!K139","v":0},180,0,0,350,70,{"$error":"#NUM!"},0.66666666666666663,0,{"$error":"#NUM!"},{"$error":"#NUM!"},{"$error":"#NUM!"},0,{"$error":"#NUM!"},{"$error":"#NUM!"},{"$error":"#NUM!"},0,0.66666666666666663,5492,"OK","ー","OK","ー",{"$error":"#NUM!"},"ー","ー"]
[null,{"$f":"入力シート!F140","v":0},{"$f":"入力シート!G140","v":0},{"$f":"入力シート!H140","v":0},{"$f":"入力シート!I140","v":0},{"$f":"入力シート!L140","v":0},null,{"$error":"#N/A"},{"$error":"#N/A"},{"$error":"#N/A"},null,{"$error":"#N/A"},326.99070256410255,42.4,164.3,-98.5,null,{"$error":"#N/A"},{"$error":"#N/A"},0,0,0,0,"ー",{"$error":"#N/A"},{"$error":"#N/A"},{"$error":"#N/A"},"ー",{"$error":"#VALUE!"},"-",1,0.95,{"$error":"#N/A"},"ー","ー","ー",null,{"$error":"#N/A"},null,null,null,null,null,null,null,{"$f":"ABS(入力シート!N140)","v":0},{"$f":"入力シート!O140","v":0},0,0,0,0,-55,88.8,17.399999999999999,"OK","ー","OK","ー","OK","ー","ー",null,{"$f":"入力シート!J140","v":0},{"$f":"入力シート!K140","v":0},180,0,0,350,70,{"$error":"#NUM!"},0.66666666666666663,0,{"$error":"#NUM!"},{"$error":"#NUM!"},{"$error":"#NUM!"},0,{"$error":"#NUM!"},{"$error":"#NUM!"},{"$error":"#NUM!"},0,0.66666666666666663,5492,"OK","ー","OK","ー",{"$error":"#NUM!"},"ー","ー"]
[null,{"$f":"入力シート!F141","v":0},{"$f":"入力シート!G141","v":0},{"$f":"入力シート!H141","v":0},{"$f":"入力シート!I141","v":0},{"$f":"入力シート!L141","v":0},null,{"$error":"#N/A"},{"$error":"#N/A"},{"$error":"#N/A"},null,{"$error":"#N/A"},326.99070256410255,42.4,164.3,-98.5,null,{"$error":"#N/A"},{"$error":"#N/A"},0,0,0,0,"ー",{"$error":"#N/A"},{"$error":"#N/A"},{"$error":"#N/A"},"ー",{"$error":"#VALUE!"},"-",1,0.95,{"$error":"#N/A"},"ー","ー","ー",null,{"$error":"#N/A"},null,null,null,null,null,null,null,{"$f":"ABS(入力シート!N141)","v":0},{"$f":"入力シート!O141","v":0},0,0,0,0,-55,88.8,17.399999999999999,"OK","ー","OK","ー","OK","ー","ー",null,{"$f":"入力シート!J141","v":0},{"$f":"入力シート!K141","v":0},180,0,0,350,70,{"$error":"#NUM!"},0.66666666666666663,0,{"$error":"#NUM!"},{"$error":"#NUM!"},{"$error":"#NUM!"},0,{"$error":"#NUM!"},{"$error":"#NUM!"},{"$error":"#NUM!"},0,0.66666666666666663,5492,"OK","ー","OK","ー",{"$error":"#NUM!"},"ー","ー"]
[null,{"$f":"入力シート!F142","v":0},{"$f":"入力シート!G142","v":0},{"$f":"入力シート!H142","v":0},{"$f":"入力シート!I142","v":0},{"$f":"入力シート!L142","v":0},null,{"$error":"#N/A"},{"$error":"#N/A"},{"$error":"#N/A"},null,{"$error":"#N/A"},326.99070256410255,42.4,164.3,-98.5,null,{"$error":"#N/A"},{"$error":"#N/A"},0,0,0,0,"ー",{"$error":"#N/A"},{"$error":"#N/A"},{"$error":"#N/A"},"ー",{"$error":"#VALUE!"},"-",1,0.95,{"$error":"#N/A"},"ー","ー","ー",null,{"$error":"#N/A"},null,null,null,null,null,null,null,{"$f":"ABS(入力シート!N142)","v":0},{"$f":"入力シート!O142","v":0},0,0,0,0,-55,88.8,17.399999999999999,"OK","ー","OK","ー","OK","ー","ー",null,{"$f":"入力シート!J142","v":0},{"$f":"入力シート!K142","v":0},180,0,0,350,70,{"$error":"#NUM!"},0.66666666666666663,0,{"$error":"#NUM!"},{"$error":"#NUM!"},{"$error":"#NUM!"},0,{"$error":"#NUM!"},{"$error":"#NUM!"},{"$error":"#NUM!"},0,0.66666666666666663,5492,"OK","ー","OK","ー",{"$error":"#NUM!"},"ー","ー"]
[null,{"$f":"入力シート!F143","v":0},{"$f":"入力シート!G143","v":0},{"$f":"入力シート!H143","v":0},{"$f":"入力シート!I143","v":0},{"$f":"入力シート!L143","v":0},null,{"$error":"#N/A"},{"$error":"#N/A"},{"$error":"#N/A"},null,{"$error":"#N/A"},326.99070256410255,42.4,164.3,-98.5,null,{"$error":"#N/A"},{"$error":"#N/A"},0,0,0,0,"ー",{"$error":"#N/A"},{"$error":"#N/A"},{"$error":"#N/A"},"ー",{"$error":"#VALUE!"},"-",1,0.95,{"$error":"#N/A"},"ー","ー","ー",null,{"$error":"#N/A"},null,null,null,null,null,null,null,{"$f":"ABS(入力シート!N143)","v":0},{"$f":"入力シート!O143","v":0},0,0,0,0,-55,88.8,17.399999999999999,"OK","ー","OK","ー","OK","ー","ー",null,{"$f":"入力シート!J143","v":0},{"$f":"入力シート!K143","v":0},180,0,0,350,70,{"$error":"#NUM!"},0.66666666666666663,0,{"$error":"#NUM!"},{"$error":"#NUM!"},{"$error":"#NUM!"},0,{"$error":"#NUM!"},{"$error":"#NUM!"},{"$error":"#NUM!"},0,0.66666666666666663,5492,"OK","ー","OK","ー",{"$error":"#NUM!"},"ー","ー"]
[null,{"$f":"入力シート!F144","v":0},{"$f":"入力シート!G144","v":0},{"$f":"入力シート!H144","v":0},{"$f":"入力シート!I144","v":0},{"$f":"入力シート!L144","v":0},null,{"$error":"#N/A"},{"$error":"#N/A"},{"$error":"#N/A"},null,{"$error":"#N/A"},326.99070256410255,42.4,164.3,-98.5,null,{"$error":"#N/A"},{"$error":"#N/A"},0,0,0,0,"ー",{"$error":"#N/A"},{"$error":"#N/A"},{"$error":"#N/A"},"ー",{"$error":"#VALUE!"},"-",1,0.95,{"$error":"#N/A"},"ー","ー","ー",null,{"$error":"#N/A"},null,null,null,null,null,null,null,{"$f":"ABS(入力シート!N144)","v":0},{"$f":"入力シート!O144","v":0},0,{"$f":"(AT133*(E133/1000))/(P133/1000)","v":0},0,0,{"$f":"IF(F133=3,63.2,IF(F133=2,63.2,55))*-1","v":-55},{"$f":"IF(F133=3,127.8,IF(F133=2,107.6,88.8))","v":88.8},{"$f":"IF(F133=3,23.1,IF(F133=2,21,17.4))","v":17.399999999999999},"OK","ー","OK","ー","OK","ー",{"$f":"IF(AND(AT133=0,AU133=0),\"ー\",IF(AND(BC133=\"OK\",BE133=\"OK\",BG133=\"OK\"),\"OK\",\"NG\"))","v":"ー"},null,{"$f":"入力シート!J144","v":0},{"$f":"入力シート!K144","v":0},180,0,0,350,70,{"$error":"#NUM!"},0.66666666666666663,0,{"$error":"#NUM!"},{"$error":"#NUM!"},{"$error":"#NUM!"},0,{"$error":"#NUM!"},{"$error":"#NUM!"},{"$error":"#NUM!"},{"$f":"CC133*BK133*CD133/1000","v":0},0.66666666666666663,5492,"OK","ー","OK","ー",{"$error":"#NUM!"},"ー","ー"]
[null,{"$f":"入力シート!F145","v":0},{"$f":"入力シート!G145","v":0},{"$f":"入力シート!H145","v":0},{"$f":"入力シート!I145","v":0},{"$f":"入力シート!L145","v":0},null,{"$error":"#N/A"},{"$error":"#N/A"},{"$error":"#N/A"},null,{"$error":"#N/A"},326.99070256410255,42.4,164.3,-98.5,null,{"$error":"#N/A"},{"$error":"#N/A"},0,0,0,0,{"$f":"IF(C134=0,\"ー\",U134-105)","v":"ー"},{"$error":"#N/A"},{"$error":"#N/A"},{"$error":"#N/A"},{"$f":"IF(C134=0,\"ー\",IF(AI134>=AL134,ROUNDDOWN(AA134*AC134,2),\"ー\"))","v":"ー"},{"$error":"#VALUE!"},"-",1,0.95,{"$f":"IF(S134>=10290,1,0.9)","v":{"$error":"#N/A"}},{"$f":"IF(C134=0,\"ー\",I134*AC134)","v":"ー"},{"$f":"IF(C134=0,\"ー\",H134*AC134)","v":"ー"},{"$f":"IF(C134=0,\"ー\",IF(H134>=AL134,ROUNDDOWN(AB134*(1000/(C134-105))/1.96,1),\"ー\"))","v":"ー"},null,{"$error":"#N/A"},null,null,null,null,null,null,null,{"$f":"ABS(入力シート!N145)","v":0},{"$f":"入力シート!O145","v":0},{"$f":"AU134/2","v":0},0,{"$f":"AV134+AW134","v":0},{"$f":"AV134-AW134","v":0},-55,88.8,17.399999999999999,{"$f":"IF(AX134<=BA134,\"OK\",\"NG\")","v":"OK"},{"$f":"IF(AND(AT134=0,AU134=0),\"ー\",IF(0<=AX134,AX134/BA134,AX134/AZ134))","v":"ー"},{"$f":"IF(AY134>=AZ134,\"OK\",\"NG\")","v":"OK"},{"$f":"IF(AND(AT134=0,AU134=0),\"ー\",IF(0>=AY134,AY134/AZ134,AY134/BA134))","v":"ー"},{"$f":"IF(AT134<=BB134,\"OK\",\"NG\")","v":"OK"},{"$f":"IF(AND(AT134=0,AU134=0),\"ー\",AT134/BB134)","v":"ー"},"ー",null,{"$f":"入力シート!J145","v":0},{"$f":"入力シート!K145","v":0},180,{"$f":"BO134*BP134*BQ134/1000*-1","v":0},{"$f":"MIN(BK134/10,1.35+BK134/25)*1.5","v":0},350,70,{"$f":"BS134*BT134*BU134/1000","v":{"$error":"#NUM!"}},{"$f":"2/3","v":0.66666666666666663},{"$f":"0.31*SQRT(BK134)","v":0},{"$f":"IF(2*BL134=BM134,(PI()*BL134^2)/2,(BM134*BZ134)+BV134)","v":{"$error":"#NUM!"}},{"$f":"BW134-CA134","v":{"$error":"#NUM!"}},{"$f":"PI()*BX134^2*((2*BY134)/(2*PI()))","v":{"$error":"#NUM!"}},{"$f":"BL134","v":0},{"$f":"ATAN((1/2)*BM134/BZ134)","v":{"$error":"#NUM!"}},{"$f":"SQRT(BX134^2-(BM134/2)^2)","v":{"$error":"#NUM!"}},{"$f":"(BM134*BZ134)/2","v":{"$error":"#NUM!"}},0,{"$f":"2/3","v":0.66666666666666663},5492,{"$f":"IF(AX134<=CB134,\"OK\",\"NG\")","v":"OK"},{"$f":"IF(AND(AT134=0,AU134=0),\"ー\",IF(0<=AX134,AX134/CB134,AX134/BN134))","v":"ー"},{"$f":"IF(AY134>=BN134,\"OK\",\"NG\")","v":"OK"},{"$f":"IF(AND(AT134=0,AU134=0),\"ー\",IF(0>=AY134,AY134/BN134,AY134/CB134))","v":"ー"},{"$f":"IF(AT134<=BR134,\"OK\",\"NG\")","v":{"$error":"#NUM!"}},{"$f":"IF(AND(AT134=0,AU134=0),\"ー\",AT134/BR134)","v":"ー"},{"$f":"IF(AND(AT134=0,AU134=0),\"ー\",IF(AND(CE134=\"OK\",CG134=\"OK\",CI134=\"OK\"),\"OK\",\"NG\"))","v":"ー"}]
[null,{"$f":"入力シート!F146","v":0},{"$f":"入力シート!G146","v":0},{"$f":"入力シート!H146","v":0},{"$f":"入力シート!I146","v":0},{"$f":"入力シート!L146","v":0},null,{"$error":"#N/A"},{"$error":"#N/A"},{"$error":"#N/A"},null,{"$error":"#N/A"},326.99070256410255,42.4,164.3,-98.5,null,{"$error":"#N/A"},{"$error":"#N/A"},0,0,0,0,"ー",{"$error":"#N/A"},{"$error":"#N/A"},{"$error":"#N/A"},"ー",{"$error":"#VALUE!"},"-",1,0.95,{"$error":"#N/A"},"ー","ー","ー",null,{"$error":"#N/A"},null,null,null,null,null,null,null,{"$f":"ABS(入力シート!N146)","v":0},{"$f":"入力シート!O146","v":0},0,0,0,0,-55,88.8,17.399999999999999,"OK","ー","OK","ー","OK","ー","ー",null,{"$f":"入力シート!J146","v":0},{"$f":"入力シート!K146","v":0},180,0,0,350,70,{"$error":"#NUM!"},0.66666666666666663,0,{"$error":"#NUM!"},{"$error":"#NUM!"},{"$error":"#NUM!"},0,{"$error":"#NUM!"},{"$error":"#NUM!"},{"$error":"#NUM!"},0,0.66666666666666663,5492,"OK","ー","OK","ー",{"$error":"#NUM!"},"ー","ー"]
[null,{"$f":"入力シート!F147","v":0},{"$f":"入力シート!G147","v":0},{"$f":"入力シート!H147","v":0},{"$f":"入力シート!I147","v":0},{"$f":"入力シート!L147","v":0},null,{"$error":"#N/A"},{"$error":"#N/A"},{"$error":"#N/A"},null,{"$error":"#N/A"},326.99070256410255,42.4,164.3,-98.5,null,{"$error":"#N/A"},{"$error":"#N/A"},0,0,0,0,"ー",{"$error":"#N/A"},{"$error":"#N/A"},{"$error":"#N/A"},"ー",{"$error":"#VALUE!"},"-",1,0.95,{"$error":"#N/A"},"ー","ー","ー",null,{"$error":"#N/A"},null,null,null,null,null,null,null,{"$f":"ABS(入力シート!N147)","v":0},{"$f":"入力シート!O147","v":0},0,0,0,0,-55,88.8,17.399999999999999,"OK","ー","OK","ー","OK","ー","ー",null,{"$f":"入力シート!J147","v":0},{"$f":"入力シート!K147","v":0},180,0,0,350,70,{"$error":"#NUM!"},0.66666666666666663,0,{"$error":"#NUM!"},{"$error":"#NUM!"},{"$error":"#NUM!"},0,{"$error":"#NUM!"},{"$error":"#NUM!"},{"$error":"#NUM!"},0,0.66666666666666663,5492,"OK","ー","OK","ー",{"$error":"#NUM!"},"ー","ー"]
[null,{"$f":"入力シート!F148","v":0},{"$f":"入力シート!G148","v":0},{"$f":"入力シート!H148","v":0},{"$f":"入力シート!I148","v":0},{"$f":"入力シート!L148","v":0},null,{"$error":"#N/A"},{"$error":"#N/A"},{"$error":"#N/A"},null,{"$error":"#N/A"},326.99070256410255,42.4,164.3,-98.5,null,{"$error":"#N/A"},{"$error":"#N/A"},0,0,0,0,"ー",{"$error":"#N/A"},{"$error":"#N/A"},{"$error":"#N/A"},"ー",{"$error":"#VALUE!"},"-",1,0.95,{"$error":"#N/A"},"ー","ー","ー",null,{"$error":"#N/A"},null,null,null,null,null,null,null,{"$f":"ABS(入力シート!N148)","v":0},{"$f":"入力シート!O148","v":0},0,0,0,0,-55,88.8,17.399999999999999,"OK","ー","OK","ー","OK","ー","ー",null,{"$f":"入力シート!J148","v":0},{"$f":"入力シート!K148","v":0},180,0,0,350,70,{"$error":"#NUM!"},0.66666666666666663,0,{"$error":"#NUM!"},{"$error":"#NUM!"},{"$error":"#NUM!"},0,{"$error":"#NUM!"},{"$error":"#NUM!"},{"$error":"#NUM!"},0,0.66666666666666663,5492,"OK","ー","OK","ー",{"$error":"#NUM!"},"ー","ー"]
[null,{"$f":"入力シート!F149","v":0},{"$f":"入力シート!G149","v":0},{"$f":"入力シート!H149","v":0},{"$f":"入力シート!I149","v":0},{"$f":"入力シート!L149","v":0},null,{"$error":"#N/A"},{"$error":"#N/A"},{"$error":"#N/A"},null,{"$error":"#N/A"},326.99070256410255,42.4,164.3,-98.5,null,{"$error":"#N/A"},{"$error":"#N/A"},0,0,0,0,"ー",{"$error":"#N/A"},{"$error":"#N/A"},{"$error":"#N/A"},"ー",{"$error":"#VALUE!"},"-",1,0.95,{"$error":"#N/A"},"ー","ー","ー",null,{"$error":"#N/A"},null,null,null,null,null,null,null,{"$f":"ABS(入力シート!N149)","v":0},{"$f":"入力シート!O149","v":0},0,0,0,0,-55,88.8,17.399999999999999,"OK","ー","OK","ー","OK","ー","ー",null,{"$f":"入力シート!J149","v":0},{"$f":"入力シート!K149","v":0},180,0,0,350,70,{"$error":"#NUM!"},0.66666666666666663,0,{"$error":"#NUM!"},{"$error":"#NUM!"},{"$error":"#NUM!"},0,{"$error":"#NUM!"},{"$error":"#NUM!"},{"$error":"#NUM!"},0,0.66666666666666663,5492,"OK","ー","OK","ー",{"$error":"#NUM!"},"ー","ー"]
[null,{"$f":"入力シート!F150","v":0},{"$f":"入力シート!G150","v":0},{"$f":"入力シート!H150","v":0},{"$f":"入力シート!I150","v":0},{"$f":"入力シート!L150","v":0},null,{"$error":"#N/A"},{"$error":"#N/A"},{"$error":"#N/A"},null,{"$error":"#N/A"},326.99070256410255,42.4,164.3,-98.5,null,{"$error":"#N/A"},{"$error":"#N/A"},0,0,0,0,"ー",{"$error":"#N/A"},{"$error":"#N/A"},{"$error":"#N/A"},"ー",{"$error":"#VALUE!"},"-",1,0.95,{"$error":"#N/A"},"ー","ー","ー",null,{"$error":"#N/A"},null,null,null,null,null,null,null,{"$f":"ABS(入力シート!N150)","v":0},{"$f":"入力シート!O150","v":0},0,0,0,0,-55,88.8,17.399999999999999,"OK","ー","OK","ー","OK","ー","ー",null,{"$f":"入力シート!J150","v":0},{"$f":"入力シート!K150","v":0},180,0,0,350,70,{"$error":"#NUM!"},0.66666666666666663,0,{"$error":"#NUM!"},{"$error":"#NUM!"},{"$error":"#NUM!"},0,{"$error":"#NUM!"},{"$error":"#NUM!"},{"$error":"#NUM!"},0,0.66666666666666663,5492,"OK","ー","OK","ー",{"$error":"#NUM!"},"ー","ー"]
[null,{"$f":"入力シート!F151","v":0},{"$f":"入力シート!G151","v":0},{"$f":"入力シート!H151","v":0},{"$f":"入力シート!I151","v":0},{"$f":"入力シート!L151","v":0},null,{"$error":"#N/A"},{"$error":"#N/A"},{"$error":"#N/A"},null,{"$error":"#N/A"},326.99070256410255,42.4,164.3,-98.5,null,{"$error":"#N/A"},{"$error":"#N/A"},0,0,0,0,"ー",{"$error":"#N/A"},{"$error":"#N/A"},{"$error":"#N/A"},"ー",{"$error":"#VALUE!"},"-",1,0.95,{"$error":"#N/A"},"ー","ー","ー",null,{"$error":"#N/A"},null,null,null,null,null,null,null,{"$f":"ABS(入力シート!N151)","v":0},{"$f":"入力シート!O151","v":0},0,0,0,0,-55,88.8,17.399999999999999,"OK","ー","OK","ー","OK","ー","ー",null,{"$f":"入力シート!J151","v":0},{"$f":"入力シート!K151","v":0},180,0,0,350,70,{"$error":"#NUM!"},0.66666666666666663,0,{"$error":"#NUM!"},{"$error":"#NUM!"},{"$error":"#NUM!"},0,{"$error":"#NUM!"},{"$error":"#NUM!"},{"$error":"#NUM!"},0,0.66666666666666663,5492,"OK","ー","OK","ー",{"$error":"#NUM!"},"ー","ー"]
[null,{"$f":"入力シート!F152","v":0},{"$f":"入力シート!G152","v":0},{"$f":"入力シート!H152","v":0},{"$f":"入力シート!I152","v":0},{"$f":"入力シート!L152","v":0},null,{"$f":"((I141*J141)/(I141+J141))*0.85","v":{"$error":"#N/A"}},{"$f":"M141*L141","v":{"$error":"#N/A"}},{"$f":"R141","v":{"$error":"#N/A"}},null,{"$f":"0.0000319*S141+0.665","v":{"$error":"#N/A"}},{"$f":"((P141^2)/((1/N141)+(1/O141)))/1000","v":326.99070256410255},{"$f":"42400/1000","v":42.4},{"$f":"164300/1000","v":164.3},{"$f":"1.05*C141-98.5","v":-98.5},null,{"$f":"(((3*S141*T141)/W141))/1000000","v":{"$error":"#N/A"}},{"$error":"#N/A"},{"$f":"(V141*(U141^3))/12","v":0},{"$f":"C141","v":0},{"$f":"D141","v":0},{"$f":"E141","v":0},"ー",{"$error":"#N/A"},{"$error":"#N/A"},{"$error":"#N/A"},"ー",{"$f":"ROUNDDOWN(AD141*AE141*AF141*AG141,2)","v":{"$error":"#VALUE!"}},{"$f":"IF(F141=3,1,IF(F141=2,0.85,IF(F141=1,0.75,\"-\")))","v":"-"},1,0.95,{"$error":"#N/A"},"ー","ー","ー",null,{"$error":"#N/A"},null,null,null,null,null,null,null,{"$f":"ABS(入力シート!N152)","v":0},{"$f":"入力シート!O152","v":0},0,0,0,0,-55,88.8,17.399999999999999,"OK","ー","OK","ー","OK","ー","ー",null,{"$f":"入力シート!J152","v":0},{"$f":"入力シート!K152","v":0},180,0,0,350,70,{"$error":"#NUM!"},0.66666666666666663,0,{"$error":"#NUM!"},{"$error":"#NUM!"},{"$error":"#NUM!"},0,{"$error":"#NUM!"},{"$error":"#NUM!"},{"$error":"#NUM!"},0,0.66666666666666663,5492,"OK","ー","OK","ー",{"$error":"#NUM!"},"ー","ー"]
[null,{"$f":"入力シート!F153","v":0},{"$f":"入力シート!G153","v":0},{"$f":"入力シート!H153","v":0},{"$f":"入力シート!I153","v":0},{"$f":"入力シート!L153","v":0},null,{"$f":"((I142*J142)/(I142+J142))*0.85","v":{"$error":"#N/A"}},{"$error":"#N/A"},{"$f":"R142","v":{"$error":"#N/A"}},null,{"$f":"0.0000319*S142+0.665","v":{"$error":"#N/A"}},{"$f":"((P142^2)/((1/N142)+(1/O142)))/1000","v":326.99070256410255},{"$f":"42400/1000","v":42.4},{"$f":"164300/1000","v":164.3},-98.5,null,{"$f":"(((3*S142*T142)/W142))/1000000","v":{"$error":"#N/A"}},{"$error":"#N/A"},0,0,0,0,"ー",{"$error":"#N/A"},{"$error":"#N/A"},{"$error":"#N/A"},"ー",{"$f":"ROUNDDOWN(AD142*AE142*AF142*AG142,2)","v":{"$error":"#VALUE!"}},{"$f":"IF(F142=3,1,IF(F142=2,0.85,IF(F142=1,0.75,\"-\")))","v":"-"},1,0.95,{"$error":"#N/A"},"ー","ー","ー",null,{"$error":"#N/A"},null,null,null,null,null,null,null,{"$f":"ABS(入力シート!N153)","v":0},{"$f":"入力シート!O153","v":0},0,0,0,0,-55,88.8,17.399999999999999,"OK","ー","OK","ー","OK","ー","ー",null,{"$f":"入力シート!J153","v":0},{"$f":"入力シート!K153","v":0},180,0,0,350,70,{"$error":"#NUM!"},0.66666666666666663,0,{"$error":"#NUM!"},{"$error":"#NUM!"},{"$error":"#NUM!"},0,{"$error":"#NUM!"},{"$error":"#NUM!"},{"$error":"#NUM!"},0,0.66666666666666663,5492,"OK","ー","OK","ー",{"$error":"#NUM!"},"ー","ー"]
[null,{"$f":"入力シート!F154","v":0},{"$f":"入力シート!G154","v":0},{"$f":"入力シート!H154","v":0},{"$f":"入力シート!I154","v":0},{"$f":"入力シート!L154","v":0},null,{"$error":"#N/A"},{"$error":"#N/A"},{"$error":"#N/A"},null,{"$error":"#N/A"},326.99070256410255,42.4,164.3,-98.5,null,{"$error":"#N/A"},{"$error":"#N/A"},0,0,0,0,"ー",{"$error":"#N/A"},{"$error":"#N/A"},{"$error":"#N/A"},"ー",{"$error":"#VALUE!"},"-",1,0.95,{"$error":"#N/A"},"ー","ー","ー",null,{"$error":"#N/A"},null,null,null,null,null,null,null,{"$f":"ABS(入力シート!N154)","v":0},{"$f":"入力シート!O154","v":0},0,0,0,0,-55,88.8,17.399999999999999,"OK","ー","OK","ー","OK","ー","ー",null,{"$f":"入力シート!J154","v":0},{"$f":"入力シート!K154","v":0},180,0,0,350,70,{"$error":"#NUM!"},0.66666666666666663,0,{"$error":"#NUM!"},{"$error":"#NUM!"},{"$error":"#NUM!"},0,{"$error":"#NUM!"},{"$error":"#NUM!"},{"$error":"#NUM!"},0,0.66666666666666663,5492,"OK","ー","OK","ー",{"$error":"#NUM!"},"ー","ー"]
[null,{"$f":"入力シート!F155","v":0},{"$f":"入力シート!G155","v":0},{"$f":"入力シート!H155","v":0},{"$f":"入力シート!I155","v":0},{"$f":"入力シート!L155","v":0},null,{"$error":"#N/A"},{"$error":"#N/A"},{"$error":"#N/A"},null,{"$error":"#N/A"},326.99070256410255,42.4,164.3,-98.5,null,{"$error":"#N/A"},{"$error":"#N/A"},0,0,0,0,"ー",{"$error":"#N/A"},{"$error":"#N/A"},{"$error":"#N/A"},"ー",{"$error":"#VALUE!"},"-",1,0.95,{"$error":"#N/A"},"ー","ー","ー",null,{"$error":"#N/A"},null,null,null,null,null,null,null,{"$f":"ABS(入力シート!N155)","v":0},{"$f":"入力シート!O155","v":0},0,0,0,0,-55,88.8,17.399999999999999,"OK","ー","OK","ー","OK","ー","ー",null,{"$f":"入力シート!J155","v":0},{"$f":"入力シート!K155","v":0},180,0,0,350,70,{"$error":"#NUM!"},0.66666666666666663,0,{"$error":"#NUM!"},{"$error":"#NUM!"},{"$error":"#NUM!"},0,{"$error":"#NUM!"},{"$error":"#NUM!"},{"$error":"#NUM!"},0,0.66666666666666663,5492,"OK","ー","OK","ー",{"$error":"#NUM!"},"ー","ー"]
[null,{"$f":"入力シート!F156","v":0},{"$f":"入力シート!G156","v":0},{"$f":"入力シート!H156","v":0},{"$f":"入力シート!I156","v":0},{"$f":"入力シート!L156","v":0},null,{"$error":"#N/A"},{"$error":"#N/A"},{"$error":"#N/A"},null,{"$error":"#N/A"},326.99070256410255,42.4,164.3,-98.5,null,{"$error":"#N/A"},{"$error":"#N/A"},0,0,0,0,"ー",{"$error":"#N/A"},{"$error":"#N/A"},{"$error":"#N/A"},"ー",{"$error":"#VALUE!"},"-",1,0.95,{"$error":"#N/A"},"ー","ー","ー",null,{"$error":"#N/A"},null,null,null,null,null,null,null,{"$f":"ABS(入力シート!N156)","v":0},{"$f":"入力シート!O156","v":0},0,0,0,0,-55,88.8,17.399999999999999,"OK","ー","OK","ー","OK","ー","ー",null,{"$f":"入力シート!J156","v":0},{"$f":"入力シート!K156","v":0},180,0,0,350,70,{"$error":"#NUM!"},0.66666666666666663,0,{"$error":"#NUM!"},{"$error":"#NUM!"},{"$error":"#NUM!"},0,{"$error":"#NUM!"},{"$error":"#NUM!"},{"$error":"#NUM!"},0,0.66666666666666663,5492,"OK","ー","OK","ー",{"$error":"#NUM!"},"ー","ー"]
[null,{"$f":"入力シート!F157","v":0},{"$f":"入力シート!G157","v":0},{"$f":"入力シート!H157","v":0},{"$f":"入力シート!I157","v":0},{"$f":"入力シート!L157","v":0},null,{"$error":"#N/A"},{"$error":"#N/A"},{"$error":"#N/A"},null,{"$error":"#N/A"},326.99070256410255,42.4,164.3,-98.5,null,{"$error":"#N/A"},{"$f":"VLOOKUP(B146,$AN$5:$AO$21,2,TRUE)","v":{"$error":"#N/A"}},0,0,0,0,"ー",{"$f":"IF(H146>=AL146,H146/120,\"―\")","v":{"$error":"#N/A"}},{"$f":"IF(H146>=AL146,Y146*AC146,\"ー\")","v":{"$error":"#N/A"}},{"$f":"IF(H146>=AL146,Y146/(E146/1000),\"ー\")","v":{"$error":"#N/A"}},"ー",{"$error":"#VALUE!"},"-",1,0.95,{"$error":"#N/A"},"ー","ー","ー",null,{"$f":"VLOOKUP(C146,$AQ$5:$AR$13,2,TRUE)","v":{"$error":"#N/A"}},null,null,null,null,null,null,null,{"$f":"ABS(入力シート!N157)","v":0},{"$f":"入力シート!O157","v":0},0,0,0,0,-55,88.8,17.399999999999999,"OK","ー","OK","ー","OK","ー","ー",null,{"$f":"入力シート!J157","v":0},{"$f":"入力シート!K157","v":0},180,0,0,350,70,{"$error":"#NUM!"},0.66666666666666663,0,{"$error":"#NUM!"},{"$error":"#NUM!"},{"$error":"#NUM!"},0,{"$error":"#NUM!"},{"$error":"#NUM!"},{"$error":"#NUM!"},0,0.66666666666666663,5492,"OK","ー","OK","ー",{"$error":"#NUM!"},"ー","ー"]
[null,{"$f":"入力シート!F158","v":0},{"$f":"入力シート!G158","v":0},{"$f":"入力シート!H158","v":0},{"$f":"入力シート!I158","v":0},{"$f":"入力シート!L158","v":0},null,{"$error":"#N/A"},{"$error":"#N/A"},{"$error":"#N/A"},null,{"$error":"#N/A"},326.99070256410255,42.4,164.3,-98.5,null,{"$error":"#N/A"},{"$error":"#N/A"},0,0,0,0,"ー",{"$error":"#N/A"},{"$error":"#N/A"},{"$error":"#N/A"},"ー",{"$error":"#VALUE!"},"-",1,0.95,{"$error":"#N/A"},"ー","ー","ー",null,{"$error":"#N/A"},null,null,null,null,null,null,null,{"$f":"ABS(入力シート!N158)","v":0},{"$f":"入力シート!O158","v":0},0,0,0,0,-55,88.8,17.399999999999999,"OK","ー","OK","ー","OK","ー","ー",null,{"$f":"入力シート!J158","v":0},{"$f":"入力シート!K158","v":0},180,0,0,350,70,{"$error":"#NUM!"},0.66666666666666663,0,{"$error":"#NUM!"},{"$error":"#NUM!"},{"$error":"#NUM!"},0,{"$error":"#NUM!"},{"$error":"#NUM!"},{"$error":"#NUM!"},0,0.66666666666666663,5492,"OK","ー","OK","ー",{"$error":"#NUM!"},"ー","ー"]
[null,{"$f":"入力シート!F159","v":0},{"$f":"入力シート!G159","v":0},{"$f":"入力シート!H159","v":0},{"$f":"入力シート!I159","v":0},{"$f":"入力シート!L159","v":0},null,{"$error":"#N/A"},{"$error":"#N/A"},{"$error":"#N/A"},null,{"$error":"#N/A"},326.99070256410255,42.4,164.3,-98.5,null,{"$error":"#N/A"},{"$error":"#N/A"},0,0,0,0,"ー",{"$error":"#N/A"},{"$error":"#N/A"},{"$error":"#N/A"},"ー",{"$error":"#VALUE!"},"-",1,0.95,{"$error":"#N/A"},"ー","ー","ー",null,{"$error":"#N/A"},null,null,null,null,null,null,null,{"$f":"ABS(入力シート!N159)","v":0},{"$f":"入力シート!O159","v":0},0,0,0,0,-55,88.8,17.399999999999999,"OK","ー","OK","ー","OK","ー","ー",null,{"$f":"入力シート!J159","v":0},{"$f":"入力シート!K159","v":0},180,0,0,350,70,{"$error":"#NUM!"},0.66666666666666663,0,{"$error":"#NUM!"},{"$error":"#NUM!"},{"$error":"#NUM!"},0,{"$error":"#NUM!"},{"$error":"#NUM!"},{"$error":"#NUM!"},0,0.66666666666666663,5492,"OK","ー","OK","ー",{"$error":"#NUM!"},"ー","ー"]
[null,{"$f":"入力シート!F160","v":0},{"$f":"入力シート!G160","v":0},{"$f":"入力シート!H160","v":0},{"$f":"入力シート!I160","v":0},{"$f":"入力シート!L160","v":0},null,{"$error":"#N/A"},{"$error":"#N/A"},{"$error":"#N/A"},null,{"$error":"#N/A"},326.99070256410255,42.4,164.3,-98.5,null,{"$error":"#N/A"},{"$error":"#N/A"},0,0,0,0,"ー",{"$error":"#N/A"},{"$error":"#N/A"},{"$error":"#N/A"},"ー",{"$error":"#VALUE!"},"-",1,0.95,{"$error":"#N/A"},"ー","ー","ー",null,{"$error":"#N/A"},null,null,null,null,null,null,null,{"$f":"ABS(入力シート!N160)","v":0},{"$f":"入力シート!O160","v":0},0,0,0,0,-55,88.8,17.399999999999999,"OK","ー","OK","ー","OK","ー","ー",null,{"$f":"入力シート!J160","v":0},{"$f":"入力シート!K160","v":0},180,0,0,350,70,{"$error":"#NUM!"},0.66666666666666663,0,{"$error":"#NUM!"},{"$error":"#NUM!"},{"$error":"#NUM!"},0,{"$error":"#NUM!"},{"$error":"#NUM!"},{"$error":"#NUM!"},0,0.66666666666666663,5492,"OK","ー","OK","ー",{"$error":"#NUM!"},"ー","ー"]
[null,{"$f":"入力シート!F161","v":0},{"$f":"入力シート!G161","v":0},{"$f":"入力シート!H161","v":0},{"$f":"入力シート!I161","v":0},{"$f":"入力シート!L161","v":0},null,{"$error":"#N/A"},{"$error":"#N/A"},{"$error":"#N/A"},null,{"$error":"#N/A"},326.99070256410255,42.4,164.3,-98.5,null,{"$error":"#N/A"},{"$error":"#N/A"},0,0,0,0,"ー",{"$error":"#N/A"},{"$error":"#N/A"},{"$error":"#N/A"},"ー",{"$error":"#VALUE!"},"-",1,0.95,{"$error":"#N/A"},"ー","ー","ー",null,{"$error":"#N/A"},null,null,null,null,null,null,null,{"$f":"ABS(入力シート!N161)","v":0},{"$f":"入力シート!O161","v":0},0,0,0,0,-55,88.8,17.399999999999999,"OK","ー","OK","ー","OK","ー","ー",null,{"$f":"入力シート!J161","v":0},{"$f":"入力シート!K161","v":0},180,0,0,350,70,{"$error":"#NUM!"},0.66666666666666663,0,{"$error":"#NUM!"},{"$error":"#NUM!"},{"$error":"#NUM!"},0,{"$error":"#NUM!"},{"$error":"#NUM!"},{"$error":"#NUM!"},0,0.66666666666666663,5492,"OK","ー","OK","ー",{"$error":"#NUM!"},"ー","ー"]
[null,{"$f":"入力シート!F162","v":0},{"$f":"入力シート!G162","v":0},{"$f":"入力シート!H162","v":0},{"$f":"入力シート!I162","v":0},{"$f":"入力シート!L162","v":0},null,{"$error":"#N/A"},{"$error":"#N/A"},{"$error":"#N/A"},null,{"$error":"#N/A"},326.99070256410255,42.4,164.3,-98.5,null,{"$error":"#N/A"},{"$error":"#N/A"},0,0,0,0,"ー",{"$error":"#N/A"},{"$error":"#N/A"},{"$error":"#N/A"},"ー",{"$error":"#VALUE!"},"-",1,0.95,{"$error":"#N/A"},"ー","ー","ー",null,{"$error":"#N/A"},null,null,null,null,null,null,null,{"$f":"ABS(入力シート!N162)","v":0},{"$f":"入力シート!O162","v":0},0,0,0,0,-55,88.8,17.399999999999999,"OK","ー","OK","ー","OK","ー","ー",null,{"$f":"入力シート!J162","v":0},{"$f":"入力シート!K162","v":0},180,0,0,350,70,{"$error":"#NUM!"},0.66666666666666663,0,{"$error":"#NUM!"},{"$error":"#NUM!"},{"$error":"#NUM!"},0,{"$error":"#NUM!"},{"$error":"#NUM!"},{"$error":"#NUM!"},0,0.66666666666666663,5492,"OK","ー","OK","ー",{"$error":"#NUM!"},"ー","ー"]
[null,{"$f":"入力シート!F163","v":0},{"$f":"入力シート!G163","v":0},{"$f":"入力シート!H163","v":0},{"$f":"入力シート!I163","v":0},{"$f":"入力シート!L163","v":0},null,{"$error":"#N/A"},{"$error":"#N/A"},{"$error":"#N/A"},null,{"$error":"#N/A"},326.99070256410255,42.4,164.3,-98.5,null,{"$error":"#N/A"},{"$error":"#N/A"},0,0,0,0,"ー",{"$error":"#N/A"},{"$error":"#N/A"},{"$error":"#N/A"},"ー",{"$error":"#VALUE!"},"-",1,0.95,{"$error":"#N/A"},"ー","ー","ー",null,{"$error":"#N/A"},null,null,null,null,null,null,null,{"$f":"ABS(入力シート!N163)","v":0},{"$f":"入力シート!O163","v":0},0,0,0,0,-55,88.8,17.399999999999999,"OK","ー","OK","ー","OK","ー","ー",null,{"$f":"入力シート!J163","v":0},{"$f":"入力シート!K163","v":0},180,0,0,350,70,{"$error":"#NUM!"},0.66666666666666663,0,{"$error":"#NUM!"},{"$error":"#NUM!"},{"$error":"#NUM!"},0,{"$error":"#NUM!"},{"$error":"#NUM!"},{"$error":"#NUM!"},0,0.66666666666666663,5492,"OK","ー","OK","ー",{"$error":"#NUM!"},"ー","ー"]
[null,{"$f":"入力シート!F164","v":0},{"$f":"入力シート!G164","v":0},{"$f":"入力シート!H164","v":0},{"$f":"入力シート!I164","v":0},{"$f":"入力シート!L164","v":0},null,{"$error":"#N/A"},{"$error":"#N/A"},{"$error":"#N/A"},null,{"$error":"#N/A"},326.99070256410255,42.4,164.3,-98.5,null,{"$error":"#N/A"},{"$error":"#N/A"},0,0,0,0,"ー",{"$error":"#N/A"},{"$error":"#N/A"},{"$error":"#N/A"},"ー",{"$error":"#VALUE!"},"-",1,0.95,{"$error":"#N/A"},"ー","ー","ー",null,{"$error":"#N/A"},null,null,null,null,null,null,null,{"$f":"ABS(入力シート!N164)","v":0},{"$f":"入力シート!O164","v":0},0,0,0,0,-55,88.8,17.399999999999999,"OK","ー","OK","ー","OK","ー","ー",null,{"$f":"入力シート!J164","v":0},{"$f":"入力シート!K164","v":0},180,0,0,350,70,{"$error":"#NUM!"},0.66666666666666663,0,{"$error":"#NUM!"},{"$error":"#NUM!"},{"$error":"#NUM!"},0,{"$error":"#NUM!"},{"$error":"#NUM!"},{"$error":"#NUM!"},0,0.66666666666666663,5492,"OK","ー","OK","ー",{"$error":"#NUM!"},"ー","ー"]
[null,{"$f":"入力シート!F165","v":0},{"$f":"入力シート!G165","v":0},{"$f":"入力シート!H165","v":0},{"$f":"入力シート!I165","v":0},{"$f":"入力シート!L165","v":0},null,{"$error":"#N/A"},{"$error":"#N/A"},{"$error":"#N/A"},null,{"$error":"#N/A"},326.99070256410255,42.4,164.3,-98.5,null,{"$error":"#N/A"},{"$error":"#N/A"},0,0,0,0,"ー",{"$error":"#N/A"},{"$error":"#N/A"},{"$error":"#N/A"},"ー",{"$error":"#VALUE!"},"-",1,0.95,{"$error":"#N/A"},"ー","ー","ー",null,{"$error":"#N/A"},null,null,null,null,null,null,null,{"$f":"ABS(入力シート!N165)","v":0},{"$f":"入力シート!O165","v":0},0,0,0,0,-55,88.8,17.399999999999999,"OK","ー","OK","ー","OK","ー","ー",null,{"$f":"入力シート!J165","v":0},{"$f":"入力シート!K165","v":0},180,0,0,350,70,{"$error":"#NUM!"},0.66666666666666663,0,{"$error":"#NUM!"},{"$error":"#NUM!"},{"$error":"#NUM!"},0,{"$error":"#NUM!"},{"$error":"#NUM!"},{"$error":"#NUM!"},0,0.66666666666666663,5492,"OK","ー","OK","ー",{"$error":"#NUM!"},"ー","ー"]
[null,{"$f":"入力シート!F166","v":0},{"$f":"入力シート!G166","v":0},{"$f":"入力シート!H166","v":0},{"$f":"入力シート!I166","v":0},{"$f":"入力シート!L166","v":0},null,{"$error":"#N/A"},{"$error":"#N/A"},{"$error":"#N/A"},null,{"$error":"#N/A"},326.99070256410255,42.4,164.3,-98.5,null,{"$error":"#N/A"},{"$error":"#N/A"},0,0,0,0,"ー",{"$error":"#N/A"},{"$error":"#N/A"},{"$error":"#N/A"},"ー",{"$error":"#VALUE!"},"-",1,0.95,{"$error":"#N/A"},"ー","ー","ー",null,{"$error":"#N/A"},null,null,null,null,null,null,null,{"$f":"ABS(入力シート!N166)","v":0},{"$f":"入力シート!O166","v":0},0,0,0,0,-55,88.8,17.399999999999999,"OK","ー","OK","ー","OK","ー","ー",null,{"$f":"入力シート!J166","v":0},{"$f":"入力シート!K166","v":0},180,0,0,350,70,{"$error":"#NUM!"},0.66666666666666663,0,{"$error":"#NUM!"},{"$error":"#NUM!"},{"$error":"#NUM!"},0,{"$error":"#NUM!"},{"$error":"#NUM!"},{"$error":"#NUM!"},0,0.66666666666666663,5492,"OK","ー","OK","ー",{"$error":"#NUM!"},"ー","ー"]
[null,{"$f":"入力シート!F167","v":0},{"$f":"入力シート!G167","v":0},{"$f":"入力シート!H167","v":0},{"$f":"入力シート!I167","v":0},{"$f":"入力シート!L167","v":0},null,{"$error":"#N/A"},{"$error":"#N/A"},{"$error":"#N/A"},null,{"$error":"#N/A"},326.99070256410255,42.4,164.3,-98.5,null,{"$error":"#N/A"},{"$error":"#N/A"},0,0,0,0,"ー",{"$error":"#N/A"},{"$error":"#N/A"},{"$error":"#N/A"},"ー",{"$error":"#VALUE!"},"-",1,0.95,{"$error":"#N/A"},"ー","ー","ー",null,{"$error":"#N/A"},null,null,null,null,null,null,null,{"$f":"ABS(入力シート!N167)","v":0},{"$f":"入力シート!O167","v":0},0,0,0,0,-55,88.8,17.399999999999999,"OK","ー","OK","ー","OK","ー","ー",null,{"$f":"入力シート!J167","v":0},{"$f":"入力シート!K167","v":0},180,0,0,350,70,{"$error":"#NUM!"},0.66666666666666663,0,{"$error":"#NUM!"},{"$error":"#NUM!"},{"$error":"#NUM!"},0,{"$error":"#NUM!"},{"$error":"#NUM!"},{"$error":"#NUM!"},0,0.66666666666666663,5492,"OK","ー","OK","ー",{"$error":"#NUM!"},"ー","ー"]
[null,{"$f":"入力シート!F168","v":0},{"$f":"入力シート!G168","v":0},{"$f":"入力シート!H168","v":0},{"$f":"入力シート!I168","v":0},{"$f":"入力シート!L168","v":0},null,{"$error":"#N/A"},{"$error":"#N/A"},{"$error":"#N/A"},null,{"$error":"#N/A"},326.99070256410255,42.4,164.3,-98.5,null,{"$error":"#N/A"},{"$error":"#N/A"},0,0,0,0,"ー",{"$error":"#N/A"},{"$error":"#N/A"},{"$error":"#N/A"},"ー",{"$error":"#VALUE!"},"-",1,0.95,{"$error":"#N/A"},"ー","ー","ー",null,{"$error":"#N/A"},null,null,null,null,null,null,null,{"$f":"ABS(入力シート!N168)","v":0},{"$f":"入力シート!O168","v":0},0,0,0,0,-55,88.8,17.399999999999999,"OK","ー","OK","ー","OK","ー","ー",null,{"$f":"入力シート!J168","v":0},{"$f":"入力シート!K168","v":0},180,0,0,350,70,{"$error":"#NUM!"},0.66666666666666663,0,{"$error":"#NUM!"},{"$error":"#NUM!"},{"$error":"#NUM!"},0,{"$error":"#NUM!"},{"$error":"#NUM!"},{"$error":"#NUM!"},0,0.66666666666666663,5492,"OK","ー","OK","ー",{"$error":"#NUM!"},"ー","ー"]